BEGIN:VCALENDAR
VERSION:2.0
PRODID:-//QuickScores.com//BQ Dynamic iCal Creator//EN
METHOD:PUBLISH
X-WR-CALNAME:Crescent Valley - Senior American West - 2025 Valley District JBO
X-WR-CALDESC:QuickScores game calendar
X-PUBLISHED-TTL:PT24H
REFRESH-INTERVAL;VALUE=DURATION:PT24H
CALSCALE:GREGORIAN
BEGIN:VTIMEZONE
TZID:America/Los_Angeles
X-LIC-LOCATION:America/Los_Angeles
BEGIN:DAYLIGHT
TZNAME:PDT
TZOFFSETFROM:-0800
TZOFFSETTO:-0700
DTSTART:19700308T020000
RRULE:FREQ=YEARLY;BYMONTH=3;BYDAY=2SU
END:DAYLIGHT
BEGIN:STANDARD
TZNAME:PST
TZOFFSETFROM:-0700
TZOFFSETTO:-0800
DTSTART:19701101T020000
RRULE:FREQ=YEARLY;BYMONTH=11;BYDAY=1SU
END:STANDARD
END:VTIMEZONE
BEGIN:VEVENT
UID:vls-68408417-20250506T180000@quickscores.com
DTSTAMP:20260423T150600Z
DTSTART;TZID=America/Los_Angeles:20250506T180000
DURATION:PT1H0M0S
SUMMARY:Lincoln City vs. Crescent Valley
DESCRIPTION:LC weiss#9-77, Tolan#99-40 Crescent Valley Davenport#44-41, dover#7-42, Silbernagl#22-26, Johnson#34-8 --- Senior American West - Valley League Sports
LOCATION:Williams Field Corvallis #2
CATEGORIES:QuickScores, Baseball Game
TRANSP:OPAQUE
BEGIN:VALARM
TRIGGER:-PT2H
ACTION:DISPLAY
DESCRIPTION:Lincoln City vs. Crescent Valley
END:VALARM
END:VEVENT
BEGIN:VEVENT
UID:vls-68408420-20250513T180000@quickscores.com
DTSTAMP:20260423T150600Z
DTSTART;TZID=America/Los_Angeles:20250513T180000
DURATION:PT1H0M0S
SUMMARY:S.E.T vs. Crescent Valley
DESCRIPTION:SET #3 J. Socha-45, #13 G. Henarie-58, #23 K. Coxen-25. Crescent Valley #7 G. Dover-56, #44 J. Davenport-59, #32 E. Kane-45 --- Senior American West - Valley League Sports
LOCATION:Williams Field Corvallis #2
CATEGORIES:QuickScores, Baseball Game
TRANSP:OPAQUE
BEGIN:VALARM
TRIGGER:-PT2H
ACTION:DISPLAY
DESCRIPTION:S.E.T vs. Crescent Valley
END:VALARM
END:VEVENT
BEGIN:VEVENT
UID:vls-68408689-20250516T180000@quickscores.com
DTSTAMP:20260423T150600Z
DTSTART;TZID=America/Los_Angeles:20250516T180000
DURATION:PT1H0M0S
SUMMARY:Crescent Valley vs. S.E.T
DESCRIPTION:Crescent Valley #44 J. Davenport 9, #32 E. Kane 78, #34 L. Johnson 22. SET #21 B. Short 69, #20 L. Correia 23 --- Senior American West - Valley League Sports
LOCATION:Toledo Elementary School
CATEGORIES:QuickScores, Baseball Game
TRANSP:OPAQUE
BEGIN:VALARM
TRIGGER:-PT2H
ACTION:DISPLAY
DESCRIPTION:Crescent Valley vs. S.E.T
END:VALARM
END:VEVENT
BEGIN:VEVENT
UID:vls-68408426-20250519T180000@quickscores.com
DTSTAMP:20260423T150600Z
DTSTART;TZID=America/Los_Angeles:20250519T180000
DURATION:PT1H0M0S
SUMMARY:Crescent Valley vs. Timber Supply
DESCRIPTION:Crescent Valley - Davenport 62   Pierce 32. Silbernagel 22. Johnson 44Timber supply.  #5 Levi D 42.  #11 Mason B. 44. #21 Austin D 44 --- Senior American West - Valley League Sports
LOCATION:Finn Construction Field (PHS JV BB)
CATEGORIES:QuickScores, Baseball Game
TRANSP:OPAQUE
BEGIN:VALARM
TRIGGER:-PT2H
ACTION:DISPLAY
DESCRIPTION:Crescent Valley vs. Timber Supply
END:VALARM
END:VEVENT
BEGIN:VEVENT
UID:vls-68408742-20250522T180000@quickscores.com
DTSTAMP:20260423T150600Z
DTSTART;TZID=America/Los_Angeles:20250522T180000
DURATION:PT1H0M0S
SUMMARY:Timber Supply vs. Crescent Valley
DESCRIPTION:(Timber Supply) #21 A. Davis-75, #11 M. Bennett-50,  #5 L. DiGiovannangelo-34 /(Crescent Valley) #32 E. Kane-68, #44 J. Davenport-78 --- Senior American West - Valley League Sports
LOCATION:Williams Field Corvallis #2
CATEGORIES:QuickScores, Baseball Game
TRANSP:OPAQUE
BEGIN:VALARM
TRIGGER:-PT2H
ACTION:DISPLAY
DESCRIPTION:Timber Supply vs. Crescent Valley
END:VALARM
END:VEVENT
BEGIN:VEVENT
UID:vls-68408771-20250527T180000@quickscores.com
DTSTAMP:20260423T150600Z
DTSTART;TZID=America/Los_Angeles:20250527T180000
DURATION:PT1H0M0S
SUMMARY:Crescent Valley vs. Monroe
DESCRIPTION:*** Game was moved to 5/27 at the request of Monroe *** (Crescent Valley) #44 J. Davenport-63, #22 D. Sibernagel-36, #12 M. Pierce-79.  (Monroe) #42 Z. Fanger-30, #1 D. Lager-33, #21 G. Smith-14, #13 B. Nash-28, #16 E. McClaughry-17, #00 A. Ellsworth-31. --- Senior American West - Valley League Sports
LOCATION:Monroe City Park
CATEGORIES:QuickScores, Baseball Game
TRANSP:OPAQUE
BEGIN:VALARM
TRIGGER:-PT2H
ACTION:DISPLAY
DESCRIPTION:Crescent Valley vs. Monroe
END:VALARM
END:VEVENT
BEGIN:VEVENT
UID:vls-68409118-20250530T180000@quickscores.com
DTSTAMP:20260423T150600Z
DTSTART;TZID=America/Los_Angeles:20250530T180000
DURATION:PT1H0M0S
SUMMARY:Monroe vs. Crescent Valley
DESCRIPTION:(Monroe) #13 B. Nash-29, #42 Z. Fanger-30, #9 G. Oaks-27, #1 D. Lager-24, #00 A. Ellsworth-9  (Crescent Valley) #32 E. Kane-51, #44 J. Davenport-63, #34 L. Johnson-11 --- Senior American West - Valley League Sports
LOCATION:Williams Field Corvallis #2
CATEGORIES:QuickScores, Baseball Game
TRANSP:OPAQUE
BEGIN:VALARM
TRIGGER:-PT2H
ACTION:DISPLAY
DESCRIPTION:Monroe vs. Crescent Valley
END:VALARM
END:VEVENT
BEGIN:VEVENT
UID:vls-68408434-20250602T180000@quickscores.com
DTSTAMP:20260423T150600Z
DTSTART;TZID=America/Los_Angeles:20250602T180000
DURATION:PT1H0M0S
SUMMARY:Crescent Valley vs. Newport
DESCRIPTION:NPT #23 Scarberry -49, #4 Blume -45. CV #32 Kane 45, # 44 Davenport 41, #11 Tycer 31, #8 Courtney 28. --- Senior American West - Valley League Sports
LOCATION:Frank Wade Park
CATEGORIES:QuickScores, Baseball Game
TRANSP:OPAQUE
BEGIN:VALARM
TRIGGER:-PT2H
ACTION:DISPLAY
DESCRIPTION:Crescent Valley vs. Newport
END:VALARM
END:VEVENT
BEGIN:VEVENT
UID:vls-68408756-20250604T180000@quickscores.com
DTSTAMP:20260423T150600Z
DTSTART;TZID=America/Los_Angeles:20250604T180000
DURATION:PT1H0M0S
SUMMARY:Newport vs. Crescent Valley
DESCRIPTION:Newport - #7 Leiferman 45. #35 Thomas - 26, #11 - J Bancroft - 48. CV #44 Davenport 72, #32 - Kane 47. --- Senior American West - Valley League Sports
LOCATION:Crescent Valley HS - Varsity Baseball
CATEGORIES:QuickScores, Baseball Game
TRANSP:OPAQUE
BEGIN:VALARM
TRIGGER:-PT2H
ACTION:DISPLAY
DESCRIPTION:Newport vs. Crescent Valley
END:VALARM
END:VEVENT
BEGIN:VEVENT
UID:vls-68408460-20250608T120000@quickscores.com
DTSTAMP:20260423T150600Z
DTSTART;TZID=America/Los_Angeles:20250608T120000
DURATION:PT1H0M0S
SUMMARY:Crescent Valley vs. Lincoln City
DESCRIPTION:Crescent Valley- #44 Davenport-18, #8 Courtney-#35, #34 Johnson-28, #12 Pierce-26, #15 Officer-10Lincoln City- #24 Seals-95, #7 Garrison-25, #9 Weiss-7 --- Senior American West - Valley League Sports
LOCATION:Lincoln City- Kirtsis Park
CATEGORIES:QuickScores, Baseball Game
TRANSP:OPAQUE
BEGIN:VALARM
TRIGGER:-PT2H
ACTION:DISPLAY
DESCRIPTION:Crescent Valley vs. Lincoln City
END:VALARM
END:VEVENT
BEGIN:VEVENT
UID:vls-68408445-20250608T150000@quickscores.com
DTSTAMP:20260423T150600Z
DTSTART;TZID=America/Los_Angeles:20250608T150000
DURATION:PT1H0M0S
SUMMARY:Crescent Valley vs. Lincoln City
DESCRIPTION:Crescent Valley- #32 Kane-65, #34 Johnson- 21, #44 Davenport- 38Lincoln City- #4 Wilson- 94 --- Senior American West - Valley League Sports
LOCATION:Lincoln City- Kirtsis Park
CATEGORIES:QuickScores, Baseball Game
TRANSP:OPAQUE
BEGIN:VALARM
TRIGGER:-PT2H
ACTION:DISPLAY
DESCRIPTION:Crescent Valley vs. Lincoln City
END:VALARM
END:VEVENT
BEGIN:VEVENT
UID:vls-68408760-20250611T180000@quickscores.com
DTSTAMP:20260423T150600Z
DTSTART;TZID=America/Los_Angeles:20250611T180000
DURATION:PT1H0M0S
SUMMARY:Crescent Valley vs. Corvallis
DESCRIPTION:(Corvallis) #1 T. Geren-64, #8 E. Gulledge-38,  #3 J. Pool-66 /(Crescent Valley) #32 E. Kane-42, #8 A. Courtney-18, #44 J. Davenport-40, #12 M. Pierce-59 --- Senior American West - Valley League Sports
LOCATION:Williams Field Corvallis #1
CATEGORIES:QuickScores, Baseball Game
TRANSP:OPAQUE
BEGIN:VALARM
TRIGGER:-PT2H
ACTION:DISPLAY
DESCRIPTION:Crescent Valley vs. Corvallis
END:VALARM
END:VEVENT
BEGIN:VEVENT
UID:vls-68408436-20250613T180000@quickscores.com
DTSTAMP:20260423T150600Z
DTSTART;TZID=America/Los_Angeles:20250613T180000
DURATION:PT1H0M0S
SUMMARY:Corvallis vs. Crescent Valley
DESCRIPTION:(Corvallis) #21 G. Tucknott-67, #11 E. Kosoff-57  /(Crescent Valley) #44 J. Davenport-85, #34 L. Johnson-10 --- Senior American West - Valley League Sports
LOCATION:Crescent Valley HS - Varsity Baseball
CATEGORIES:QuickScores, Baseball Game
TRANSP:OPAQUE
BEGIN:VALARM
TRIGGER:-PT2H
ACTION:DISPLAY
DESCRIPTION:Corvallis vs. Crescent Valley
END:VALARM
END:VEVENT
BEGIN:VEVENT
UID:vls-68408441-20250617T180000@quickscores.com
DTSTAMP:20260423T150600Z
DTSTART;TZID=America/Los_Angeles:20250617T180000
DURATION:PT1H0M0S
SUMMARY:Monroe vs. Crescent Valley
DESCRIPTION:(Monroe) #9 G. Oaks-42, #15 C. Rutherford-55,#00 A. Ellsworth-11.(Crescent Valley) #32 E. Kane-73, #34 L. Johnson-21,#44 J. Davenport-53 --- Senior American West - Valley League Sports
LOCATION:Williams Field Corvallis #2
CATEGORIES:QuickScores, Baseball Game
TRANSP:OPAQUE
BEGIN:VALARM
TRIGGER:-PT2H
ACTION:DISPLAY
DESCRIPTION:Monroe vs. Crescent Valley
END:VALARM
END:VEVENT
BEGIN:VEVENT
UID:vls-68408780-20250625T180000@quickscores.com
DTSTAMP:20260423T150600Z
DTSTART;TZID=America/Los_Angeles:20250625T180000
DURATION:PT1H0M0S
SUMMARY:Crescent Valley vs. Timber Supply
DESCRIPTION:CV- # 34 L. Johnson 26. # 12 M. Pierce 31 # 8 A. Courtney 20 # 44 J. Davenport 45. Timber Supply- #11 M.  Bennett 55 # 0 C. Dwyer 11 --- Senior American West - Valley League Sports
LOCATION:Philomath High Varsity Baseball Field
CATEGORIES:QuickScores, Baseball Game
TRANSP:OPAQUE
BEGIN:VALARM
TRIGGER:-PT2H
ACTION:DISPLAY
DESCRIPTION:Crescent Valley vs. Timber Supply
END:VALARM
END:VEVENT
BEGIN:VEVENT
UID:vls-68408448-20250701T180000@quickscores.com
DTSTAMP:20260423T150600Z
DTSTART;TZID=America/Los_Angeles:20250701T180000
DURATION:PT1H0M0S
SUMMARY:S.E.T vs. Crescent Valley
DESCRIPTION:(S.E.T.) #20 L. Correia-34, #7 M. Jay-93,  #4 C. Mason-23, #13 G. Henarie-33 /
(Crescent Valley) #44 J. Davenport-91, #12 M. Pierce-51 --- Senior American West - Valley League Sports
LOCATION:Crescent Valley HS - Varsity Baseball
CATEGORIES:QuickScores, Baseball Game
TRANSP:OPAQUE
BEGIN:VALARM
TRIGGER:-PT2H
ACTION:DISPLAY
DESCRIPTION:S.E.T vs. Crescent Valley
END:VALARM
END:VEVENT
END:VCALENDAR
