BEGIN:VCALENDAR
VERSION:2.0
PRODID:-//QuickScores.com//BQ Dynamic iCal Creator//EN
METHOD:PUBLISH
X-WR-CALNAME:Timber Supply - Senior American West - 2025 Valley District JBO
X-WR-CALDESC:QuickScores game calendar
X-PUBLISHED-TTL:PT24H
REFRESH-INTERVAL;VALUE=DURATION:PT24H
CALSCALE:GREGORIAN
BEGIN:VTIMEZONE
TZID:America/Los_Angeles
X-LIC-LOCATION:America/Los_Angeles
BEGIN:DAYLIGHT
TZNAME:PDT
TZOFFSETFROM:-0800
TZOFFSETTO:-0700
DTSTART:19700308T020000
RRULE:FREQ=YEARLY;BYMONTH=3;BYDAY=2SU
END:DAYLIGHT
BEGIN:STANDARD
TZNAME:PST
TZOFFSETFROM:-0700
TZOFFSETTO:-0800
DTSTART:19701101T020000
RRULE:FREQ=YEARLY;BYMONTH=11;BYDAY=1SU
END:STANDARD
END:VTIMEZONE
BEGIN:VEVENT
UID:vls-68408418-20250505T180000@quickscores.com
DTSTAMP:20260424T163500Z
DTSTART;TZID=America/Los_Angeles:20250505T180000
DURATION:PT1H0M0S
SUMMARY:Corvallis vs. Timber Supply
DESCRIPTION:Corvallis- (11)Ethan K-  75  (21) Tucknott, G- 51Timber Supply- (5) Levi D - 81 --- Senior American West - Valley League Sports
LOCATION:Finn Construction Field (PHS JV BB)
CATEGORIES:QuickScores, Baseball Game
TRANSP:OPAQUE
BEGIN:VALARM
TRIGGER:-PT2H
ACTION:DISPLAY
DESCRIPTION:Corvallis vs. Timber Supply
END:VALARM
END:VEVENT
BEGIN:VEVENT
UID:vls-68408683-20250509T180000@quickscores.com
DTSTAMP:20260424T163500Z
DTSTART;TZID=America/Los_Angeles:20250509T180000
DURATION:PT1H0M0S
SUMMARY:Timber Supply vs. Corvallis
DESCRIPTION:Timber supply. #11 Mason 69 #3 Kaiden 24 Corvallis #3 Pool 64. #1 Geren 59. #12 white 26# 8 Gulledge 33 --- Senior American West - Valley League Sports
LOCATION:Williams Field Corvallis #1
CATEGORIES:QuickScores, Baseball Game
TRANSP:OPAQUE
BEGIN:VALARM
TRIGGER:-PT2H
ACTION:DISPLAY
DESCRIPTION:Timber Supply vs. Corvallis
END:VALARM
END:VEVENT
BEGIN:VEVENT
UID:vls-68408421-20250513T180000@quickscores.com
DTSTAMP:20260424T163500Z
DTSTART;TZID=America/Los_Angeles:20250513T180000
DURATION:PT1H0M0S
SUMMARY:Monroe vs. Timber Supply
DESCRIPTION:(Timber Supply) #3 K. Baffa-38, #11 M. Bennett-40, #21 A. Davis-37. (Monroe) #13 B. Nash-78, #42 Z. Fanger-19, #15 C. Rutherford-16 --- Senior American West - Valley League Sports
LOCATION:Finn Construction Field (PHS JV BB)
CATEGORIES:QuickScores, Baseball Game
TRANSP:OPAQUE
BEGIN:VALARM
TRIGGER:-PT2H
ACTION:DISPLAY
DESCRIPTION:Monroe vs. Timber Supply
END:VALARM
END:VEVENT
BEGIN:VEVENT
UID:vls-68408734-20250515T180000@quickscores.com
DTSTAMP:20260424T163500Z
DTSTART;TZID=America/Los_Angeles:20250515T180000
DURATION:PT1H0M0S
SUMMARY:Timber Supply vs. Monroe
DESCRIPTION:(Monroe) #15 C. Rutherford-44, #9 G. Oaks-42, #1 D. Lager-32. (Timber Supply) #5 L. Digiovannanglio-82, #21 A. Davis-17. --- Senior American West - Valley League Sports
LOCATION:Monroe City Park
CATEGORIES:QuickScores, Baseball Game
TRANSP:OPAQUE
BEGIN:VALARM
TRIGGER:-PT2H
ACTION:DISPLAY
DESCRIPTION:Timber Supply vs. Monroe
END:VALARM
END:VEVENT
BEGIN:VEVENT
UID:vls-68408426-20250519T180000@quickscores.com
DTSTAMP:20260424T163500Z
DTSTART;TZID=America/Los_Angeles:20250519T180000
DURATION:PT1H0M0S
SUMMARY:Crescent Valley vs. Timber Supply
DESCRIPTION:Crescent Valley - Davenport 62   Pierce 32. Silbernagel 22. Johnson 44Timber supply.  #5 Levi D 42.  #11 Mason B. 44. #21 Austin D 44 --- Senior American West - Valley League Sports
LOCATION:Finn Construction Field (PHS JV BB)
CATEGORIES:QuickScores, Baseball Game
TRANSP:OPAQUE
BEGIN:VALARM
TRIGGER:-PT2H
ACTION:DISPLAY
DESCRIPTION:Crescent Valley vs. Timber Supply
END:VALARM
END:VEVENT
BEGIN:VEVENT
UID:vls-68408742-20250522T180000@quickscores.com
DTSTAMP:20260424T163500Z
DTSTART;TZID=America/Los_Angeles:20250522T180000
DURATION:PT1H0M0S
SUMMARY:Timber Supply vs. Crescent Valley
DESCRIPTION:(Timber Supply) #21 A. Davis-75, #11 M. Bennett-50,  #5 L. DiGiovannangelo-34 /(Crescent Valley) #32 E. Kane-68, #44 J. Davenport-78 --- Senior American West - Valley League Sports
LOCATION:Williams Field Corvallis #2
CATEGORIES:QuickScores, Baseball Game
TRANSP:OPAQUE
BEGIN:VALARM
TRIGGER:-PT2H
ACTION:DISPLAY
DESCRIPTION:Timber Supply vs. Crescent Valley
END:VALARM
END:VEVENT
BEGIN:VEVENT
UID:vls-68408428-20250527T180000@quickscores.com
DTSTAMP:20260424T163500Z
DTSTART;TZID=America/Los_Angeles:20250527T180000
DURATION:PT1H0M0S
SUMMARY:Newport vs. Timber Supply
DESCRIPTION:NPT #11 J Bancroft - 92. Philomath - #3 Baffa - 63, #11 Bennett - 44,  #99 - Boyhan - 19 --- Senior American West - Valley League Sports
LOCATION:Finn Construction Field (PHS JV BB)
CATEGORIES:QuickScores, Baseball Game
TRANSP:OPAQUE
BEGIN:VALARM
TRIGGER:-PT2H
ACTION:DISPLAY
DESCRIPTION:Newport vs. Timber Supply
END:VALARM
END:VEVENT
BEGIN:VEVENT
UID:vls-68408746-20250529T180000@quickscores.com
DTSTAMP:20260424T163500Z
DTSTART;TZID=America/Los_Angeles:20250529T180000
DURATION:PT1H0M0S
SUMMARY:Timber Supply vs. Newport
DESCRIPTION:Newport #15 Dorantes - 36, #35 - Thomas 47, #4 Blume 20. Philomath #5 - DiGiovannangelo 53, #21 Davis 30, #8 Bushnell 24, #13 - Henderson 11 --- Senior American West - Valley League Sports
LOCATION:Newport Middle School
CATEGORIES:QuickScores, Baseball Game
TRANSP:OPAQUE
BEGIN:VALARM
TRIGGER:-PT2H
ACTION:DISPLAY
DESCRIPTION:Timber Supply vs. Newport
END:VALARM
END:VEVENT
BEGIN:VEVENT
UID:vls-68408433-20250602T180000@quickscores.com
DTSTAMP:20260424T163500Z
DTSTART;TZID=America/Los_Angeles:20250602T180000
DURATION:PT1H0M0S
SUMMARY:S.E.T vs. Timber Supply
DESCRIPTION:SET #23 Coxen 67, #20 Correia 25, # 21 Short 37, #3 Socha 25  Philomath #99 Boyhan 57, #21 Davis 45, #2 Grapoli 31, #22 Carlson 4, #5 DiGiovannangello 7 --- Senior American West - Valley League Sports
LOCATION:Finn Construction Field (PHS JV BB)
CATEGORIES:QuickScores, Baseball Game
TRANSP:OPAQUE
BEGIN:VALARM
TRIGGER:-PT2H
ACTION:DISPLAY
DESCRIPTION:S.E.T vs. Timber Supply
END:VALARM
END:VEVENT
BEGIN:VEVENT
UID:vls-68408755-20250605T180000@quickscores.com
DTSTAMP:20260424T163500Z
DTSTART;TZID=America/Los_Angeles:20250605T180000
DURATION:PT1H0M0S
SUMMARY:Timber Supply vs. S.E.T
DESCRIPTION:Philomath #3 Baffa 65, #0 Dwyer 42, #5 DiGiovannangello 3SET #13 Henarie 45, #7 Jay 49 --- Senior American West - Valley League Sports
LOCATION:Toledo High School Field
CATEGORIES:QuickScores, Baseball Game
TRANSP:OPAQUE
BEGIN:VALARM
TRIGGER:-PT2H
ACTION:DISPLAY
DESCRIPTION:Timber Supply vs. S.E.T
END:VALARM
END:VEVENT
BEGIN:VEVENT
UID:vls-68408440-20250617T180000@quickscores.com
DTSTAMP:20260424T163500Z
DTSTART;TZID=America/Los_Angeles:20250617T180000
DURATION:PT1H0M0S
SUMMARY:Lincoln City vs. Timber Supply
DESCRIPTION:Lincoln city- #4 Wilson-37, #24 Seals-59, #99 Tolan-49Timber supply- #3 Banda-54, #5 Digiovannangelo-55, #0 Dwyer-44, #11 Bennett-12 --- Senior American West - Valley League Sports
LOCATION:Finn Construction Field (PHS JV BB)
CATEGORIES:QuickScores, Baseball Game
TRANSP:OPAQUE
BEGIN:VALARM
TRIGGER:-PT2H
ACTION:DISPLAY
DESCRIPTION:Lincoln City vs. Timber Supply
END:VALARM
END:VEVENT
BEGIN:VEVENT
UID:vls-68408768-20250620T180000@quickscores.com
DTSTAMP:20260424T163500Z
DTSTART;TZID=America/Los_Angeles:20250620T180000
DURATION:PT1H0M0S
SUMMARY:Timber Supply vs. Lincoln City
DESCRIPTION:Timber Supply- #5 Digiovannanglio-42, #11 Bennett-66, #3 Baffa-22, #21 Davis-42Lincoln City- #9 Weiss-81, #99 Tolan-62 --- Senior American West - Valley League Sports
LOCATION:Lincoln City- Taft High School Baseball Field (The Pit)
CATEGORIES:QuickScores, Baseball Game
TRANSP:OPAQUE
BEGIN:VALARM
TRIGGER:-PT2H
ACTION:DISPLAY
DESCRIPTION:Timber Supply vs. Lincoln City
END:VALARM
END:VEVENT
BEGIN:VEVENT
UID:vls-68408446-20250623T180000@quickscores.com
DTSTAMP:20260424T163500Z
DTSTART;TZID=America/Los_Angeles:20250623T180000
DURATION:PT1H0M0S
SUMMARY:Timber Supply vs. Corvallis
DESCRIPTION:Timber supply #3 Baffa 64 # 5 DiGiovannangelo 58Corvallis- #11 Kosoff 95. #1 Geren 35. # 21 Tucknott 17.  # 3 Poole 2 --- Senior American West - Valley League Sports
LOCATION:Williams Field Corvallis #1
CATEGORIES:QuickScores, Baseball Game
TRANSP:OPAQUE
BEGIN:VALARM
TRIGGER:-PT2H
ACTION:DISPLAY
DESCRIPTION:Timber Supply vs. Corvallis
END:VALARM
END:VEVENT
BEGIN:VEVENT
UID:vls-68408780-20250625T180000@quickscores.com
DTSTAMP:20260424T163500Z
DTSTART;TZID=America/Los_Angeles:20250625T180000
DURATION:PT1H0M0S
SUMMARY:Crescent Valley vs. Timber Supply
DESCRIPTION:CV- # 34 L. Johnson 26. # 12 M. Pierce 31 # 8 A. Courtney 20 # 44 J. Davenport 45. Timber Supply- #11 M.  Bennett 55 # 0 C. Dwyer 11 --- Senior American West - Valley League Sports
LOCATION:Philomath High Varsity Baseball Field
CATEGORIES:QuickScores, Baseball Game
TRANSP:OPAQUE
BEGIN:VALARM
TRIGGER:-PT2H
ACTION:DISPLAY
DESCRIPTION:Crescent Valley vs. Timber Supply
END:VALARM
END:VEVENT
BEGIN:VEVENT
UID:vls-68409051-20250630T180000@quickscores.com
DTSTAMP:20260424T163500Z
DTSTART;TZID=America/Los_Angeles:20250630T180000
DURATION:PT1H0M0S
SUMMARY:Newport vs. Timber Supply
DESCRIPTION:NPT #4 Blume - 51, #3 Paranto 62. Phi #3 Baffa 69, #21 Davis 49, #0 Dwyer 73, #22 Carlson 2. --- Senior American West - Valley League Sports
LOCATION:Finn Construction Field (PHS JV BB)
CATEGORIES:QuickScores, Baseball Game
TRANSP:OPAQUE
BEGIN:VALARM
TRIGGER:-PT2H
ACTION:DISPLAY
DESCRIPTION:Newport vs. Timber Supply
END:VALARM
END:VEVENT
BEGIN:VEVENT
UID:vls-68408449-20250701T180000@quickscores.com
DTSTAMP:20260424T163500Z
DTSTART;TZID=America/Los_Angeles:20250701T180000
DURATION:PT1H0M0S
SUMMARY:Timber Supply vs. Monroe
DESCRIPTION:Timber supply #5 DiGiovannangelo 92  #11 Bennett 3
Monroe # 42 Fanger 34  #9 Oaks 30 # 15 Rutherford 63 # 16 McClaughry 32 --- Senior American West - Valley League Sports
LOCATION:Monroe City Park
CATEGORIES:QuickScores, Baseball Game
TRANSP:OPAQUE
BEGIN:VALARM
TRIGGER:-PT2H
ACTION:DISPLAY
DESCRIPTION:Timber Supply vs. Monroe
END:VALARM
END:VEVENT
END:VCALENDAR
