BEGIN:VCALENDAR
VERSION:2.0
PRODID:-//QuickScores.com//BQ Dynamic iCal Creator//EN
METHOD:PUBLISH
X-WR-CALNAME:S.E.T - Senior American West - 2025 Valley District JBO
X-WR-CALDESC:QuickScores game calendar
X-PUBLISHED-TTL:PT24H
REFRESH-INTERVAL;VALUE=DURATION:PT24H
CALSCALE:GREGORIAN
BEGIN:VTIMEZONE
TZID:America/Los_Angeles
X-LIC-LOCATION:America/Los_Angeles
BEGIN:DAYLIGHT
TZNAME:PDT
TZOFFSETFROM:-0800
TZOFFSETTO:-0700
DTSTART:19700308T020000
RRULE:FREQ=YEARLY;BYMONTH=3;BYDAY=2SU
END:DAYLIGHT
BEGIN:STANDARD
TZNAME:PST
TZOFFSETFROM:-0700
TZOFFSETTO:-0800
DTSTART:19701101T020000
RRULE:FREQ=YEARLY;BYMONTH=11;BYDAY=1SU
END:STANDARD
END:VTIMEZONE
BEGIN:VEVENT
UID:vls-68408420-20250513T180000@quickscores.com
DTSTAMP:20260423T203400Z
DTSTART;TZID=America/Los_Angeles:20250513T180000
DURATION:PT1H0M0S
SUMMARY:S.E.T vs. Crescent Valley
DESCRIPTION:SET #3 J. Socha-45, #13 G. Henarie-58, #23 K. Coxen-25. Crescent Valley #7 G. Dover-56, #44 J. Davenport-59, #32 E. Kane-45 --- Senior American West - Valley League Sports
LOCATION:Williams Field Corvallis #2
CATEGORIES:QuickScores, Baseball Game
TRANSP:OPAQUE
BEGIN:VALARM
TRIGGER:-PT2H
ACTION:DISPLAY
DESCRIPTION:S.E.T vs. Crescent Valley
END:VALARM
END:VEVENT
BEGIN:VEVENT
UID:vls-68408689-20250516T180000@quickscores.com
DTSTAMP:20260423T203400Z
DTSTART;TZID=America/Los_Angeles:20250516T180000
DURATION:PT1H0M0S
SUMMARY:Crescent Valley vs. S.E.T
DESCRIPTION:Crescent Valley #44 J. Davenport 9, #32 E. Kane 78, #34 L. Johnson 22. SET #21 B. Short 69, #20 L. Correia 23 --- Senior American West - Valley League Sports
LOCATION:Toledo Elementary School
CATEGORIES:QuickScores, Baseball Game
TRANSP:OPAQUE
BEGIN:VALARM
TRIGGER:-PT2H
ACTION:DISPLAY
DESCRIPTION:Crescent Valley vs. S.E.T
END:VALARM
END:VEVENT
BEGIN:VEVENT
UID:vls-68408424-20250520T180000@quickscores.com
DTSTAMP:20260423T203400Z
DTSTART;TZID=America/Los_Angeles:20250520T180000
DURATION:PT1H0M0S
SUMMARY:Lincoln City vs. S.E.T
DESCRIPTION:SET #3 Socha-51, #13 Henarie-32, #23 Coxen-23, #21 Short- 42Lincoln City #9 Weiss-90, #24 Seals-36 --- Senior American West - Valley League Sports
LOCATION:Toledo High School Field
CATEGORIES:QuickScores, Baseball Game
TRANSP:OPAQUE
BEGIN:VALARM
TRIGGER:-PT2H
ACTION:DISPLAY
DESCRIPTION:Lincoln City vs. S.E.T
END:VALARM
END:VEVENT
BEGIN:VEVENT
UID:vls-68408740-20250523T180000@quickscores.com
DTSTAMP:20260423T203400Z
DTSTART;TZID=America/Los_Angeles:20250523T180000
DURATION:PT1H0M0S
SUMMARY:S.E.T vs. Lincoln City
DESCRIPTION:Lincoln City ##99 J. Tolan 91, #24 M. Seals 21SET #3 J. Socha 51, #13 G. Henarie 52 --- Senior American West - Valley League Sports
LOCATION:Lincoln City- Kirtsis Park
CATEGORIES:QuickScores, Baseball Game
TRANSP:OPAQUE
BEGIN:VALARM
TRIGGER:-PT2H
ACTION:DISPLAY
DESCRIPTION:S.E.T vs. Lincoln City
END:VALARM
END:VEVENT
BEGIN:VEVENT
UID:vls-68408429-20250526T180000@quickscores.com
DTSTAMP:20260423T203400Z
DTSTART;TZID=America/Los_Angeles:20250526T180000
DURATION:PT1H0M0S
SUMMARY:Corvallis vs. S.E.T
DESCRIPTION:GAME HAS BEEN MOVED TO WEDNESDAY NIGHT DUE TO LACK OF UMPIRESCorvallis #21 G Tucknott 45, #3 J Pool 34SET #7 M Jay 31, #6 L Martin 50, #20 L Correia 12 --- Senior American West - Valley League Sports
LOCATION:Toledo High School Field
CATEGORIES:QuickScores, Baseball Game
TRANSP:OPAQUE
BEGIN:VALARM
TRIGGER:-PT2H
ACTION:DISPLAY
DESCRIPTION:Corvallis vs. S.E.T
END:VALARM
END:VEVENT
BEGIN:VEVENT
UID:vls-68408749-20250530T180000@quickscores.com
DTSTAMP:20260423T203400Z
DTSTART;TZID=America/Los_Angeles:20250530T180000
DURATION:PT1H0M0S
SUMMARY:S.E.T vs. Corvallis
DESCRIPTION:Corvallis #11 Kosoff 82, #1 Geren 29SET #3 Socha 40, #13 Henarie 40, #21 Short 46 --- Senior American West - Valley League Sports
LOCATION:Williams Field Corvallis #1
CATEGORIES:QuickScores, Baseball Game
TRANSP:OPAQUE
BEGIN:VALARM
TRIGGER:-PT2H
ACTION:DISPLAY
DESCRIPTION:S.E.T vs. Corvallis
END:VALARM
END:VEVENT
BEGIN:VEVENT
UID:vls-68408433-20250602T180000@quickscores.com
DTSTAMP:20260423T203400Z
DTSTART;TZID=America/Los_Angeles:20250602T180000
DURATION:PT1H0M0S
SUMMARY:S.E.T vs. Timber Supply
DESCRIPTION:SET #23 Coxen 67, #20 Correia 25, # 21 Short 37, #3 Socha 25  Philomath #99 Boyhan 57, #21 Davis 45, #2 Grapoli 31, #22 Carlson 4, #5 DiGiovannangello 7 --- Senior American West - Valley League Sports
LOCATION:Finn Construction Field (PHS JV BB)
CATEGORIES:QuickScores, Baseball Game
TRANSP:OPAQUE
BEGIN:VALARM
TRIGGER:-PT2H
ACTION:DISPLAY
DESCRIPTION:S.E.T vs. Timber Supply
END:VALARM
END:VEVENT
BEGIN:VEVENT
UID:vls-68408755-20250605T180000@quickscores.com
DTSTAMP:20260423T203400Z
DTSTART;TZID=America/Los_Angeles:20250605T180000
DURATION:PT1H0M0S
SUMMARY:Timber Supply vs. S.E.T
DESCRIPTION:Philomath #3 Baffa 65, #0 Dwyer 42, #5 DiGiovannangello 3SET #13 Henarie 45, #7 Jay 49 --- Senior American West - Valley League Sports
LOCATION:Toledo High School Field
CATEGORIES:QuickScores, Baseball Game
TRANSP:OPAQUE
BEGIN:VALARM
TRIGGER:-PT2H
ACTION:DISPLAY
DESCRIPTION:Timber Supply vs. S.E.T
END:VALARM
END:VEVENT
BEGIN:VEVENT
UID:vls-68408759-20250610T180000@quickscores.com
DTSTAMP:20260423T203400Z
DTSTART;TZID=America/Los_Angeles:20250610T180000
DURATION:PT1H0M0S
SUMMARY:S.E.T vs. Monroe
DESCRIPTION:( S.E.T) #21 B. Short-78, #13 G. Henarie-34, #23 K. Coxen-47( Monroe ) #42 Z. Fanger-40, #15 C. Rutherford-26, #13 B. Nash-27, #00 A. Ellsworth-17 --- Senior American West - Valley League Sports
LOCATION:Monroe High School
CATEGORIES:QuickScores, Baseball Game
TRANSP:OPAQUE
BEGIN:VALARM
TRIGGER:-PT2H
ACTION:DISPLAY
DESCRIPTION:S.E.T vs. Monroe
END:VALARM
END:VEVENT
BEGIN:VEVENT
UID:vls-68408438-20250612T180000@quickscores.com
DTSTAMP:20260423T203400Z
DTSTART;TZID=America/Los_Angeles:20250612T180000
DURATION:PT1H0M0S
SUMMARY:Monroe vs. S.E.T
DESCRIPTION:(Monroe) #9 G. Oaks-50, #14 S. Cisneros-16, #00 A. Ellsworth-57( S.E.T ) #32 J. Socha-84, #23 K. Coxen-76 --- Senior American West - Valley League Sports
LOCATION:Toledo High School Field
CATEGORIES:QuickScores, Baseball Game
TRANSP:OPAQUE
BEGIN:VALARM
TRIGGER:-PT2H
ACTION:DISPLAY
DESCRIPTION:Monroe vs. S.E.T
END:VALARM
END:VEVENT
BEGIN:VEVENT
UID:vls-68408442-20250617T180000@quickscores.com
DTSTAMP:20260423T203400Z
DTSTART;TZID=America/Los_Angeles:20250617T180000
DURATION:PT1H0M0S
SUMMARY:Newport vs. S.E.T
DESCRIPTION:Newport #15 Dorantes-54, #35 Thomas-39SET #13 Henarie-64, #3 Socha 42, #21 Short-34 --- Senior American West - Valley League Sports
LOCATION:Toledo High School Field
CATEGORIES:QuickScores, Baseball Game
TRANSP:OPAQUE
BEGIN:VALARM
TRIGGER:-PT2H
ACTION:DISPLAY
DESCRIPTION:Newport vs. S.E.T
END:VALARM
END:VEVENT
BEGIN:VEVENT
UID:vls-68408767-20250619T180000@quickscores.com
DTSTAMP:20260423T203400Z
DTSTART;TZID=America/Los_Angeles:20250619T180000
DURATION:PT1H0M0S
SUMMARY:S.E.T vs. Newport
DESCRIPTION:NPT - #11 J Bancroft 95, #35 U Thomas 49. SET - #3 J Socha 85, #21 B Short 64. --- Senior American West - Valley League Sports
LOCATION:Newport Middle School
CATEGORIES:QuickScores, Baseball Game
TRANSP:OPAQUE
BEGIN:VALARM
TRIGGER:-PT2H
ACTION:DISPLAY
DESCRIPTION:S.E.T vs. Newport
END:VALARM
END:VEVENT
BEGIN:VEVENT
UID:vls-68408779-20250624T180000@quickscores.com
DTSTAMP:20260423T203400Z
DTSTART;TZID=America/Los_Angeles:20250624T180000
DURATION:PT1H0M0S
SUMMARY:Lincoln City vs. S.E.T
DESCRIPTION:Lincoln City-#9 Weiss-67SET- #23 Coxen-68, #3 Socha-27, #20 Correia-17 --- Senior American West - Valley League Sports
LOCATION:Toledo High School Field
CATEGORIES:QuickScores, Baseball Game
TRANSP:OPAQUE
BEGIN:VALARM
TRIGGER:-PT2H
ACTION:DISPLAY
DESCRIPTION:Lincoln City vs. S.E.T
END:VALARM
END:VEVENT
BEGIN:VEVENT
UID:vls-68408448-20250701T180000@quickscores.com
DTSTAMP:20260423T203400Z
DTSTART;TZID=America/Los_Angeles:20250701T180000
DURATION:PT1H0M0S
SUMMARY:S.E.T vs. Crescent Valley
DESCRIPTION:(S.E.T.) #20 L. Correia-34, #7 M. Jay-93,  #4 C. Mason-23, #13 G. Henarie-33 /
(Crescent Valley) #44 J. Davenport-91, #12 M. Pierce-51 --- Senior American West - Valley League Sports
LOCATION:Crescent Valley HS - Varsity Baseball
CATEGORIES:QuickScores, Baseball Game
TRANSP:OPAQUE
BEGIN:VALARM
TRIGGER:-PT2H
ACTION:DISPLAY
DESCRIPTION:S.E.T vs. Crescent Valley
END:VALARM
END:VEVENT
BEGIN:VEVENT
UID:vls-68409052-20250703T180000@quickscores.com
DTSTAMP:20260423T203400Z
DTSTART;TZID=America/Los_Angeles:20250703T180000
DURATION:PT1H0M0S
SUMMARY:Corvallis vs. S.E.T
DESCRIPTION:Corvallis #21 Tucknott-68, #11 Kosoff-49
SET #1 Smith-54, #3 Socha-79, #23 Coxen-10 --- Senior American West - Valley League Sports
LOCATION:Toledo High School Field
CATEGORIES:QuickScores, Baseball Game
TRANSP:OPAQUE
BEGIN:VALARM
TRIGGER:-PT2H
ACTION:DISPLAY
DESCRIPTION:Corvallis vs. S.E.T
END:VALARM
END:VEVENT
BEGIN:VEVENT
UID:vls-68408452-20250707T180000@quickscores.com
DTSTAMP:20260423T203400Z
DTSTART;TZID=America/Los_Angeles:20250707T180000
DURATION:PT1H0M0S
SUMMARY:S.E.T vs. Newport
DESCRIPTION:NPT - #11 - J. Bancroft 90, #4 Blume 46. SET # 13 Henarie 23, #3 Socha 79, #7 Jay 8. --- Senior American West - Valley League Sports
LOCATION:Newport Middle School
CATEGORIES:QuickScores, Baseball Game
TRANSP:OPAQUE
BEGIN:VALARM
TRIGGER:-PT2H
ACTION:DISPLAY
DESCRIPTION:S.E.T vs. Newport
END:VALARM
END:VEVENT
END:VCALENDAR
