BEGIN:VCALENDAR
VERSION:2.0
PRODID:-//QuickScores.com//BQ Dynamic iCal Creator//EN
METHOD:PUBLISH
X-WR-CALNAME:South Albany Grey - Senior National West - 2025 Valley District JBO
X-WR-CALDESC:QuickScores game calendar
X-PUBLISHED-TTL:PT24H
REFRESH-INTERVAL;VALUE=DURATION:PT24H
CALSCALE:GREGORIAN
BEGIN:VTIMEZONE
TZID:America/Los_Angeles
X-LIC-LOCATION:America/Los_Angeles
BEGIN:DAYLIGHT
TZNAME:PDT
TZOFFSETFROM:-0800
TZOFFSETTO:-0700
DTSTART:19700308T020000
RRULE:FREQ=YEARLY;BYMONTH=3;BYDAY=2SU
END:DAYLIGHT
BEGIN:STANDARD
TZNAME:PST
TZOFFSETFROM:-0700
TZOFFSETTO:-0800
DTSTART:19701101T020000
RRULE:FREQ=YEARLY;BYMONTH=11;BYDAY=1SU
END:STANDARD
END:VTIMEZONE
BEGIN:VEVENT
UID:vls-68409709-20250506T180000@quickscores.com
DTSTAMP:20260425T231400Z
DTSTART;TZID=America/Los_Angeles:20250506T180000
DURATION:PT1H0M0S
SUMMARY:Central #2 vs. South Albany Grey
DESCRIPTION:(Central #2) #23 Williams-40, #33 Melendez-10, #34 Radke-31, #11 Perkins-21.(South Albany Grey) #16 R. Johnson-21, #12 K. Davis-29, #15 L. Depue-47, #3 M. Livingstone-26, #8 K. Umphress-25. --- Senior National West - Valley League Sports
LOCATION:South Albany JV Baseball Field
CATEGORIES:QuickScores, Baseball Game
TRANSP:OPAQUE
BEGIN:VALARM
TRIGGER:-PT2H
ACTION:DISPLAY
DESCRIPTION:Central #2 vs. South Albany Grey
END:VALARM
END:VEVENT
BEGIN:VEVENT
UID:vls-68409713-20250507T180000@quickscores.com
DTSTAMP:20260425T231400Z
DTSTART;TZID=America/Los_Angeles:20250507T180000
DURATION:PT1H0M0S
SUMMARY:M & W Electric vs. South Albany Grey
DESCRIPTION:(M & W Electric): #12 B. Barton-75, #8 J. Skaggs-56. (South Albany Grey): #5 R. Pierce-28, #8 K. Umphress-43, #9 J.Vankempen-54, #36 H. Chew-51 --- Senior National West - Valley League Sports
LOCATION:South Albany JV Baseball Field
CATEGORIES:QuickScores, Baseball Game
TRANSP:OPAQUE
BEGIN:VALARM
TRIGGER:-PT2H
ACTION:DISPLAY
DESCRIPTION:M & W Electric vs. South Albany Grey
END:VALARM
END:VEVENT
BEGIN:VEVENT
UID:vls-68409718-20250513T180000@quickscores.com
DTSTAMP:20260425T231400Z
DTSTART;TZID=America/Los_Angeles:20250513T180000
DURATION:PT1H0M0S
SUMMARY:South Albany Grey vs. Cole Surveying
DESCRIPTION:Cole Surveying: #9 H. Bennett-70 South Albany: #5 R. Pierce-31, #12 Davis-31, #8 K. Umphress-44, #23 S. Jordan-30 --- Senior National West - Valley League Sports
LOCATION:Patrick Lumber Co. Field (PMS #1)
CATEGORIES:QuickScores, Baseball Game
TRANSP:OPAQUE
BEGIN:VALARM
TRIGGER:-PT2H
ACTION:DISPLAY
DESCRIPTION:South Albany Grey vs. Cole Surveying
END:VALARM
END:VEVENT
BEGIN:VEVENT
UID:vls-68409721-20250514T180000@quickscores.com
DTSTAMP:20260425T231400Z
DTSTART;TZID=America/Los_Angeles:20250514T180000
DURATION:PT1H0M0S
SUMMARY:S.E.T vs. South Albany Grey
DESCRIPTION:SET# 10 t. pearson 51#3 e. Case 39# 21 t marthaller 21South albany# 16 r johnson 51# 9 j vankamper 31#15 l depare 59 --- Senior National West - Valley League Sports
LOCATION:South Albany JV Baseball Field
CATEGORIES:QuickScores, Baseball Game
TRANSP:OPAQUE
BEGIN:VALARM
TRIGGER:-PT2H
ACTION:DISPLAY
DESCRIPTION:S.E.T vs. South Albany Grey
END:VALARM
END:VEVENT
BEGIN:VEVENT
UID:vls-68409726-20250519T180000@quickscores.com
DTSTAMP:20260425T231400Z
DTSTART;TZID=America/Los_Angeles:20250519T180000
DURATION:PT1H0M0S
SUMMARY:South Albany Grey vs. Central Linn
DESCRIPTION:CL #10 Casey-48 #2 Kelvin-44 #25 Dominic-32 #11 Gage-8. SA #5 Reiker-32 #9 Jacobus-33 #12 Keonie-18 #16 Rylan-38 #15 Landon-45 --- Senior National West - Valley League Sports
LOCATION:Central Linn JH/HS (Halsey)
CATEGORIES:QuickScores, Baseball Game
TRANSP:OPAQUE
BEGIN:VALARM
TRIGGER:-PT2H
ACTION:DISPLAY
DESCRIPTION:South Albany Grey vs. Central Linn
END:VALARM
END:VEVENT
BEGIN:VEVENT
UID:vls-68409729-20250521T180000@quickscores.com
DTSTAMP:20260425T231400Z
DTSTART;TZID=America/Los_Angeles:20250521T180000
DURATION:PT1H0M0S
SUMMARY:Crescent Valley vs. South Albany Grey
DESCRIPTION:CV #42 A. Delgado-93 #3 D Rardin-28 #2 G Campbell-19. SA #8 K. Umphress-42 #9 J. Vankempen-60 #23 S. Jordan-35 #15 L. Depue-25 --- Senior National West - Valley League Sports
LOCATION:South Albany JV Baseball Field
CATEGORIES:QuickScores, Baseball Game
TRANSP:OPAQUE
BEGIN:VALARM
TRIGGER:-PT2H
ACTION:DISPLAY
DESCRIPTION:Crescent Valley vs. South Albany Grey
END:VALARM
END:VEVENT
BEGIN:VEVENT
UID:vls-68409770-20250523T180000@quickscores.com
DTSTAMP:20260425T231400Z
DTSTART;TZID=America/Los_Angeles:20250523T180000
DURATION:PT1H0M0S
SUMMARY:South Albany Red vs. South Albany Grey
DESCRIPTION:Red: #8 J. Conroy 51, #42 R. Taplin 49, #28 B Dub Waverly; Grey: #23 S. Jordan, #8 K. Umphress 48, #15 L. Depue 36 --- Senior National West - Valley League Sports
LOCATION:South Albany JV Baseball Field
CATEGORIES:QuickScores, Baseball Game
TRANSP:OPAQUE
BEGIN:VALARM
TRIGGER:-PT2H
ACTION:DISPLAY
DESCRIPTION:South Albany Red vs. South Albany Grey
END:VALARM
END:VEVENT
BEGIN:VEVENT
UID:vls-68409734-20250527T180000@quickscores.com
DTSTAMP:20260425T231400Z
DTSTART;TZID=America/Los_Angeles:20250527T180000
DURATION:PT1H0M0S
SUMMARY:South Albany Grey vs. South Albany Red
DESCRIPTION:Red: #8 J. Conroy 65, #42 R. Taplin 30, #7 Z. Allard 30, #28 B. Waverly 10; Gray: #16 R. Johnson 22, #23 S. Jordan 38, #8 K. Umphress 38, #9 J. Vankempen 2 --- Senior National West - Valley League Sports
LOCATION:South Albany JV Baseball Field
CATEGORIES:QuickScores, Baseball Game
TRANSP:OPAQUE
BEGIN:VALARM
TRIGGER:-PT2H
ACTION:DISPLAY
DESCRIPTION:South Albany Grey vs. South Albany Red
END:VALARM
END:VEVENT
BEGIN:VEVENT
UID:vls-68409737-20250528T180000@quickscores.com
DTSTAMP:20260425T231400Z
DTSTART;TZID=America/Los_Angeles:20250528T180000
DURATION:PT1H0M0S
SUMMARY:South Albany Grey vs. Central #1
DESCRIPTION:Central#1: #16 H. Cross-38, #24 L. Beasly-71, #2 K. Etherton-23, #14 K. Boaz-10. SA Grey: #9 J. Vankempen-43, #12 K. Davis-45, #15 L. Depue-54 --- Senior National West - Valley League Sports
LOCATION:S Curves - Seniors Field
CATEGORIES:QuickScores, Baseball Game
TRANSP:OPAQUE
BEGIN:VALARM
TRIGGER:-PT2H
ACTION:DISPLAY
DESCRIPTION:South Albany Grey vs. Central #1
END:VALARM
END:VEVENT
BEGIN:VEVENT
UID:vls-68409749-20250603T180000@quickscores.com
DTSTAMP:20260425T231400Z
DTSTART;TZID=America/Los_Angeles:20250603T180000
DURATION:PT1H0M0S
SUMMARY:South Albany Grey vs. M & W Electric
DESCRIPTION:M&W: #22 S. Schminsky-73, #0 D. Pindell-43.  SA Grey: #16 R. Johnson-19, #23 S. Jordan-26, #9 J. Vankempen-48 --- Senior National West - Valley League Sports
LOCATION:Finn Construction Field (PHS JV BB)
CATEGORIES:QuickScores, Baseball Game
TRANSP:OPAQUE
BEGIN:VALARM
TRIGGER:-PT2H
ACTION:DISPLAY
DESCRIPTION:South Albany Grey vs. M & W Electric
END:VALARM
END:VEVENT
BEGIN:VEVENT
UID:vls-68409745-20250605T180000@quickscores.com
DTSTAMP:20260425T231400Z
DTSTART;TZID=America/Los_Angeles:20250605T180000
DURATION:PT1H0M0S
SUMMARY:South Albany Grey vs. Central #2
DESCRIPTION:Central #2: #33 Melendez-75, #34 Radke-58.  SA Grey: #12 K. Davis-41, #15 L. Depue-21, #3 M. Livingstone-45 --- Senior National West - Valley League Sports
LOCATION:S Curves - Seniors Field
CATEGORIES:QuickScores, Baseball Game
TRANSP:OPAQUE
BEGIN:VALARM
TRIGGER:-PT2H
ACTION:DISPLAY
DESCRIPTION:South Albany Grey vs. Central #2
END:VALARM
END:VEVENT
BEGIN:VEVENT
UID:vls-68409754-20250609T180000@quickscores.com
DTSTAMP:20260425T231400Z
DTSTART;TZID=America/Los_Angeles:20250609T180000
DURATION:PT1H0M0S
SUMMARY:Cole Surveying vs. South Albany Grey
DESCRIPTION:South Albany: #16 R. Johnson-24, #9 J. VanKempen-69, #15 L. Depue-54
Cole Surveying: #9 H. Bennett- 92, #32 A. Evans-24, #23 A. Sailor-16 --- Senior National West - Valley League Sports
LOCATION:South Albany JV Baseball Field
CATEGORIES:QuickScores, Baseball Game
TRANSP:OPAQUE
BEGIN:VALARM
TRIGGER:-PT2H
ACTION:DISPLAY
DESCRIPTION:Cole Surveying vs. South Albany Grey
END:VALARM
END:VEVENT
BEGIN:VEVENT
UID:vls-68409757-20250613T180000@quickscores.com
DTSTAMP:20260425T231400Z
DTSTART;TZID=America/Los_Angeles:20250613T180000
DURATION:PT1H0M0S
SUMMARY:South Albany Grey vs. S.E.T
DESCRIPTION:SET #21 T. Marthaller. 51
#10 T Pearson 32

SA Grey
# Mason 43
# 23 Sonnen 44
#12 keaonie 24 --- Senior National West - Valley League Sports
LOCATION:Siletz Valley Charter School
CATEGORIES:QuickScores, Baseball Game
TRANSP:OPAQUE
BEGIN:VALARM
TRIGGER:-PT2H
ACTION:DISPLAY
DESCRIPTION:South Albany Grey vs. S.E.T
END:VALARM
END:VEVENT
BEGIN:VEVENT
UID:vls-68409765-20250616T180000@quickscores.com
DTSTAMP:20260425T231400Z
DTSTART;TZID=America/Los_Angeles:20250616T180000
DURATION:PT1H0M0S
SUMMARY:South Albany Grey vs. Crescent Valley
DESCRIPTION:(South Albany Grey) #12 Davis-50 #9 Vankempen-61 #15 Depue-18 (Crescent Valley) #3 D. Rardin-40 #2 G. Campbell-37 #42 A. Delgado-11 --- Senior National West - Valley League Sports
LOCATION:Crescent Valley HS - Varsity Baseball
CATEGORIES:QuickScores, Baseball Game
TRANSP:OPAQUE
BEGIN:VALARM
TRIGGER:-PT2H
ACTION:DISPLAY
DESCRIPTION:South Albany Grey vs. Crescent Valley
END:VALARM
END:VEVENT
BEGIN:VEVENT
UID:vls-68409773-20250618T180000@quickscores.com
DTSTAMP:20260425T231400Z
DTSTART;TZID=America/Los_Angeles:20250618T180000
DURATION:PT1H0M0S
SUMMARY:Central #1 vs. South Albany Grey
DESCRIPTION:SA Grey: #15 L. Depue-38, #5 R. Pierce-69, #8 K. Umphress-38.  Central #1: #2 K. Etherton-62, #16 H. Cross-80 --- Senior National West - Valley League Sports
LOCATION:South Albany JV Baseball Field
CATEGORIES:QuickScores, Baseball Game
TRANSP:OPAQUE
BEGIN:VALARM
TRIGGER:-PT2H
ACTION:DISPLAY
DESCRIPTION:Central #1 vs. South Albany Grey
END:VALARM
END:VEVENT
BEGIN:VEVENT
UID:vls-68409762-20250620T180000@quickscores.com
DTSTAMP:20260425T231400Z
DTSTART;TZID=America/Los_Angeles:20250620T180000
DURATION:PT1H0M0S
SUMMARY:Central Linn vs. South Albany Grey
DESCRIPTION:CL #2 Kelvin-59 #25 Dominic-10 #10 Casey-62 #4 Kurry-42 SA #8 Kenneth-18 #12 Keonie-61 #9 Jacobus-44 #15 Landon-56 --- Senior National West - Valley League Sports
LOCATION:South Albany JV Baseball Field
CATEGORIES:QuickScores, Baseball Game
TRANSP:OPAQUE
BEGIN:VALARM
TRIGGER:-PT2H
ACTION:DISPLAY
DESCRIPTION:Central Linn vs. South Albany Grey
END:VALARM
END:VEVENT
END:VCALENDAR
