BEGIN:VCALENDAR
VERSION:2.0
PRODID:-//QuickScores.com//BQ Dynamic iCal Creator//EN
METHOD:PUBLISH
X-WR-CALNAME:Central #2 - Senior National West - 2025 Valley District JBO
X-WR-CALDESC:QuickScores game calendar
X-PUBLISHED-TTL:PT24H
REFRESH-INTERVAL;VALUE=DURATION:PT24H
CALSCALE:GREGORIAN
BEGIN:VTIMEZONE
TZID:America/Los_Angeles
X-LIC-LOCATION:America/Los_Angeles
BEGIN:DAYLIGHT
TZNAME:PDT
TZOFFSETFROM:-0800
TZOFFSETTO:-0700
DTSTART:19700308T020000
RRULE:FREQ=YEARLY;BYMONTH=3;BYDAY=2SU
END:DAYLIGHT
BEGIN:STANDARD
TZNAME:PST
TZOFFSETFROM:-0700
TZOFFSETTO:-0800
DTSTART:19701101T020000
RRULE:FREQ=YEARLY;BYMONTH=11;BYDAY=1SU
END:STANDARD
END:VTIMEZONE
BEGIN:VEVENT
UID:vls-68409709-20250506T180000@quickscores.com
DTSTAMP:20260424T104700Z
DTSTART;TZID=America/Los_Angeles:20250506T180000
DURATION:PT1H0M0S
SUMMARY:Central #2 vs. South Albany Grey
DESCRIPTION:(Central #2) #23 Williams-40, #33 Melendez-10, #34 Radke-31, #11 Perkins-21.(South Albany Grey) #16 R. Johnson-21, #12 K. Davis-29, #15 L. Depue-47, #3 M. Livingstone-26, #8 K. Umphress-25. --- Senior National West - Valley League Sports
LOCATION:South Albany JV Baseball Field
CATEGORIES:QuickScores, Baseball Game
TRANSP:OPAQUE
BEGIN:VALARM
TRIGGER:-PT2H
ACTION:DISPLAY
DESCRIPTION:Central #2 vs. South Albany Grey
END:VALARM
END:VEVENT
BEGIN:VEVENT
UID:vls-68409714-20250509T180000@quickscores.com
DTSTAMP:20260424T104700Z
DTSTART;TZID=America/Los_Angeles:20250509T180000
DURATION:PT1H0M0S
SUMMARY:Central #1 vs. Central #2
DESCRIPTION:(Central #1) #16 Cross-38, #2 Etherton-39, #22 Smith-33. ( Central #2) # 33 Melendez-44, #23 Williams-31, #34 Radke-33, #11 Perkins-23. --- Senior National West - Valley League Sports
LOCATION:S Curves - Seniors Field
CATEGORIES:QuickScores, Baseball Game
TRANSP:OPAQUE
BEGIN:VALARM
TRIGGER:-PT2H
ACTION:DISPLAY
DESCRIPTION:Central #1 vs. Central #2
END:VALARM
END:VEVENT
BEGIN:VEVENT
UID:vls-68409717-20250513T180000@quickscores.com
DTSTAMP:20260424T104700Z
DTSTART;TZID=America/Los_Angeles:20250513T180000
DURATION:PT1H0M0S
SUMMARY:Central #2 vs. Crescent Valley
DESCRIPTION:Central: #17 Bosvert-67, #11 Perkins-34, #33 Melendez-28/ Crescent Valley: #42 Delgado-44, #47 Jones-35 #3 Rardin-35. --- Senior National West - Valley League Sports
LOCATION:Crescent Valley HS - JV Baseball
CATEGORIES:QuickScores, Baseball Game
TRANSP:OPAQUE
BEGIN:VALARM
TRIGGER:-PT2H
ACTION:DISPLAY
DESCRIPTION:Central #2 vs. Crescent Valley
END:VALARM
END:VEVENT
BEGIN:VEVENT
UID:vls-68409725-20250519T180000@quickscores.com
DTSTAMP:20260424T104700Z
DTSTART;TZID=America/Los_Angeles:20250519T180000
DURATION:PT1H0M0S
SUMMARY:Central #2 vs. S.E.T
DESCRIPTION:SET #10 T.Pearson 42# 13 D.Garcia 23# 21 T. Marthaller 41Central 2# 23 Williams 21# 33 Melendez 44# 11  Perkins 46#17 Bosvert 17 --- Senior National West - Valley League Sports
LOCATION:Siletz Valley Charter School
CATEGORIES:QuickScores, Baseball Game
TRANSP:OPAQUE
BEGIN:VALARM
TRIGGER:-PT2H
ACTION:DISPLAY
DESCRIPTION:Central #2 vs. S.E.T
END:VALARM
END:VEVENT
BEGIN:VEVENT
UID:vls-68409730-20250522T180000@quickscores.com
DTSTAMP:20260424T104700Z
DTSTART;TZID=America/Los_Angeles:20250522T180000
DURATION:PT1H0M0S
SUMMARY:Central Linn vs. Central #2
DESCRIPTION:Hm: #11 Perkins-56 #33 Melendez-38 #17 Bosvert-29 V: #2 Kelvin-48 #10 Casey-67 #25 Dominic 10 --- Senior National West - Valley League Sports
LOCATION:Central HS JV (Monmouth)
CATEGORIES:QuickScores, Baseball Game
TRANSP:OPAQUE
BEGIN:VALARM
TRIGGER:-PT2H
ACTION:DISPLAY
DESCRIPTION:Central Linn vs. Central #2
END:VALARM
END:VEVENT
BEGIN:VEVENT
UID:vls-68409733-20250527T180000@quickscores.com
DTSTAMP:20260424T104700Z
DTSTART;TZID=America/Los_Angeles:20250527T180000
DURATION:PT1H0M0S
SUMMARY:Central #2 vs. M & W Electric
DESCRIPTION:(Central #2) #11 Perkins-36, #23 Williams-61 #33 Melendez-36. (M&W Electric) #12 B. Barton-36, #4 L. Clendenin-53, #0 B. Pindell-39, #8 J. Skaggs-29 --- Senior National West - Valley League Sports
LOCATION:Patrick Lumber Co. Field (PMS #1)
CATEGORIES:QuickScores, Baseball Game
TRANSP:OPAQUE
BEGIN:VALARM
TRIGGER:-PT2H
ACTION:DISPLAY
DESCRIPTION:Central #2 vs. M & W Electric
END:VALARM
END:VEVENT
BEGIN:VEVENT
UID:vls-68409738-20250529T180000@quickscores.com
DTSTAMP:20260424T104700Z
DTSTART;TZID=America/Los_Angeles:20250529T180000
DURATION:PT1H0M0S
SUMMARY:Cole Surveying vs. Central #2
DESCRIPTION:Central 2: #17 B. Bosvert-59, #33 H. Melendez-64Cole Surveying #9 H. Bennett-78 --- Senior National West - Valley League Sports
LOCATION:S Curves - Seniors Field
CATEGORIES:QuickScores, Baseball Game
TRANSP:OPAQUE
BEGIN:VALARM
TRIGGER:-PT2H
ACTION:DISPLAY
DESCRIPTION:Cole Surveying vs. Central #2
END:VALARM
END:VEVENT
BEGIN:VEVENT
UID:vls-68409722-20250602T180000@quickscores.com
DTSTAMP:20260424T104700Z
DTSTART;TZID=America/Los_Angeles:20250602T180000
DURATION:PT1H0M0S
SUMMARY:South Albany Red vs. Central #2
DESCRIPTION:SA: #8 J Conroy 58, #42 R Taplin 23, #28 B Waverly 48; Central: #33 Melendez 56, #11 Perkins 30, #34 Radke 59, #17 Bosvert 18. --- Senior National West - Valley League Sports
LOCATION:S Curves - Seniors Field
CATEGORIES:QuickScores, Baseball Game
TRANSP:OPAQUE
BEGIN:VALARM
TRIGGER:-PT2H
ACTION:DISPLAY
DESCRIPTION:South Albany Red vs. Central #2
END:VALARM
END:VEVENT
BEGIN:VEVENT
UID:vls-68409750-20250603T180000@quickscores.com
DTSTAMP:20260424T104700Z
DTSTART;TZID=America/Los_Angeles:20250603T180000
DURATION:PT1H0M0S
SUMMARY:Central #2 vs. Central #1
DESCRIPTION:Central 2: #17 B. Bosvert-42; #23 B. Williams-59; #11 J.Perkins-86Central 1: #0 E. Clift-79; #2 K. Etherton-48; #14 K. Boaz-36 --- Senior National West - Valley League Sports
LOCATION:S Curves - Seniors Field
CATEGORIES:QuickScores, Baseball Game
TRANSP:OPAQUE
BEGIN:VALARM
TRIGGER:-PT2H
ACTION:DISPLAY
DESCRIPTION:Central #2 vs. Central #1
END:VALARM
END:VEVENT
BEGIN:VEVENT
UID:vls-68409745-20250605T180000@quickscores.com
DTSTAMP:20260424T104700Z
DTSTART;TZID=America/Los_Angeles:20250605T180000
DURATION:PT1H0M0S
SUMMARY:South Albany Grey vs. Central #2
DESCRIPTION:Central #2: #33 Melendez-75, #34 Radke-58.  SA Grey: #12 K. Davis-41, #15 L. Depue-21, #3 M. Livingstone-45 --- Senior National West - Valley League Sports
LOCATION:S Curves - Seniors Field
CATEGORIES:QuickScores, Baseball Game
TRANSP:OPAQUE
BEGIN:VALARM
TRIGGER:-PT2H
ACTION:DISPLAY
DESCRIPTION:South Albany Grey vs. Central #2
END:VALARM
END:VEVENT
BEGIN:VEVENT
UID:vls-68409753-20250609T180000@quickscores.com
DTSTAMP:20260424T104700Z
DTSTART;TZID=America/Los_Angeles:20250609T180000
DURATION:PT1H0M0S
SUMMARY:Crescent Valley vs. Central #2
DESCRIPTION:(Crescent Valley) #47 E. Jones-55 #2 G. Campbell-30 #42 A. Delgado-12 (Central 2) #17 Bosvert-34 #
  23 Williams-77 #11 Perkins-18 --- Senior National West - Valley League Sports
LOCATION:S Curves - Seniors Field
CATEGORIES:QuickScores, Baseball Game
TRANSP:OPAQUE
BEGIN:VALARM
TRIGGER:-PT2H
ACTION:DISPLAY
DESCRIPTION:Crescent Valley vs. Central #2
END:VALARM
END:VEVENT
BEGIN:VEVENT
UID:vls-68409758-20250610T180000@quickscores.com
DTSTAMP:20260424T104700Z
DTSTART;TZID=America/Los_Angeles:20250610T180000
DURATION:PT1H0M0S
SUMMARY:Central #2 vs. South Albany Red
DESCRIPTION:SA: #8 J. Conroy-68, #42 R. Taplin-30, #14 J. Gill-27; Central: #11 Perkins-38, #34 Radke-45, #33 Melendez-59 --- Senior National West - Valley League Sports
LOCATION:South Albany JV Baseball Field
CATEGORIES:QuickScores, Baseball Game
TRANSP:OPAQUE
BEGIN:VALARM
TRIGGER:-PT2H
ACTION:DISPLAY
DESCRIPTION:Central #2 vs. South Albany Red
END:VALARM
END:VEVENT
BEGIN:VEVENT
UID:vls-68409769-20250613T180000@quickscores.com
DTSTAMP:20260424T104700Z
DTSTART;TZID=America/Los_Angeles:20250613T180000
DURATION:PT1H0M0S
SUMMARY:M & W Electric vs. Central #2
DESCRIPTION:M&W: #4 L. Clendenin-48, #7 O. Williams- 46, #22 S. Schiminsky-25, #8 J. Skaggs-30.
Central: #33 Melendez-47, #17 Bosvert-57, #11 Perkins-64, #34 Radke-26. --- Senior National West - Valley League Sports
LOCATION:S Curves - Seniors Field
CATEGORIES:QuickScores, Baseball Game
TRANSP:OPAQUE
BEGIN:VALARM
TRIGGER:-PT2H
ACTION:DISPLAY
DESCRIPTION:M & W Electric vs. Central #2
END:VALARM
END:VEVENT
BEGIN:VEVENT
UID:vls-68409766-20250616T180000@quickscores.com
DTSTAMP:20260424T104700Z
DTSTART;TZID=America/Los_Angeles:20250616T180000
DURATION:PT1H0M0S
SUMMARY:Central #2 vs. Central Linn
DESCRIPTION:Home #17 Matthew-41 #10 Casey-43 #25 Dominic-19 #4 Kurt-43 #2 Kelvin-1 Visitor #33 Melendez-44
#11 Perkins-40 #23 Williams-47 #17 Bosvert-30 --- Senior National West - Valley League Sports
LOCATION:Central Linn JH/HS (Halsey)
CATEGORIES:QuickScores, Baseball Game
TRANSP:OPAQUE
BEGIN:VALARM
TRIGGER:-PT2H
ACTION:DISPLAY
DESCRIPTION:Central #2 vs. Central Linn
END:VALARM
END:VEVENT
BEGIN:VEVENT
UID:vls-68409761-20250620T180000@quickscores.com
DTSTAMP:20260424T104700Z
DTSTART;TZID=America/Los_Angeles:20250620T180000
DURATION:PT1H0M0S
SUMMARY:S.E.T vs. Central #2
DESCRIPTION:Central #2 : #11 Perkins- 46, #23 Williams- 34 #17 Bosvert- 33, #33 Melendez- 8, SET: #8 Miles- 32, #10 Travis- 57, #13 Dae- 47, #21 Trenton- 19 --- Senior National West - Valley League Sports
LOCATION:S Curves - Seniors Field
CATEGORIES:QuickScores, Baseball Game
TRANSP:OPAQUE
BEGIN:VALARM
TRIGGER:-PT2H
ACTION:DISPLAY
DESCRIPTION:S.E.T vs. Central #2
END:VALARM
END:VEVENT
BEGIN:VEVENT
UID:vls-68409774-20250623T180000@quickscores.com
DTSTAMP:20260424T104700Z
DTSTART;TZID=America/Los_Angeles:20250623T180000
DURATION:PT1H0M0S
SUMMARY:Central #2 vs. Cole Surveying
DESCRIPTION:Central #2: #11 Perkins- 53, #9 Fields- 46, #23 Williams- 28, #33 Melendez- 29. Cole Surveying: #23 Sailor- 54, #21 Grose- 20, #32 Evans- 68, #10 Muravez- 9, #44 Johnson- 14, #12 Barlow- 20. --- Senior National West - Valley League Sports
LOCATION:Finn Construction Field (PHS JV BB)
CATEGORIES:QuickScores, Baseball Game
TRANSP:OPAQUE
BEGIN:VALARM
TRIGGER:-PT2H
ACTION:DISPLAY
DESCRIPTION:Central #2 vs. Cole Surveying
END:VALARM
END:VEVENT
END:VCALENDAR
