BEGIN:VCALENDAR
VERSION:2.0
PRODID:-//QuickScores.com//BQ Dynamic iCal Creator//EN
METHOD:PUBLISH
X-WR-CALNAME:Central Linn - Senior National West - 2025 Valley District JBO
X-WR-CALDESC:QuickScores game calendar
X-PUBLISHED-TTL:PT24H
REFRESH-INTERVAL;VALUE=DURATION:PT24H
CALSCALE:GREGORIAN
BEGIN:VTIMEZONE
TZID:America/Los_Angeles
X-LIC-LOCATION:America/Los_Angeles
BEGIN:DAYLIGHT
TZNAME:PDT
TZOFFSETFROM:-0800
TZOFFSETTO:-0700
DTSTART:19700308T020000
RRULE:FREQ=YEARLY;BYMONTH=3;BYDAY=2SU
END:DAYLIGHT
BEGIN:STANDARD
TZNAME:PST
TZOFFSETFROM:-0700
TZOFFSETTO:-0800
DTSTART:19701101T020000
RRULE:FREQ=YEARLY;BYMONTH=11;BYDAY=1SU
END:STANDARD
END:VTIMEZONE
BEGIN:VEVENT
UID:vls-68409706-20250506T180000@quickscores.com
DTSTAMP:20260425T202300Z
DTSTART;TZID=America/Los_Angeles:20250506T180000
DURATION:PT1H0M0S
SUMMARY:South Albany Red vs. Central Linn
DESCRIPTION:SA: #7 Allard 58, #28 Waverly 39; CL: #10 Casey 73, #11 Gage 59, #25 Dominic 20 --- Senior National West - Valley League Sports
LOCATION:Central Linn JH/HS (Halsey)
CATEGORIES:QuickScores, Baseball Game
TRANSP:OPAQUE
BEGIN:VALARM
TRIGGER:-PT2H
ACTION:DISPLAY
DESCRIPTION:South Albany Red vs. Central Linn
END:VALARM
END:VEVENT
BEGIN:VEVENT
UID:vls-68409710-20250509T180000@quickscores.com
DTSTAMP:20260425T202300Z
DTSTART;TZID=America/Los_Angeles:20250509T180000
DURATION:PT1H0M0S
SUMMARY:Central Linn vs. S.E.T
DESCRIPTION:#13 D.Garcia 40 SET#10 T. Pearson 46 SETG harris 83 central linnDom H 39 pitches centrall linn --- Senior National West - Valley League Sports
LOCATION:Siletz Valley Charter School
CATEGORIES:QuickScores, Baseball Game
TRANSP:OPAQUE
BEGIN:VALARM
TRIGGER:-PT2H
ACTION:DISPLAY
DESCRIPTION:Central Linn vs. S.E.T
END:VALARM
END:VEVENT
BEGIN:VEVENT
UID:vls-68409720-20250514T180000@quickscores.com
DTSTAMP:20260425T202300Z
DTSTART;TZID=America/Los_Angeles:20250514T180000
DURATION:PT1H0M0S
SUMMARY:Central Linn vs. Cole Surveying
DESCRIPTION:Visiting : #10 C. Carter-39 #2 K. Hahn-41 #25 D. Hostetler-37 #17 M. Torres-Klein-23(Home) #23 Austin-68 #44 Deacon-50 --- Senior National West - Valley League Sports
LOCATION:Finn Construction Field (PHS JV BB)
CATEGORIES:QuickScores, Baseball Game
TRANSP:OPAQUE
BEGIN:VALARM
TRIGGER:-PT2H
ACTION:DISPLAY
DESCRIPTION:Central Linn vs. Cole Surveying
END:VALARM
END:VEVENT
BEGIN:VEVENT
UID:vls-68409776-20250516T180000@quickscores.com
DTSTAMP:20260425T202300Z
DTSTART;TZID=America/Los_Angeles:20250516T180000
DURATION:PT1H0M0S
SUMMARY:M & W Electric vs. Central Linn
DESCRIPTION:Home #10 C. Carter-31 #2 K. Hahn 55 #25 D. Hostetler Visitor #12 Barton-68 #4 Clendenin-35 #8 Skaggs-26 --- Senior National West - Valley League Sports
LOCATION:Central Linn JH/HS (Halsey)
CATEGORIES:QuickScores, Baseball Game
TRANSP:OPAQUE
BEGIN:VALARM
TRIGGER:-PT2H
ACTION:DISPLAY
DESCRIPTION:M & W Electric vs. Central Linn
END:VALARM
END:VEVENT
BEGIN:VEVENT
UID:vls-68409726-20250519T180000@quickscores.com
DTSTAMP:20260425T202300Z
DTSTART;TZID=America/Los_Angeles:20250519T180000
DURATION:PT1H0M0S
SUMMARY:South Albany Grey vs. Central Linn
DESCRIPTION:CL #10 Casey-48 #2 Kelvin-44 #25 Dominic-32 #11 Gage-8. SA #5 Reiker-32 #9 Jacobus-33 #12 Keonie-18 #16 Rylan-38 #15 Landon-45 --- Senior National West - Valley League Sports
LOCATION:Central Linn JH/HS (Halsey)
CATEGORIES:QuickScores, Baseball Game
TRANSP:OPAQUE
BEGIN:VALARM
TRIGGER:-PT2H
ACTION:DISPLAY
DESCRIPTION:South Albany Grey vs. Central Linn
END:VALARM
END:VEVENT
BEGIN:VEVENT
UID:vls-68409730-20250522T180000@quickscores.com
DTSTAMP:20260425T202300Z
DTSTART;TZID=America/Los_Angeles:20250522T180000
DURATION:PT1H0M0S
SUMMARY:Central Linn vs. Central #2
DESCRIPTION:Hm: #11 Perkins-56 #33 Melendez-38 #17 Bosvert-29 V: #2 Kelvin-48 #10 Casey-67 #25 Dominic 10 --- Senior National West - Valley League Sports
LOCATION:Central HS JV (Monmouth)
CATEGORIES:QuickScores, Baseball Game
TRANSP:OPAQUE
BEGIN:VALARM
TRIGGER:-PT2H
ACTION:DISPLAY
DESCRIPTION:Central Linn vs. Central #2
END:VALARM
END:VEVENT
BEGIN:VEVENT
UID:vls-68409736-20250527T180000@quickscores.com
DTSTAMP:20260425T202300Z
DTSTART;TZID=America/Los_Angeles:20250527T180000
DURATION:PT1H0M0S
SUMMARY:Crescent Valley vs. Central Linn
DESCRIPTION:JH Grass fieldCrescent Valley: #42 A. Delgado-29 # G. Campbell-29 #47 E. Jones-26 #52 A. Leslie-27 #9 T. Crane-11 Central Linn: #2 Kelvin-52 #11 Gage-19 #10 Casey-32 #4 Kurry-61 --- Senior National West - Valley League Sports
LOCATION:Central Linn JH/HS (Halsey)
CATEGORIES:QuickScores, Baseball Game
TRANSP:OPAQUE
BEGIN:VALARM
TRIGGER:-PT2H
ACTION:DISPLAY
DESCRIPTION:Crescent Valley vs. Central Linn
END:VALARM
END:VEVENT
BEGIN:VEVENT
UID:vls-68409746-20250602T180000@quickscores.com
DTSTAMP:20260425T202300Z
DTSTART;TZID=America/Los_Angeles:20250602T180000
DURATION:PT1H0M0S
SUMMARY:S.E.T vs. Central Linn
DESCRIPTION:SET#13 dae 21# 21 marthaller 55#3 ez 35Central linn# 2 kelvin 59#10 casey 60# 25 dom 30 --- Senior National West - Valley League Sports
LOCATION:Central Linn JH/HS (Halsey)
CATEGORIES:QuickScores, Baseball Game
TRANSP:OPAQUE
BEGIN:VALARM
TRIGGER:-PT2H
ACTION:DISPLAY
DESCRIPTION:S.E.T vs. Central Linn
END:VALARM
END:VEVENT
BEGIN:VEVENT
UID:vls-68409716-20250605T180000@quickscores.com
DTSTAMP:20260425T202300Z
DTSTART;TZID=America/Los_Angeles:20250605T180000
DURATION:PT1H0M0S
SUMMARY:Central #1 vs. Central Linn
DESCRIPTION:CentralLinn: #2 Kelvin- 48, #50 Miller- 47, #17 Matthew- 22, #10 Casey- 28, #25 Dominic- 24Central: #24 Beasly- 65, #19 Lindra- 32, #16 Cross- 33 --- Senior National West - Valley League Sports
LOCATION:Central Linn JH/HS (Halsey)
CATEGORIES:QuickScores, Baseball Game
TRANSP:OPAQUE
BEGIN:VALARM
TRIGGER:-PT2H
ACTION:DISPLAY
DESCRIPTION:Central #1 vs. Central Linn
END:VALARM
END:VEVENT
BEGIN:VEVENT
UID:vls-68409742-20250606T180000@quickscores.com
DTSTAMP:20260425T202300Z
DTSTART;TZID=America/Los_Angeles:20250606T180000
DURATION:PT1H0M0S
SUMMARY:Central Linn vs. South Albany Red
DESCRIPTION:Central Linn: #10 Casey-52, #25 Dominic-47, #4 Kurry- 28
South Albany Red: #8 J. Conroy-55, #28 B.Waverly-92, #27 L.Kibbey- 25 --- Senior National West - Valley League Sports
LOCATION:South Albany JV Baseball Field
CATEGORIES:QuickScores, Baseball Game
TRANSP:OPAQUE
BEGIN:VALARM
TRIGGER:-PT2H
ACTION:DISPLAY
DESCRIPTION:Central Linn vs. South Albany Red
END:VALARM
END:VEVENT
BEGIN:VEVENT
UID:vls-68409752-20250609T180000@quickscores.com
DTSTAMP:20260425T202300Z
DTSTART;TZID=America/Los_Angeles:20250609T180000
DURATION:PT1H0M0S
SUMMARY:Central Linn vs. Central #1
DESCRIPTION:Centra Linn #25Dominic -46 #10 Casey-74 #2 Kelvin-28 #17 Matthew -19 
Central #0 Clift-64 #50-32 #14 30 #22-27 --- Senior National West - Valley League Sports
LOCATION:S Curves - Seniors Field
CATEGORIES:QuickScores, Baseball Game
TRANSP:OPAQUE
BEGIN:VALARM
TRIGGER:-PT2H
ACTION:DISPLAY
DESCRIPTION:Central Linn vs. Central #1
END:VALARM
END:VEVENT
BEGIN:VEVENT
UID:vls-68409756-20250613T180000@quickscores.com
DTSTAMP:20260425T202300Z
DTSTART;TZID=America/Los_Angeles:20250613T180000
DURATION:PT1H0M0S
SUMMARY:Cole Surveying vs. Central Linn
DESCRIPTION:Cole Surveying: #9 H. Bennett-60, #32 A. Evans-44
Central Linn: #25 Dominic-42, #10 Casey-65, #17 Matthew-52 --- Senior National West - Valley League Sports
LOCATION:Central Linn JH/HS (Halsey)
CATEGORIES:QuickScores, Baseball Game
TRANSP:OPAQUE
BEGIN:VALARM
TRIGGER:-PT2H
ACTION:DISPLAY
DESCRIPTION:Cole Surveying vs. Central Linn
END:VALARM
END:VEVENT
BEGIN:VEVENT
UID:vls-68409766-20250616T180000@quickscores.com
DTSTAMP:20260425T202300Z
DTSTART;TZID=America/Los_Angeles:20250616T180000
DURATION:PT1H0M0S
SUMMARY:Central #2 vs. Central Linn
DESCRIPTION:Home #17 Matthew-41 #10 Casey-43 #25 Dominic-19 #4 Kurt-43 #2 Kelvin-1 Visitor #33 Melendez-44
#11 Perkins-40 #23 Williams-47 #17 Bosvert-30 --- Senior National West - Valley League Sports
LOCATION:Central Linn JH/HS (Halsey)
CATEGORIES:QuickScores, Baseball Game
TRANSP:OPAQUE
BEGIN:VALARM
TRIGGER:-PT2H
ACTION:DISPLAY
DESCRIPTION:Central #2 vs. Central Linn
END:VALARM
END:VEVENT
BEGIN:VEVENT
UID:vls-68409772-20250618T180000@quickscores.com
DTSTAMP:20260425T202300Z
DTSTART;TZID=America/Los_Angeles:20250618T180000
DURATION:PT1H0M0S
SUMMARY:Central Linn vs. Crescent Valley
DESCRIPTION:(Central Linn) #17 Mathew-49 #10 Casey-42 #25 Dominic-44 (Crescent Valley) #3 D. Rardin-44 #2 G. Campbell-44 #A. Delgado-7 --- Senior National West - Valley League Sports
LOCATION:Crescent Valley HS - Varsity Baseball
CATEGORIES:QuickScores, Baseball Game
TRANSP:OPAQUE
BEGIN:VALARM
TRIGGER:-PT2H
ACTION:DISPLAY
DESCRIPTION:Central Linn vs. Crescent Valley
END:VALARM
END:VEVENT
BEGIN:VEVENT
UID:vls-68409762-20250620T180000@quickscores.com
DTSTAMP:20260425T202300Z
DTSTART;TZID=America/Los_Angeles:20250620T180000
DURATION:PT1H0M0S
SUMMARY:Central Linn vs. South Albany Grey
DESCRIPTION:CL #2 Kelvin-59 #25 Dominic-10 #10 Casey-62 #4 Kurry-42 SA #8 Kenneth-18 #12 Keonie-61 #9 Jacobus-44 #15 Landon-56 --- Senior National West - Valley League Sports
LOCATION:South Albany JV Baseball Field
CATEGORIES:QuickScores, Baseball Game
TRANSP:OPAQUE
BEGIN:VALARM
TRIGGER:-PT2H
ACTION:DISPLAY
DESCRIPTION:Central Linn vs. South Albany Grey
END:VALARM
END:VEVENT
BEGIN:VEVENT
UID:vls-68409740-20250624T180000@quickscores.com
DTSTAMP:20260425T202300Z
DTSTART;TZID=America/Los_Angeles:20250624T180000
DURATION:PT1H0M0S
SUMMARY:Central Linn vs. M & W Electric
DESCRIPTION:Rescheduled from 5/29, please note field change

Central Linn: K. Hahn #2- 56, C. Carter #10- 38
M&W Electric: N. Dill #27- 34, L. Clewdenin #4- 45, B. Barton #12- 29 --- Senior National West - Valley League Sports
LOCATION:Finn Construction Field (PHS JV BB)
CATEGORIES:QuickScores, Baseball Game
TRANSP:OPAQUE
BEGIN:VALARM
TRIGGER:-PT2H
ACTION:DISPLAY
DESCRIPTION:Central Linn vs. M & W Electric
END:VALARM
END:VEVENT
END:VCALENDAR
