BEGIN:VCALENDAR
VERSION:2.0
PRODID:-//QuickScores.com//BQ Dynamic iCal Creator//EN
METHOD:PUBLISH
X-WR-CALNAME:West 2 - O&#039;Kain - 5/6th Boys Rec - East - Winter 2024-2025
X-WR-CALDESC:QuickScores game calendar
X-PUBLISHED-TTL:PT24H
REFRESH-INTERVAL;VALUE=DURATION:PT24H
CALSCALE:GREGORIAN
BEGIN:VTIMEZONE
TZID:America/Los_Angeles
X-LIC-LOCATION:America/Los_Angeles
BEGIN:DAYLIGHT
TZNAME:PDT
TZOFFSETFROM:-0800
TZOFFSETTO:-0700
DTSTART:19700308T020000
RRULE:FREQ=YEARLY;BYMONTH=3;BYDAY=2SU
END:DAYLIGHT
BEGIN:STANDARD
TZNAME:PST
TZOFFSETFROM:-0700
TZOFFSETTO:-0800
DTSTART:19701101T020000
RRULE:FREQ=YEARLY;BYMONTH=11;BYDAY=1SU
END:STANDARD
END:VTIMEZONE
BEGIN:VEVENT
UID:vls-66289658-20250120T174500@quickscores.com
DTSTAMP:20260424T032600Z
DTSTART;TZID=America/Los_Angeles:20250120T174500
DURATION:PT1H0M0S
SUMMARY:West 2 - O'Kain vs. South 2 - Floro
DESCRIPTION:5/6th Boys Rec - East - Valley League Sports
LOCATION:BGC Albany Rex Casey Gym
CATEGORIES:QuickScores, Basketball Game
TRANSP:OPAQUE
BEGIN:VALARM
TRIGGER:-PT2H
ACTION:DISPLAY
DESCRIPTION:West 2 - O'Kain vs. South 2 - Floro
END:VALARM
END:VEVENT
BEGIN:VEVENT
UID:vls-66289652-20250122T174500@quickscores.com
DTSTAMP:20260424T032600Z
DTSTART;TZID=America/Los_Angeles:20250122T174500
DURATION:PT1H0M0S
SUMMARY:West 2 - O'Kain vs. West 3 - Reich
DESCRIPTION:5/6th Boys Rec - East - Valley League Sports
LOCATION:BGC Albany Rex Casey Gym
CATEGORIES:QuickScores, Basketball Game
TRANSP:OPAQUE
BEGIN:VALARM
TRIGGER:-PT2H
ACTION:DISPLAY
DESCRIPTION:West 2 - O'Kain vs. West 3 - Reich
END:VALARM
END:VEVENT
BEGIN:VEVENT
UID:vls-66289660-20250128T172000@quickscores.com
DTSTAMP:20260424T032600Z
DTSTART;TZID=America/Los_Angeles:20250128T172000
DURATION:PT1H0M0S
SUMMARY:West 2 - O'Kain vs. West 4 - Webster/Pritt
DESCRIPTION:5/6th Boys Rec - East - Valley League Sports
LOCATION:BGC Albany Sullivan Gym
CATEGORIES:QuickScores, Basketball Game
TRANSP:OPAQUE
BEGIN:VALARM
TRIGGER:-PT2H
ACTION:DISPLAY
DESCRIPTION:West 2 - O'Kain vs. West 4 - Webster/Pritt
END:VALARM
END:VEVENT
BEGIN:VEVENT
UID:vls-66289683-20250129T190000@quickscores.com
DTSTAMP:20260424T032600Z
DTSTART;TZID=America/Los_Angeles:20250129T190000
DURATION:PT1H0M0S
SUMMARY:West 1 - Morse vs. West 2 - O'Kain
DESCRIPTION:5/6th Boys Rec - East - Valley League Sports
LOCATION:BGC Albany Rex Casey Gym
CATEGORIES:QuickScores, Basketball Game
TRANSP:OPAQUE
BEGIN:VALARM
TRIGGER:-PT2H
ACTION:DISPLAY
DESCRIPTION:West 1 - Morse vs. West 2 - O'Kain
END:VALARM
END:VEVENT
BEGIN:VEVENT
UID:vls-66289667-20250131T173000@quickscores.com
DTSTAMP:20260424T032600Z
DTSTART;TZID=America/Los_Angeles:20250131T173000
DURATION:PT1H0M0S
SUMMARY:South 1 - White vs. West 2 - O'Kain
DESCRIPTION:5/6th Boys Rec - East - Valley League Sports
LOCATION:BGC Albany Sullivan Gym
CATEGORIES:QuickScores, Basketball Game
TRANSP:OPAQUE
BEGIN:VALARM
TRIGGER:-PT2H
ACTION:DISPLAY
DESCRIPTION:South 1 - White vs. West 2 - O'Kain
END:VALARM
END:VEVENT
BEGIN:VEVENT
UID:vls-66289675-20250204T174500@quickscores.com
DTSTAMP:20260424T032600Z
DTSTART;TZID=America/Los_Angeles:20250204T174500
DURATION:PT1H0M0S
SUMMARY:West 2 - O'Kain vs. Scio
DESCRIPTION:5/6th Boys Rec - East - Valley League Sports
LOCATION:Centennial Elementary
CATEGORIES:QuickScores, Basketball Game
TRANSP:OPAQUE
BEGIN:VALARM
TRIGGER:-PT2H
ACTION:DISPLAY
DESCRIPTION:West 2 - O'Kain vs. Scio
END:VALARM
END:VEVENT
BEGIN:VEVENT
UID:vls-66289668-20250207T173000@quickscores.com
DTSTAMP:20260424T032600Z
DTSTART;TZID=America/Los_Angeles:20250207T173000
DURATION:PT1H0M0S
SUMMARY:West 2 - O'Kain vs. Santiam Christian
DESCRIPTION:5/6th Boys Rec - East - Valley League Sports
LOCATION:Santiam Christian Schools - East Gym
CATEGORIES:QuickScores, Basketball Game
TRANSP:OPAQUE
BEGIN:VALARM
TRIGGER:-PT2H
ACTION:DISPLAY
DESCRIPTION:West 2 - O'Kain vs. Santiam Christian
END:VALARM
END:VEVENT
BEGIN:VEVENT
UID:vls-66289681-20250211T173000@quickscores.com
DTSTAMP:20260424T032600Z
DTSTART;TZID=America/Los_Angeles:20250211T173000
DURATION:PT1H0M0S
SUMMARY:Jefferson vs. West 2 - O'Kain
DESCRIPTION:5/6th Boys Rec - East - Valley League Sports
LOCATION:BGC Albany Sullivan Gym
CATEGORIES:QuickScores, Basketball Game
TRANSP:OPAQUE
BEGIN:VALARM
TRIGGER:-PT2H
ACTION:DISPLAY
DESCRIPTION:Jefferson vs. West 2 - O'Kain
END:VALARM
END:VEVENT
BEGIN:VEVENT
UID:vls-66289688-20250217T190000@quickscores.com
DTSTAMP:20260424T032600Z
DTSTART;TZID=America/Los_Angeles:20250217T190000
DURATION:PT1H0M0S
SUMMARY:West 3 - Reich vs. West 2 - O'Kain
DESCRIPTION:5/6th Boys Rec - East - Valley League Sports
LOCATION:BGC Albany Rex Casey Gym
CATEGORIES:QuickScores, Basketball Game
TRANSP:OPAQUE
BEGIN:VALARM
TRIGGER:-PT2H
ACTION:DISPLAY
DESCRIPTION:West 3 - Reich vs. West 2 - O'Kain
END:VALARM
END:VEVENT
BEGIN:VEVENT
UID:vls-66289694-20250222T101500@quickscores.com
DTSTAMP:20260424T032600Z
DTSTART;TZID=America/Los_Angeles:20250222T101500
DURATION:PT1H0M0S
SUMMARY:South 2 - Floro vs. West 2 - O'Kain
DESCRIPTION:5/6th Boys Rec - East - Valley League Sports
LOCATION:BGC Albany Rex Casey Gym
CATEGORIES:QuickScores, Basketball Game
TRANSP:OPAQUE
BEGIN:VALARM
TRIGGER:-PT2H
ACTION:DISPLAY
DESCRIPTION:South 2 - Floro vs. West 2 - O'Kain
END:VALARM
END:VEVENT
BEGIN:VEVENT
UID:vls-66289696-20250225T183000@quickscores.com
DTSTAMP:20260424T032600Z
DTSTART;TZID=America/Los_Angeles:20250225T183000
DURATION:PT1H0M0S
SUMMARY:West 4 - Webster/Pritt vs. West 2 - O'Kain
DESCRIPTION:5/6th Boys Rec - East - Valley League Sports
LOCATION:BGC Albany Sullivan Gym
CATEGORIES:QuickScores, Basketball Game
TRANSP:OPAQUE
BEGIN:VALARM
TRIGGER:-PT2H
ACTION:DISPLAY
DESCRIPTION:West 4 - Webster/Pritt vs. West 2 - O'Kain
END:VALARM
END:VEVENT
BEGIN:VEVENT
UID:vls-66289703-20250227T194000@quickscores.com
DTSTAMP:20260424T032600Z
DTSTART;TZID=America/Los_Angeles:20250227T194000
DURATION:PT1H0M0S
SUMMARY:West 2 - O'Kain vs. South 1 - White
DESCRIPTION:5/6th Boys Rec - East - Valley League Sports
LOCATION:BGC Albany Sullivan Gym
CATEGORIES:QuickScores, Basketball Game
TRANSP:OPAQUE
BEGIN:VALARM
TRIGGER:-PT2H
ACTION:DISPLAY
DESCRIPTION:West 2 - O'Kain vs. South 1 - White
END:VALARM
END:VEVENT
END:VCALENDAR
