BEGIN:VCALENDAR
VERSION:2.0
PRODID:-//QuickScores.com//BQ Dynamic iCal Creator//EN
METHOD:PUBLISH
X-WR-CALNAME:Prescott Honey Farms - Prescott - Bgcgs 1/2 Basketball - Sh - Winter 2024-2025
X-WR-CALDESC:QuickScores game calendar
X-PUBLISHED-TTL:PT24H
REFRESH-INTERVAL;VALUE=DURATION:PT24H
CALSCALE:GREGORIAN
BEGIN:VTIMEZONE
TZID:America/Los_Angeles
X-LIC-LOCATION:America/Los_Angeles
BEGIN:DAYLIGHT
TZNAME:PDT
TZOFFSETFROM:-0800
TZOFFSETTO:-0700
DTSTART:19700308T020000
RRULE:FREQ=YEARLY;BYMONTH=3;BYDAY=2SU
END:DAYLIGHT
BEGIN:STANDARD
TZNAME:PST
TZOFFSETFROM:-0700
TZOFFSETTO:-0800
DTSTART:19701101T020000
RRULE:FREQ=YEARLY;BYMONTH=11;BYDAY=1SU
END:STANDARD
END:VTIMEZONE
BEGIN:VEVENT
UID:vls-65889542-20241126T180000@quickscores.com
DTSTAMP:20260425T231400Z
DTSTART;TZID=America/Los_Angeles:20241126T180000
DURATION:PT1H0M0S
SUMMARY:Prescott Honey Farms - Prescott vs. THI - Watkins
DESCRIPTION:Bgcgs 1/2 Basketball - Sh - Valley League Sports
LOCATION:BGCSH - W
CATEGORIES:QuickScores, Basketball Game
TRANSP:OPAQUE
BEGIN:VALARM
TRIGGER:-PT2H
ACTION:DISPLAY
DESCRIPTION:Prescott Honey Farms - Prescott vs. THI - Watkins
END:VALARM
END:VEVENT
BEGIN:VEVENT
UID:vls-65889548-20241202T180000@quickscores.com
DTSTAMP:20260425T231400Z
DTSTART;TZID=America/Los_Angeles:20241202T180000
DURATION:PT1H0M0S
SUMMARY:Stafford Trucking - Bennett vs. Prescott Honey Farms - Prescott
DESCRIPTION:Bgcgs 1/2 Basketball - Sh - Valley League Sports
LOCATION:BGCSH - W
CATEGORIES:QuickScores, Basketball Game
TRANSP:OPAQUE
BEGIN:VALARM
TRIGGER:-PT2H
ACTION:DISPLAY
DESCRIPTION:Stafford Trucking - Bennett vs. Prescott Honey Farms - Prescott
END:VALARM
END:VEVENT
BEGIN:VEVENT
UID:vls-65889546-20241203T180000@quickscores.com
DTSTAMP:20260425T231400Z
DTSTART;TZID=America/Los_Angeles:20241203T180000
DURATION:PT1H0M0S
SUMMARY:Prescott Honey Farms - Prescott vs. Melchers Home Sales - Hylton
DESCRIPTION:Bgcgs 1/2 Basketball - Sh - Valley League Sports
LOCATION:BGCSH - W
CATEGORIES:QuickScores, Basketball Game
TRANSP:OPAQUE
BEGIN:VALARM
TRIGGER:-PT2H
ACTION:DISPLAY
DESCRIPTION:Prescott Honey Farms - Prescott vs. Melchers Home Sales - Hylton
END:VALARM
END:VEVENT
BEGIN:VEVENT
UID:vls-65889555-20241209T180000@quickscores.com
DTSTAMP:20260425T231400Z
DTSTART;TZID=America/Los_Angeles:20241209T180000
DURATION:PT1H0M0S
SUMMARY:Prescott Honey Farms - Prescott vs. Stafford Trucking - Bennett
DESCRIPTION:Bgcgs 1/2 Basketball - Sh - Valley League Sports
LOCATION:BGCSH - W
CATEGORIES:QuickScores, Basketball Game
TRANSP:OPAQUE
BEGIN:VALARM
TRIGGER:-PT2H
ACTION:DISPLAY
DESCRIPTION:Prescott Honey Farms - Prescott vs. Stafford Trucking - Bennett
END:VALARM
END:VEVENT
BEGIN:VEVENT
UID:vls-65889549-20241212T180000@quickscores.com
DTSTAMP:20260425T231400Z
DTSTART;TZID=America/Los_Angeles:20241212T180000
DURATION:PT1H0M0S
SUMMARY:Krake Home Sales - Hegge vs. Prescott Honey Farms - Prescott
DESCRIPTION:Bgcgs 1/2 Basketball - Sh - Valley League Sports
LOCATION:BGCSH - W
CATEGORIES:QuickScores, Basketball Game
TRANSP:OPAQUE
BEGIN:VALARM
TRIGGER:-PT2H
ACTION:DISPLAY
DESCRIPTION:Krake Home Sales - Hegge vs. Prescott Honey Farms - Prescott
END:VALARM
END:VEVENT
BEGIN:VEVENT
UID:vls-65889552-20241213T170000@quickscores.com
DTSTAMP:20260425T231400Z
DTSTART;TZID=America/Los_Angeles:20241213T170000
DURATION:PT1H0M0S
SUMMARY:THI - Watkins vs. Prescott Honey Farms - Prescott
DESCRIPTION:Time change --- Bgcgs 1/2 Basketball - Sh - Valley League Sports
LOCATION:BGCSH - W
CATEGORIES:QuickScores, Basketball Game
TRANSP:OPAQUE
BEGIN:VALARM
TRIGGER:-PT2H
ACTION:DISPLAY
DESCRIPTION:THI - Watkins vs. Prescott Honey Farms - Prescott
END:VALARM
END:VEVENT
BEGIN:VEVENT
UID:vls-65889556-20241217T170000@quickscores.com
DTSTAMP:20260425T231400Z
DTSTART;TZID=America/Los_Angeles:20241217T170000
DURATION:PT1H0M0S
SUMMARY:Melchers Home Sales - Hylton vs. Prescott Honey Farms - Prescott
DESCRIPTION:Bgcgs 1/2 Basketball - Sh - Valley League Sports
LOCATION:BGCSH - W
CATEGORIES:QuickScores, Basketball Game
TRANSP:OPAQUE
BEGIN:VALARM
TRIGGER:-PT2H
ACTION:DISPLAY
DESCRIPTION:Melchers Home Sales - Hylton vs. Prescott Honey Farms - Prescott
END:VALARM
END:VEVENT
BEGIN:VEVENT
UID:vls-65889559-20241219T170000@quickscores.com
DTSTAMP:20260425T231400Z
DTSTART;TZID=America/Los_Angeles:20241219T170000
DURATION:PT1H0M0S
SUMMARY:Prescott Honey Farms - Prescott vs. Krake Home Sales - Hegge
DESCRIPTION:Bgcgs 1/2 Basketball - Sh - Valley League Sports
LOCATION:BGCSH - W
CATEGORIES:QuickScores, Basketball Game
TRANSP:OPAQUE
BEGIN:VALARM
TRIGGER:-PT2H
ACTION:DISPLAY
DESCRIPTION:Prescott Honey Farms - Prescott vs. Krake Home Sales - Hegge
END:VALARM
END:VEVENT
END:VCALENDAR
