BEGIN:VCALENDAR
VERSION:2.0
PRODID:-//QuickScores.com//BQ Dynamic iCal Creator//EN
METHOD:PUBLISH
X-WR-CALNAME:CYS Seahawks - 5th/6th Grade - Fall 2023
X-WR-CALDESC:QuickScores game calendar
X-PUBLISHED-TTL:PT24H
REFRESH-INTERVAL;VALUE=DURATION:PT24H
CALSCALE:GREGORIAN
BEGIN:VTIMEZONE
TZID:America/Los_Angeles
X-LIC-LOCATION:America/Los_Angeles
BEGIN:DAYLIGHT
TZNAME:PDT
TZOFFSETFROM:-0800
TZOFFSETTO:-0700
DTSTART:19700308T020000
RRULE:FREQ=YEARLY;BYMONTH=3;BYDAY=2SU
END:DAYLIGHT
BEGIN:STANDARD
TZNAME:PST
TZOFFSETFROM:-0700
TZOFFSETTO:-0800
DTSTART:19701101T020000
RRULE:FREQ=YEARLY;BYMONTH=11;BYDAY=1SU
END:STANDARD
END:VTIMEZONE
BEGIN:VEVENT
UID:vls-59838907-20230923T123000@quickscores.com
DTSTAMP:20260425T052800Z
DTSTART;TZID=America/Los_Angeles:20230923T123000
DURATION:PT1H0M0S
SUMMARY:Wilson Motors -- Cardinals vs. CYS Seahawks
DESCRIPTION:5th/6th Grade - Valley League Sports
LOCATION:Williams Field Corvallis #2
CATEGORIES:QuickScores, Flag Football Game
TRANSP:OPAQUE
BEGIN:VALARM
TRIGGER:-PT2H
ACTION:DISPLAY
DESCRIPTION:Wilson Motors -- Cardinals vs. CYS Seahawks
END:VALARM
END:VEVENT
BEGIN:VEVENT
UID:vls-59845611-20230930T103000@quickscores.com
DTSTAMP:20260425T052800Z
DTSTART;TZID=America/Los_Angeles:20230930T103000
DURATION:PT1H0M0S
SUMMARY:CYS Eagles vs. CYS Seahawks
DESCRIPTION:5th/6th Grade - Valley League Sports
LOCATION:Williams Field Corvallis #2
CATEGORIES:QuickScores, Flag Football Game
TRANSP:OPAQUE
BEGIN:VALARM
TRIGGER:-PT2H
ACTION:DISPLAY
DESCRIPTION:CYS Eagles vs. CYS Seahawks
END:VALARM
END:VEVENT
BEGIN:VEVENT
UID:vls-59845614-20230930T123000@quickscores.com
DTSTAMP:20260425T052800Z
DTSTART;TZID=America/Los_Angeles:20230930T123000
DURATION:PT1H0M0S
SUMMARY:CYS Seahawks vs. Broncos -- Fielder
DESCRIPTION:5th/6th Grade - Valley League Sports
LOCATION:Williams Field Corvallis #1
CATEGORIES:QuickScores, Flag Football Game
TRANSP:OPAQUE
BEGIN:VALARM
TRIGGER:-PT2H
ACTION:DISPLAY
DESCRIPTION:CYS Seahawks vs. Broncos -- Fielder
END:VALARM
END:VEVENT
BEGIN:VEVENT
UID:vls-59845625-20231007T120000@quickscores.com
DTSTAMP:20260425T052800Z
DTSTART;TZID=America/Los_Angeles:20231007T120000
DURATION:PT1H0M0S
SUMMARY:Hendrix Heating -- Ravens vs. CYS Seahawks
DESCRIPTION:5th/6th Grade - Valley League Sports
LOCATION:Central High School
CATEGORIES:QuickScores, Flag Football Game
TRANSP:OPAQUE
BEGIN:VALARM
TRIGGER:-PT2H
ACTION:DISPLAY
DESCRIPTION:Hendrix Heating -- Ravens vs. CYS Seahawks
END:VALARM
END:VEVENT
BEGIN:VEVENT
UID:vls-59845623-20231007T140000@quickscores.com
DTSTAMP:20260425T052800Z
DTSTART;TZID=America/Los_Angeles:20231007T140000
DURATION:PT1H0M0S
SUMMARY:CYS Seahawks vs. Pacific Power -- Eagles
DESCRIPTION:5th/6th Grade - Valley League Sports
LOCATION:Central High School
CATEGORIES:QuickScores, Flag Football Game
TRANSP:OPAQUE
BEGIN:VALARM
TRIGGER:-PT2H
ACTION:DISPLAY
DESCRIPTION:CYS Seahawks vs. Pacific Power -- Eagles
END:VALARM
END:VEVENT
BEGIN:VEVENT
UID:vls-59845867-20231014T120000@quickscores.com
DTSTAMP:20260425T052800Z
DTSTART;TZID=America/Los_Angeles:20231014T120000
DURATION:PT1H0M0S
SUMMARY:Broncos -- Fielder vs. CYS Seahawks
DESCRIPTION:5th/6th Grade - Valley League Sports
LOCATION:Central High School
CATEGORIES:QuickScores, Flag Football Game
TRANSP:OPAQUE
BEGIN:VALARM
TRIGGER:-PT2H
ACTION:DISPLAY
DESCRIPTION:Broncos -- Fielder vs. CYS Seahawks
END:VALARM
END:VEVENT
BEGIN:VEVENT
UID:vls-59845865-20231014T140000@quickscores.com
DTSTAMP:20260425T052800Z
DTSTART;TZID=America/Los_Angeles:20231014T140000
DURATION:PT1H0M0S
SUMMARY:CYS Seahawks vs. Raiders -- Young
DESCRIPTION:5th/6th Grade - Valley League Sports
LOCATION:Central High School
CATEGORIES:QuickScores, Flag Football Game
TRANSP:OPAQUE
BEGIN:VALARM
TRIGGER:-PT2H
ACTION:DISPLAY
DESCRIPTION:CYS Seahawks vs. Raiders -- Young
END:VALARM
END:VEVENT
BEGIN:VEVENT
UID:vls-59855412-20231021T103000@quickscores.com
DTSTAMP:20260425T052800Z
DTSTART;TZID=America/Los_Angeles:20231021T103000
DURATION:PT1H0M0S
SUMMARY:Hendrix Heating -- Ravens vs. CYS Seahawks
DESCRIPTION:5th/6th Grade - Valley League Sports
LOCATION:Williams Field Corvallis #2
CATEGORIES:QuickScores, Flag Football Game
TRANSP:OPAQUE
BEGIN:VALARM
TRIGGER:-PT2H
ACTION:DISPLAY
DESCRIPTION:Hendrix Heating -- Ravens vs. CYS Seahawks
END:VALARM
END:VEVENT
BEGIN:VEVENT
UID:vls-59855416-20231021T123000@quickscores.com
DTSTAMP:20260425T052800Z
DTSTART;TZID=America/Los_Angeles:20231021T123000
DURATION:PT1H0M0S
SUMMARY:CYS Seahawks vs. CYS Eagles
DESCRIPTION:5th/6th Grade - Valley League Sports
LOCATION:Williams Field Corvallis #1
CATEGORIES:QuickScores, Flag Football Game
TRANSP:OPAQUE
BEGIN:VALARM
TRIGGER:-PT2H
ACTION:DISPLAY
DESCRIPTION:CYS Seahawks vs. CYS Eagles
END:VALARM
END:VEVENT
BEGIN:VEVENT
UID:vls-59838910-20231024T183000@quickscores.com
DTSTAMP:20260425T052800Z
DTSTART;TZID=America/Los_Angeles:20231024T183000
DURATION:PT1H0M0S
SUMMARY:CYS Seahawks vs. Raiders -- Young
DESCRIPTION:DATE CHANGE --- 5th/6th Grade - Valley League Sports
LOCATION:Williams Field Corvallis #1
CATEGORIES:QuickScores, Flag Football Game
TRANSP:OPAQUE
BEGIN:VALARM
TRIGGER:-PT2H
ACTION:DISPLAY
DESCRIPTION:CYS Seahawks vs. Raiders -- Young
END:VALARM
END:VEVENT
END:VCALENDAR
