BEGIN:VCALENDAR
VERSION:2.0
PRODID:-//QuickScores.com//BQ Dynamic iCal Creator//EN
METHOD:PUBLISH
X-WR-CALNAME:Lebanon - 49ers - 5th/6th Grade - Fall 2023
X-WR-CALDESC:QuickScores game calendar
X-PUBLISHED-TTL:PT24H
REFRESH-INTERVAL;VALUE=DURATION:PT24H
CALSCALE:GREGORIAN
BEGIN:VTIMEZONE
TZID:America/Los_Angeles
X-LIC-LOCATION:America/Los_Angeles
BEGIN:DAYLIGHT
TZNAME:PDT
TZOFFSETFROM:-0800
TZOFFSETTO:-0700
DTSTART:19700308T020000
RRULE:FREQ=YEARLY;BYMONTH=3;BYDAY=2SU
END:DAYLIGHT
BEGIN:STANDARD
TZNAME:PST
TZOFFSETFROM:-0700
TZOFFSETTO:-0800
DTSTART:19701101T020000
RRULE:FREQ=YEARLY;BYMONTH=11;BYDAY=1SU
END:STANDARD
END:VTIMEZONE
BEGIN:VEVENT
UID:vls-59834608-20230923T090000@quickscores.com
DTSTAMP:20260425T081000Z
DTSTART;TZID=America/Los_Angeles:20230923T090000
DURATION:PT1H0M0S
SUMMARY:NSYA-Bills vs. Lebanon - 49ers
DESCRIPTION:5th/6th Grade - Valley League Sports
LOCATION:Century Park 2 - Lebanon
CATEGORIES:QuickScores, Flag Football Game
TRANSP:OPAQUE
BEGIN:VALARM
TRIGGER:-PT2H
ACTION:DISPLAY
DESCRIPTION:NSYA-Bills vs. Lebanon - 49ers
END:VALARM
END:VEVENT
BEGIN:VEVENT
UID:vls-59834605-20230923T100000@quickscores.com
DTSTAMP:20260425T081000Z
DTSTART;TZID=America/Los_Angeles:20230923T100000
DURATION:PT1H0M0S
SUMMARY:Lebanon - 49ers vs. Thatcher Construction (SYC Team 1)
DESCRIPTION:5th/6th Grade - Valley League Sports
LOCATION:Century Park 1 - Lebanon
CATEGORIES:QuickScores, Flag Football Game
TRANSP:OPAQUE
BEGIN:VALARM
TRIGGER:-PT2H
ACTION:DISPLAY
DESCRIPTION:Lebanon - 49ers vs. Thatcher Construction (SYC Team 1)
END:VALARM
END:VEVENT
BEGIN:VEVENT
UID:vls-59834848-20230930T120000@quickscores.com
DTSTAMP:20260425T081000Z
DTSTART;TZID=America/Los_Angeles:20230930T120000
DURATION:PT1H0M0S
SUMMARY:Lebanon - 49ers vs. Jefferson- Steelers
DESCRIPTION:5th/6th Grade - Valley League Sports
LOCATION:Stayton HS Football Field
CATEGORIES:QuickScores, Flag Football Game
TRANSP:OPAQUE
BEGIN:VALARM
TRIGGER:-PT2H
ACTION:DISPLAY
DESCRIPTION:Lebanon - 49ers vs. Jefferson- Steelers
END:VALARM
END:VEVENT
BEGIN:VEVENT
UID:vls-59834849-20230930T130000@quickscores.com
DTSTAMP:20260425T081000Z
DTSTART;TZID=America/Los_Angeles:20230930T130000
DURATION:PT1H0M0S
SUMMARY:NSYA - Seahawks vs. Lebanon - 49ers
DESCRIPTION:5th/6th Grade - Valley League Sports
LOCATION:Stayton HS Football Field
CATEGORIES:QuickScores, Flag Football Game
TRANSP:OPAQUE
BEGIN:VALARM
TRIGGER:-PT2H
ACTION:DISPLAY
DESCRIPTION:NSYA - Seahawks vs. Lebanon - 49ers
END:VALARM
END:VEVENT
BEGIN:VEVENT
UID:vls-59835115-20231014T103000@quickscores.com
DTSTAMP:20260425T081000Z
DTSTART;TZID=America/Los_Angeles:20231014T103000
DURATION:PT1H0M0S
SUMMARY:Lebanon - 49ers vs. Lebanon - Commanders
DESCRIPTION:5th/6th Grade - Valley League Sports
LOCATION:Jefferson HS Football Field
CATEGORIES:QuickScores, Flag Football Game
TRANSP:OPAQUE
BEGIN:VALARM
TRIGGER:-PT2H
ACTION:DISPLAY
DESCRIPTION:Lebanon - 49ers vs. Lebanon - Commanders
END:VALARM
END:VEVENT
BEGIN:VEVENT
UID:vls-59835117-20231014T123000@quickscores.com
DTSTAMP:20260425T081000Z
DTSTART;TZID=America/Los_Angeles:20231014T123000
DURATION:PT1H0M0S
SUMMARY:Lebanon - Seahawks vs. Lebanon - 49ers
DESCRIPTION:5th/6th Grade - Valley League Sports
LOCATION:Jefferson HS Football Field
CATEGORIES:QuickScores, Flag Football Game
TRANSP:OPAQUE
BEGIN:VALARM
TRIGGER:-PT2H
ACTION:DISPLAY
DESCRIPTION:Lebanon - Seahawks vs. Lebanon - 49ers
END:VALARM
END:VEVENT
BEGIN:VEVENT
UID:vls-59835872-20231021T121000@quickscores.com
DTSTAMP:20260425T081000Z
DTSTART;TZID=America/Los_Angeles:20231021T121000
DURATION:PT1H0M0S
SUMMARY:Lebanon - 49ers vs. Best Heating & cooling (SYC Team 2)
DESCRIPTION:5th/6th Grade - Valley League Sports
LOCATION:Scio HS Football Field
CATEGORIES:QuickScores, Flag Football Game
TRANSP:OPAQUE
BEGIN:VALARM
TRIGGER:-PT2H
ACTION:DISPLAY
DESCRIPTION:Lebanon - 49ers vs. Best Heating & cooling (SYC Team 2)
END:VALARM
END:VEVENT
BEGIN:VEVENT
UID:vls-59858271-20231021T142500@quickscores.com
DTSTAMP:20260425T081000Z
DTSTART;TZID=America/Los_Angeles:20231021T142500
DURATION:PT1H0M0S
SUMMARY:Lebanon - 49ers vs. Sweet Home - Packers
DESCRIPTION:5th/6th Grade - Valley League Sports
LOCATION:Scio HS Football Field
CATEGORIES:QuickScores, Flag Football Game
TRANSP:OPAQUE
BEGIN:VALARM
TRIGGER:-PT2H
ACTION:DISPLAY
DESCRIPTION:Lebanon - 49ers vs. Sweet Home - Packers
END:VALARM
END:VEVENT
BEGIN:VEVENT
UID:vls-59834969-20231028T103000@quickscores.com
DTSTAMP:20260425T081000Z
DTSTART;TZID=America/Los_Angeles:20231028T103000
DURATION:PT1H0M0S
SUMMARY:Lebanon - 49ers vs. Thatcher Construction (SYC Team 1)
DESCRIPTION:5th/6th Grade - Valley League Sports
LOCATION:Jefferson HS Football Field
CATEGORIES:QuickScores, Flag Football Game
TRANSP:OPAQUE
BEGIN:VALARM
TRIGGER:-PT2H
ACTION:DISPLAY
DESCRIPTION:Lebanon - 49ers vs. Thatcher Construction (SYC Team 1)
END:VALARM
END:VEVENT
BEGIN:VEVENT
UID:vls-59834971-20231028T123000@quickscores.com
DTSTAMP:20260425T081000Z
DTSTART;TZID=America/Los_Angeles:20231028T123000
DURATION:PT1H0M0S
SUMMARY:Best Heating & cooling (SYC Team 2) vs. Lebanon - 49ers
DESCRIPTION:5th/6th Grade - Valley League Sports
LOCATION:Jefferson HS Football Field
CATEGORIES:QuickScores, Flag Football Game
TRANSP:OPAQUE
BEGIN:VALARM
TRIGGER:-PT2H
ACTION:DISPLAY
DESCRIPTION:Best Heating & cooling (SYC Team 2) vs. Lebanon - 49ers
END:VALARM
END:VEVENT
END:VCALENDAR
