BEGIN:VCALENDAR
VERSION:2.0
PRODID:-//QuickScores.com//BQ Dynamic iCal Creator//EN
METHOD:PUBLISH
X-WR-CALNAME:Corvallis Dental Group -- Seahawks - 7th/8th Grade - Fall 2023
X-WR-CALDESC:QuickScores game calendar
X-PUBLISHED-TTL:PT24H
REFRESH-INTERVAL;VALUE=DURATION:PT24H
CALSCALE:GREGORIAN
BEGIN:VTIMEZONE
TZID:America/Los_Angeles
X-LIC-LOCATION:America/Los_Angeles
BEGIN:DAYLIGHT
TZNAME:PDT
TZOFFSETFROM:-0800
TZOFFSETTO:-0700
DTSTART:19700308T020000
RRULE:FREQ=YEARLY;BYMONTH=3;BYDAY=2SU
END:DAYLIGHT
BEGIN:STANDARD
TZNAME:PST
TZOFFSETFROM:-0700
TZOFFSETTO:-0800
DTSTART:19701101T020000
RRULE:FREQ=YEARLY;BYMONTH=11;BYDAY=1SU
END:STANDARD
END:VTIMEZONE
BEGIN:VEVENT
UID:vls-59801553-20230906T181500@quickscores.com
DTSTAMP:20260421T052300Z
DTSTART;TZID=America/Los_Angeles:20230906T181500
DURATION:PT1H0M0S
SUMMARY:Practice: Healing Motion -- Seahawks vs. Corvallis Dental Group -- Seahawks
DESCRIPTION:NO PRACTICE TONIGHT!!! --- 7th/8th Grade - Valley League Sports
LOCATION:Linus Pauling Football Field
CATEGORIES:QuickScores, Flag Football Game
TRANSP:OPAQUE
BEGIN:VALARM
TRIGGER:-PT2H
ACTION:DISPLAY
DESCRIPTION:Practice: Healing Motion -- Seahawks vs. Corvallis Dental Group -- Seahawks
END:VALARM
END:VEVENT
BEGIN:VEVENT
UID:vls-59801545-20230907T181500@quickscores.com
DTSTAMP:20260421T052300Z
DTSTART;TZID=America/Los_Angeles:20230907T181500
DURATION:PT1H0M0S
SUMMARY:Practice: Corvallis Dental Group -- Seahawks vs. Healing Motion -- Seahawks
DESCRIPTION:7th/8th Grade - Valley League Sports
LOCATION:Linus Pauling Football Field
CATEGORIES:QuickScores, Flag Football Game
TRANSP:OPAQUE
BEGIN:VALARM
TRIGGER:-PT2H
ACTION:DISPLAY
DESCRIPTION:Practice: Corvallis Dental Group -- Seahawks vs. Healing Motion -- Seahawks
END:VALARM
END:VEVENT
BEGIN:VEVENT
UID:vls-59801586-20230911T181500@quickscores.com
DTSTAMP:20260421T052300Z
DTSTART;TZID=America/Los_Angeles:20230911T181500
DURATION:PT1H30M0S
SUMMARY:Practice: Corvallis Dental Group -- Seahawks vs. Healing Motion -- Seahawks
DESCRIPTION:7th/8th Grade - Valley League Sports
LOCATION:Linus Pauling Football Field
CATEGORIES:QuickScores, Flag Football Game
TRANSP:OPAQUE
BEGIN:VALARM
TRIGGER:-PT2H
ACTION:DISPLAY
DESCRIPTION:Practice: Corvallis Dental Group -- Seahawks vs. Healing Motion -- Seahawks
END:VALARM
END:VEVENT
BEGIN:VEVENT
UID:vls-59801593-20230912T181500@quickscores.com
DTSTAMP:20260421T052300Z
DTSTART;TZID=America/Los_Angeles:20230912T181500
DURATION:PT1H30M0S
SUMMARY:Practice: Corvallis Dental Group -- Seahawks
DESCRIPTION:7th/8th Grade - Valley League Sports
LOCATION:Linus Pauling Football Field
CATEGORIES:QuickScores, Flag Football Game
TRANSP:OPAQUE
BEGIN:VALARM
TRIGGER:-PT2H
ACTION:DISPLAY
DESCRIPTION:Practice: Corvallis Dental Group -- Seahawks
END:VALARM
END:VEVENT
BEGIN:VEVENT
UID:vls-59801349-20230913T181500@quickscores.com
DTSTAMP:20260421T052300Z
DTSTART;TZID=America/Los_Angeles:20230913T181500
DURATION:PT1H15M0S
SUMMARY:Practice: Corvallis Dental Group -- Seahawks
DESCRIPTION:7th/8th Grade - Valley League Sports
LOCATION:Linus Pauling Football Field
CATEGORIES:QuickScores, Flag Football Game
TRANSP:OPAQUE
BEGIN:VALARM
TRIGGER:-PT2H
ACTION:DISPLAY
DESCRIPTION:Practice: Corvallis Dental Group -- Seahawks
END:VALARM
END:VEVENT
BEGIN:VEVENT
UID:vls-59801546-20230914T181500@quickscores.com
DTSTAMP:20260421T052300Z
DTSTART;TZID=America/Los_Angeles:20230914T181500
DURATION:PT1H0M0S
SUMMARY:Practice: Corvallis Dental Group -- Seahawks
DESCRIPTION:7th/8th Grade - Valley League Sports
LOCATION:Linus Pauling Football Field
CATEGORIES:QuickScores, Flag Football Game
TRANSP:OPAQUE
BEGIN:VALARM
TRIGGER:-PT2H
ACTION:DISPLAY
DESCRIPTION:Practice: Corvallis Dental Group -- Seahawks
END:VALARM
END:VEVENT
BEGIN:VEVENT
UID:vls-59801587-20230918T181500@quickscores.com
DTSTAMP:20260421T052300Z
DTSTART;TZID=America/Los_Angeles:20230918T181500
DURATION:PT1H30M0S
SUMMARY:Practice: Corvallis Dental Group -- Seahawks
DESCRIPTION:7th/8th Grade - Valley League Sports
LOCATION:Linus Pauling Football Field
CATEGORIES:QuickScores, Flag Football Game
TRANSP:OPAQUE
BEGIN:VALARM
TRIGGER:-PT2H
ACTION:DISPLAY
DESCRIPTION:Practice: Corvallis Dental Group -- Seahawks
END:VALARM
END:VEVENT
BEGIN:VEVENT
UID:vls-59801594-20230919T181500@quickscores.com
DTSTAMP:20260421T052300Z
DTSTART;TZID=America/Los_Angeles:20230919T181500
DURATION:PT1H30M0S
SUMMARY:Practice: Corvallis Dental Group -- Seahawks
DESCRIPTION:7th/8th Grade - Valley League Sports
LOCATION:Linus Pauling Football Field
CATEGORIES:QuickScores, Flag Football Game
TRANSP:OPAQUE
BEGIN:VALARM
TRIGGER:-PT2H
ACTION:DISPLAY
DESCRIPTION:Practice: Corvallis Dental Group -- Seahawks
END:VALARM
END:VEVENT
BEGIN:VEVENT
UID:vls-59904120-20230919T184500@quickscores.com
DTSTAMP:20260421T052300Z
DTSTART;TZID=America/Los_Angeles:20230919T184500
DURATION:PT0H15M0S
SUMMARY:Practice: Corvallis Dental Group -- Seahawks
DESCRIPTION:Picture Night --- 7th/8th Grade - Valley League Sports
LOCATION:Johnson Teen Center West
CATEGORIES:QuickScores, Flag Football Game
TRANSP:OPAQUE
BEGIN:VALARM
TRIGGER:-PT2H
ACTION:DISPLAY
DESCRIPTION:Practice: Corvallis Dental Group -- Seahawks
END:VALARM
END:VEVENT
BEGIN:VEVENT
UID:vls-59801350-20230920T181500@quickscores.com
DTSTAMP:20260421T052300Z
DTSTART;TZID=America/Los_Angeles:20230920T181500
DURATION:PT1H15M0S
SUMMARY:Practice: Corvallis Dental Group -- Seahawks
DESCRIPTION:7th/8th Grade - Valley League Sports
LOCATION:Linus Pauling Football Field
CATEGORIES:QuickScores, Flag Football Game
TRANSP:OPAQUE
BEGIN:VALARM
TRIGGER:-PT2H
ACTION:DISPLAY
DESCRIPTION:Practice: Corvallis Dental Group -- Seahawks
END:VALARM
END:VEVENT
BEGIN:VEVENT
UID:vls-59801547-20230921T181500@quickscores.com
DTSTAMP:20260421T052300Z
DTSTART;TZID=America/Los_Angeles:20230921T181500
DURATION:PT1H0M0S
SUMMARY:Practice: Corvallis Dental Group -- Seahawks
DESCRIPTION:7th/8th Grade - Valley League Sports
LOCATION:Linus Pauling Football Field
CATEGORIES:QuickScores, Flag Football Game
TRANSP:OPAQUE
BEGIN:VALARM
TRIGGER:-PT2H
ACTION:DISPLAY
DESCRIPTION:Practice: Corvallis Dental Group -- Seahawks
END:VALARM
END:VEVENT
BEGIN:VEVENT
UID:vls-59904159-20230923T143000@quickscores.com
DTSTAMP:20260421T052300Z
DTSTART;TZID=America/Los_Angeles:20230923T143000
DURATION:PT1H0M0S
SUMMARY:Corvallis Dental Group -- Seahawks vs. Healing Motion -- Seahawks
DESCRIPTION:7th/8th Grade - Valley League Sports
LOCATION:Williams Field Corvallis #2
CATEGORIES:QuickScores, Flag Football Game
TRANSP:OPAQUE
BEGIN:VALARM
TRIGGER:-PT2H
ACTION:DISPLAY
DESCRIPTION:Corvallis Dental Group -- Seahawks vs. Healing Motion -- Seahawks
END:VALARM
END:VEVENT
BEGIN:VEVENT
UID:vls-59801588-20230925T181500@quickscores.com
DTSTAMP:20260421T052300Z
DTSTART;TZID=America/Los_Angeles:20230925T181500
DURATION:PT1H30M0S
SUMMARY:Practice: Corvallis Dental Group -- Seahawks
DESCRIPTION:7th/8th Grade - Valley League Sports
LOCATION:Linus Pauling Football Field
CATEGORIES:QuickScores, Flag Football Game
TRANSP:OPAQUE
BEGIN:VALARM
TRIGGER:-PT2H
ACTION:DISPLAY
DESCRIPTION:Practice: Corvallis Dental Group -- Seahawks
END:VALARM
END:VEVENT
BEGIN:VEVENT
UID:vls-59801595-20230926T181500@quickscores.com
DTSTAMP:20260421T052300Z
DTSTART;TZID=America/Los_Angeles:20230926T181500
DURATION:PT1H30M0S
SUMMARY:Practice: Corvallis Dental Group -- Seahawks
DESCRIPTION:7th/8th Grade - Valley League Sports
LOCATION:Linus Pauling Football Field
CATEGORIES:QuickScores, Flag Football Game
TRANSP:OPAQUE
BEGIN:VALARM
TRIGGER:-PT2H
ACTION:DISPLAY
DESCRIPTION:Practice: Corvallis Dental Group -- Seahawks
END:VALARM
END:VEVENT
BEGIN:VEVENT
UID:vls-59801351-20230927T181500@quickscores.com
DTSTAMP:20260421T052300Z
DTSTART;TZID=America/Los_Angeles:20230927T181500
DURATION:PT1H15M0S
SUMMARY:Practice: Corvallis Dental Group -- Seahawks
DESCRIPTION:7th/8th Grade - Valley League Sports
LOCATION:Linus Pauling Football Field
CATEGORIES:QuickScores, Flag Football Game
TRANSP:OPAQUE
BEGIN:VALARM
TRIGGER:-PT2H
ACTION:DISPLAY
DESCRIPTION:Practice: Corvallis Dental Group -- Seahawks
END:VALARM
END:VEVENT
BEGIN:VEVENT
UID:vls-59801548-20230928T181500@quickscores.com
DTSTAMP:20260421T052300Z
DTSTART;TZID=America/Los_Angeles:20230928T181500
DURATION:PT1H0M0S
SUMMARY:Practice: Corvallis Dental Group -- Seahawks
DESCRIPTION:7th/8th Grade - Valley League Sports
LOCATION:Linus Pauling Football Field
CATEGORIES:QuickScores, Flag Football Game
TRANSP:OPAQUE
BEGIN:VALARM
TRIGGER:-PT2H
ACTION:DISPLAY
DESCRIPTION:Practice: Corvallis Dental Group -- Seahawks
END:VALARM
END:VEVENT
BEGIN:VEVENT
UID:vls-59904160-20230930T143000@quickscores.com
DTSTAMP:20260421T052300Z
DTSTART;TZID=America/Los_Angeles:20230930T143000
DURATION:PT1H0M0S
SUMMARY:Healing Motion -- Seahawks vs. Corvallis Dental Group -- Seahawks
DESCRIPTION:7th/8th Grade - Valley League Sports
LOCATION:Williams Field Corvallis #1
CATEGORIES:QuickScores, Flag Football Game
TRANSP:OPAQUE
BEGIN:VALARM
TRIGGER:-PT2H
ACTION:DISPLAY
DESCRIPTION:Healing Motion -- Seahawks vs. Corvallis Dental Group -- Seahawks
END:VALARM
END:VEVENT
BEGIN:VEVENT
UID:vls-59801589-20231002T181500@quickscores.com
DTSTAMP:20260421T052300Z
DTSTART;TZID=America/Los_Angeles:20231002T181500
DURATION:PT1H30M0S
SUMMARY:Practice: Corvallis Dental Group -- Seahawks
DESCRIPTION:7th/8th Grade - Valley League Sports
LOCATION:Linus Pauling Football Field
CATEGORIES:QuickScores, Flag Football Game
TRANSP:OPAQUE
BEGIN:VALARM
TRIGGER:-PT2H
ACTION:DISPLAY
DESCRIPTION:Practice: Corvallis Dental Group -- Seahawks
END:VALARM
END:VEVENT
BEGIN:VEVENT
UID:vls-59801596-20231003T181500@quickscores.com
DTSTAMP:20260421T052300Z
DTSTART;TZID=America/Los_Angeles:20231003T181500
DURATION:PT1H30M0S
SUMMARY:Practice: Corvallis Dental Group -- Seahawks
DESCRIPTION:7th/8th Grade - Valley League Sports
LOCATION:Linus Pauling Football Field
CATEGORIES:QuickScores, Flag Football Game
TRANSP:OPAQUE
BEGIN:VALARM
TRIGGER:-PT2H
ACTION:DISPLAY
DESCRIPTION:Practice: Corvallis Dental Group -- Seahawks
END:VALARM
END:VEVENT
BEGIN:VEVENT
UID:vls-59931206-20231003T183000@quickscores.com
DTSTAMP:20260421T052300Z
DTSTART;TZID=America/Los_Angeles:20231003T183000
DURATION:PT1H0M0S
SUMMARY:Healing Motion -- Seahawks vs. Corvallis Dental Group -- Seahawks
DESCRIPTION:7th/8th Grade - Valley League Sports
LOCATION:Williams Field Corvallis #1
CATEGORIES:QuickScores, Flag Football Game
TRANSP:OPAQUE
BEGIN:VALARM
TRIGGER:-PT2H
ACTION:DISPLAY
DESCRIPTION:Healing Motion -- Seahawks vs. Corvallis Dental Group -- Seahawks
END:VALARM
END:VEVENT
BEGIN:VEVENT
UID:vls-59801352-20231004T181500@quickscores.com
DTSTAMP:20260421T052300Z
DTSTART;TZID=America/Los_Angeles:20231004T181500
DURATION:PT1H15M0S
SUMMARY:Practice: Corvallis Dental Group -- Seahawks
DESCRIPTION:7th/8th Grade - Valley League Sports
LOCATION:Linus Pauling Football Field
CATEGORIES:QuickScores, Flag Football Game
TRANSP:OPAQUE
BEGIN:VALARM
TRIGGER:-PT2H
ACTION:DISPLAY
DESCRIPTION:Practice: Corvallis Dental Group -- Seahawks
END:VALARM
END:VEVENT
BEGIN:VEVENT
UID:vls-59801549-20231005T181500@quickscores.com
DTSTAMP:20260421T052300Z
DTSTART;TZID=America/Los_Angeles:20231005T181500
DURATION:PT1H0M0S
SUMMARY:Practice: Corvallis Dental Group -- Seahawks
DESCRIPTION:7th/8th Grade - Valley League Sports
LOCATION:Linus Pauling Football Field
CATEGORIES:QuickScores, Flag Football Game
TRANSP:OPAQUE
BEGIN:VALARM
TRIGGER:-PT2H
ACTION:DISPLAY
DESCRIPTION:Practice: Corvallis Dental Group -- Seahawks
END:VALARM
END:VEVENT
BEGIN:VEVENT
UID:vls-59904161-20231007T153000@quickscores.com
DTSTAMP:20260421T052300Z
DTSTART;TZID=America/Los_Angeles:20231007T153000
DURATION:PT1H0M0S
SUMMARY:Corvallis Dental Group -- Seahawks vs. Healing Motion -- Seahawks
DESCRIPTION:7th/8th Grade - Valley League Sports
LOCATION:Williams Field Corvallis #1
CATEGORIES:QuickScores, Flag Football Game
TRANSP:OPAQUE
BEGIN:VALARM
TRIGGER:-PT2H
ACTION:DISPLAY
DESCRIPTION:Corvallis Dental Group -- Seahawks vs. Healing Motion -- Seahawks
END:VALARM
END:VEVENT
BEGIN:VEVENT
UID:vls-59801590-20231009T181500@quickscores.com
DTSTAMP:20260421T052300Z
DTSTART;TZID=America/Los_Angeles:20231009T181500
DURATION:PT1H30M0S
SUMMARY:Practice: Corvallis Dental Group -- Seahawks
DESCRIPTION:7th/8th Grade - Valley League Sports
LOCATION:Linus Pauling Football Field
CATEGORIES:QuickScores, Flag Football Game
TRANSP:OPAQUE
BEGIN:VALARM
TRIGGER:-PT2H
ACTION:DISPLAY
DESCRIPTION:Practice: Corvallis Dental Group -- Seahawks
END:VALARM
END:VEVENT
BEGIN:VEVENT
UID:vls-59856438-20231010T193000@quickscores.com
DTSTAMP:20260421T052300Z
DTSTART;TZID=America/Los_Angeles:20231010T193000
DURATION:PT1H0M0S
SUMMARY:Corvallis Dental Group -- Seahawks vs. Healing Motion -- Seahawks
DESCRIPTION:7th/8th Grade - Valley League Sports
LOCATION:Williams Field Corvallis #1
CATEGORIES:QuickScores, Flag Football Game
TRANSP:OPAQUE
BEGIN:VALARM
TRIGGER:-PT2H
ACTION:DISPLAY
DESCRIPTION:Corvallis Dental Group -- Seahawks vs. Healing Motion -- Seahawks
END:VALARM
END:VEVENT
BEGIN:VEVENT
UID:vls-59898093-20231011T193000@quickscores.com
DTSTAMP:20260421T052300Z
DTSTART;TZID=America/Los_Angeles:20231011T193000
DURATION:PT1H0M0S
SUMMARY:Healing Motion -- Seahawks vs. Corvallis Dental Group -- Seahawks
DESCRIPTION:7th/8th Grade - Valley League Sports
LOCATION:Williams Field Corvallis #1
CATEGORIES:QuickScores, Flag Football Game
TRANSP:OPAQUE
BEGIN:VALARM
TRIGGER:-PT2H
ACTION:DISPLAY
DESCRIPTION:Healing Motion -- Seahawks vs. Corvallis Dental Group -- Seahawks
END:VALARM
END:VEVENT
BEGIN:VEVENT
UID:vls-59801550-20231012T181500@quickscores.com
DTSTAMP:20260421T052300Z
DTSTART;TZID=America/Los_Angeles:20231012T181500
DURATION:PT1H0M0S
SUMMARY:Practice: Corvallis Dental Group -- Seahawks
DESCRIPTION:7th/8th Grade - Valley League Sports
LOCATION:Linus Pauling Football Field
CATEGORIES:QuickScores, Flag Football Game
TRANSP:OPAQUE
BEGIN:VALARM
TRIGGER:-PT2H
ACTION:DISPLAY
DESCRIPTION:Practice: Corvallis Dental Group -- Seahawks
END:VALARM
END:VEVENT
BEGIN:VEVENT
UID:vls-59801591-20231016T181500@quickscores.com
DTSTAMP:20260421T052300Z
DTSTART;TZID=America/Los_Angeles:20231016T181500
DURATION:PT1H30M0S
SUMMARY:Practice: Corvallis Dental Group -- Seahawks
DESCRIPTION:7th/8th Grade - Valley League Sports
LOCATION:Linus Pauling Football Field
CATEGORIES:QuickScores, Flag Football Game
TRANSP:OPAQUE
BEGIN:VALARM
TRIGGER:-PT2H
ACTION:DISPLAY
DESCRIPTION:Practice: Corvallis Dental Group -- Seahawks
END:VALARM
END:VEVENT
BEGIN:VEVENT
UID:vls-59856439-20231017T193000@quickscores.com
DTSTAMP:20260421T052300Z
DTSTART;TZID=America/Los_Angeles:20231017T193000
DURATION:PT1H0M0S
SUMMARY:Corvallis Dental Group -- Seahawks vs. Healing Motion -- Seahawks
DESCRIPTION:7th/8th Grade - Valley League Sports
LOCATION:Williams Field Corvallis #1
CATEGORIES:QuickScores, Flag Football Game
TRANSP:OPAQUE
BEGIN:VALARM
TRIGGER:-PT2H
ACTION:DISPLAY
DESCRIPTION:Corvallis Dental Group -- Seahawks vs. Healing Motion -- Seahawks
END:VALARM
END:VEVENT
BEGIN:VEVENT
UID:vls-59898094-20231018T193000@quickscores.com
DTSTAMP:20260421T052300Z
DTSTART;TZID=America/Los_Angeles:20231018T193000
DURATION:PT1H0M0S
SUMMARY:Corvallis Dental Group -- Seahawks vs. Healing Motion -- Seahawks
DESCRIPTION:7th/8th Grade - Valley League Sports
LOCATION:Williams Field Corvallis #1
CATEGORIES:QuickScores, Flag Football Game
TRANSP:OPAQUE
BEGIN:VALARM
TRIGGER:-PT2H
ACTION:DISPLAY
DESCRIPTION:Corvallis Dental Group -- Seahawks vs. Healing Motion -- Seahawks
END:VALARM
END:VEVENT
BEGIN:VEVENT
UID:vls-59801551-20231019T181500@quickscores.com
DTSTAMP:20260421T052300Z
DTSTART;TZID=America/Los_Angeles:20231019T181500
DURATION:PT1H0M0S
SUMMARY:Practice: Corvallis Dental Group -- Seahawks
DESCRIPTION:7th/8th Grade - Valley League Sports
LOCATION:Linus Pauling Football Field
CATEGORIES:QuickScores, Flag Football Game
TRANSP:OPAQUE
BEGIN:VALARM
TRIGGER:-PT2H
ACTION:DISPLAY
DESCRIPTION:Practice: Corvallis Dental Group -- Seahawks
END:VALARM
END:VEVENT
BEGIN:VEVENT
UID:vls-59904162-20231021T133000@quickscores.com
DTSTAMP:20260421T052300Z
DTSTART;TZID=America/Los_Angeles:20231021T133000
DURATION:PT1H0M0S
SUMMARY:Healing Motion -- Seahawks vs. Corvallis Dental Group -- Seahawks
DESCRIPTION:7th/8th Grade - Valley League Sports
LOCATION:Williams Field Corvallis #1
CATEGORIES:QuickScores, Flag Football Game
TRANSP:OPAQUE
BEGIN:VALARM
TRIGGER:-PT2H
ACTION:DISPLAY
DESCRIPTION:Healing Motion -- Seahawks vs. Corvallis Dental Group -- Seahawks
END:VALARM
END:VEVENT
END:VCALENDAR
