BEGIN:VCALENDAR
VERSION:2.0
PRODID:-//QuickScores.com//BQ Dynamic iCal Creator//EN
METHOD:PUBLISH
X-WR-CALNAME:Healing Motion -- Seahawks - 7th/8th Grade - Fall 2023
X-WR-CALDESC:QuickScores game calendar
X-PUBLISHED-TTL:PT24H
REFRESH-INTERVAL;VALUE=DURATION:PT24H
CALSCALE:GREGORIAN
BEGIN:VTIMEZONE
TZID:America/Los_Angeles
X-LIC-LOCATION:America/Los_Angeles
BEGIN:DAYLIGHT
TZNAME:PDT
TZOFFSETFROM:-0800
TZOFFSETTO:-0700
DTSTART:19700308T020000
RRULE:FREQ=YEARLY;BYMONTH=3;BYDAY=2SU
END:DAYLIGHT
BEGIN:STANDARD
TZNAME:PST
TZOFFSETFROM:-0700
TZOFFSETTO:-0800
DTSTART:19701101T020000
RRULE:FREQ=YEARLY;BYMONTH=11;BYDAY=1SU
END:STANDARD
END:VTIMEZONE
BEGIN:VEVENT
UID:vls-59801553-20230906T181500@quickscores.com
DTSTAMP:20260421T102400Z
DTSTART;TZID=America/Los_Angeles:20230906T181500
DURATION:PT1H0M0S
SUMMARY:Practice: Healing Motion -- Seahawks vs. Corvallis Dental Group -- Seahawks
DESCRIPTION:NO PRACTICE TONIGHT!!! --- 7th/8th Grade - Valley League Sports
LOCATION:Linus Pauling Football Field
CATEGORIES:QuickScores, Flag Football Game
TRANSP:OPAQUE
BEGIN:VALARM
TRIGGER:-PT2H
ACTION:DISPLAY
DESCRIPTION:Practice: Healing Motion -- Seahawks vs. Corvallis Dental Group -- Seahawks
END:VALARM
END:VEVENT
BEGIN:VEVENT
UID:vls-59801545-20230907T181500@quickscores.com
DTSTAMP:20260421T102400Z
DTSTART;TZID=America/Los_Angeles:20230907T181500
DURATION:PT1H0M0S
SUMMARY:Practice: Corvallis Dental Group -- Seahawks vs. Healing Motion -- Seahawks
DESCRIPTION:7th/8th Grade - Valley League Sports
LOCATION:Linus Pauling Football Field
CATEGORIES:QuickScores, Flag Football Game
TRANSP:OPAQUE
BEGIN:VALARM
TRIGGER:-PT2H
ACTION:DISPLAY
DESCRIPTION:Practice: Corvallis Dental Group -- Seahawks vs. Healing Motion -- Seahawks
END:VALARM
END:VEVENT
BEGIN:VEVENT
UID:vls-59801586-20230911T181500@quickscores.com
DTSTAMP:20260421T102400Z
DTSTART;TZID=America/Los_Angeles:20230911T181500
DURATION:PT1H30M0S
SUMMARY:Practice: Corvallis Dental Group -- Seahawks vs. Healing Motion -- Seahawks
DESCRIPTION:7th/8th Grade - Valley League Sports
LOCATION:Linus Pauling Football Field
CATEGORIES:QuickScores, Flag Football Game
TRANSP:OPAQUE
BEGIN:VALARM
TRIGGER:-PT2H
ACTION:DISPLAY
DESCRIPTION:Practice: Corvallis Dental Group -- Seahawks vs. Healing Motion -- Seahawks
END:VALARM
END:VEVENT
BEGIN:VEVENT
UID:vls-59922199-20230914T154500@quickscores.com
DTSTAMP:20260421T102400Z
DTSTART;TZID=America/Los_Angeles:20230914T154500
DURATION:PT1H30M0S
SUMMARY:Practice: Healing Motion -- Seahawks
DESCRIPTION:7th/8th Grade - Valley League Sports
LOCATION:Linus Pauling Practice Field A
CATEGORIES:QuickScores, Flag Football Game
TRANSP:OPAQUE
BEGIN:VALARM
TRIGGER:-PT2H
ACTION:DISPLAY
DESCRIPTION:Practice: Healing Motion -- Seahawks
END:VALARM
END:VEVENT
BEGIN:VEVENT
UID:vls-59926384-20230915T150000@quickscores.com
DTSTAMP:20260421T102400Z
DTSTART;TZID=America/Los_Angeles:20230915T150000
DURATION:PT2H0M0S
SUMMARY:Practice: Healing Motion -- Seahawks
DESCRIPTION:7th/8th Grade - Valley League Sports
LOCATION:Linus Pauling Practice Field A
CATEGORIES:QuickScores, Flag Football Game
TRANSP:OPAQUE
BEGIN:VALARM
TRIGGER:-PT2H
ACTION:DISPLAY
DESCRIPTION:Practice: Healing Motion -- Seahawks
END:VALARM
END:VEVENT
BEGIN:VEVENT
UID:vls-59922205-20230918T154500@quickscores.com
DTSTAMP:20260421T102400Z
DTSTART;TZID=America/Los_Angeles:20230918T154500
DURATION:PT1H30M0S
SUMMARY:Practice: Healing Motion -- Seahawks
DESCRIPTION:7th/8th Grade - Valley League Sports
LOCATION:Linus Pauling Practice Field A
CATEGORIES:QuickScores, Flag Football Game
TRANSP:OPAQUE
BEGIN:VALARM
TRIGGER:-PT2H
ACTION:DISPLAY
DESCRIPTION:Practice: Healing Motion -- Seahawks
END:VALARM
END:VEVENT
BEGIN:VEVENT
UID:vls-59904121-20230919T190000@quickscores.com
DTSTAMP:20260421T102400Z
DTSTART;TZID=America/Los_Angeles:20230919T190000
DURATION:PT0H15M0S
SUMMARY:Practice: Healing Motion -- Seahawks
DESCRIPTION:Picture Night --- 7th/8th Grade - Valley League Sports
LOCATION:Johnson Teen Center West
CATEGORIES:QuickScores, Flag Football Game
TRANSP:OPAQUE
BEGIN:VALARM
TRIGGER:-PT2H
ACTION:DISPLAY
DESCRIPTION:Practice: Healing Motion -- Seahawks
END:VALARM
END:VEVENT
BEGIN:VEVENT
UID:vls-59926475-20230921T154500@quickscores.com
DTSTAMP:20260421T102400Z
DTSTART;TZID=America/Los_Angeles:20230921T154500
DURATION:PT1H30M0S
SUMMARY:Practice: Healing Motion -- Seahawks
DESCRIPTION:7th/8th Grade - Valley League Sports
LOCATION:Linus Pauling Football Field
CATEGORIES:QuickScores, Flag Football Game
TRANSP:OPAQUE
BEGIN:VALARM
TRIGGER:-PT2H
ACTION:DISPLAY
DESCRIPTION:Practice: Healing Motion -- Seahawks
END:VALARM
END:VEVENT
BEGIN:VEVENT
UID:vls-59926385-20230922T150000@quickscores.com
DTSTAMP:20260421T102400Z
DTSTART;TZID=America/Los_Angeles:20230922T150000
DURATION:PT2H0M0S
SUMMARY:Practice: Healing Motion -- Seahawks
DESCRIPTION:7th/8th Grade - Valley League Sports
LOCATION:Linus Pauling Practice Field A
CATEGORIES:QuickScores, Flag Football Game
TRANSP:OPAQUE
BEGIN:VALARM
TRIGGER:-PT2H
ACTION:DISPLAY
DESCRIPTION:Practice: Healing Motion -- Seahawks
END:VALARM
END:VEVENT
BEGIN:VEVENT
UID:vls-59904159-20230923T143000@quickscores.com
DTSTAMP:20260421T102400Z
DTSTART;TZID=America/Los_Angeles:20230923T143000
DURATION:PT1H0M0S
SUMMARY:Corvallis Dental Group -- Seahawks vs. Healing Motion -- Seahawks
DESCRIPTION:7th/8th Grade - Valley League Sports
LOCATION:Williams Field Corvallis #2
CATEGORIES:QuickScores, Flag Football Game
TRANSP:OPAQUE
BEGIN:VALARM
TRIGGER:-PT2H
ACTION:DISPLAY
DESCRIPTION:Corvallis Dental Group -- Seahawks vs. Healing Motion -- Seahawks
END:VALARM
END:VEVENT
BEGIN:VEVENT
UID:vls-59922201-20230925T154500@quickscores.com
DTSTAMP:20260421T102400Z
DTSTART;TZID=America/Los_Angeles:20230925T154500
DURATION:PT1H30M0S
SUMMARY:Practice: Healing Motion -- Seahawks
DESCRIPTION:7th/8th Grade - Valley League Sports
LOCATION:Linus Pauling Practice Field A
CATEGORIES:QuickScores, Flag Football Game
TRANSP:OPAQUE
BEGIN:VALARM
TRIGGER:-PT2H
ACTION:DISPLAY
DESCRIPTION:Practice: Healing Motion -- Seahawks
END:VALARM
END:VEVENT
BEGIN:VEVENT
UID:vls-59922207-20230928T154500@quickscores.com
DTSTAMP:20260421T102400Z
DTSTART;TZID=America/Los_Angeles:20230928T154500
DURATION:PT1H30M0S
SUMMARY:Practice: Healing Motion -- Seahawks
DESCRIPTION:7th/8th Grade - Valley League Sports
LOCATION:Linus Pauling Practice Field A
CATEGORIES:QuickScores, Flag Football Game
TRANSP:OPAQUE
BEGIN:VALARM
TRIGGER:-PT2H
ACTION:DISPLAY
DESCRIPTION:Practice: Healing Motion -- Seahawks
END:VALARM
END:VEVENT
BEGIN:VEVENT
UID:vls-59926386-20230929T150000@quickscores.com
DTSTAMP:20260421T102400Z
DTSTART;TZID=America/Los_Angeles:20230929T150000
DURATION:PT2H0M0S
SUMMARY:Practice: Healing Motion -- Seahawks
DESCRIPTION:7th/8th Grade - Valley League Sports
LOCATION:Linus Pauling Practice Field A
CATEGORIES:QuickScores, Flag Football Game
TRANSP:OPAQUE
BEGIN:VALARM
TRIGGER:-PT2H
ACTION:DISPLAY
DESCRIPTION:Practice: Healing Motion -- Seahawks
END:VALARM
END:VEVENT
BEGIN:VEVENT
UID:vls-59904160-20230930T143000@quickscores.com
DTSTAMP:20260421T102400Z
DTSTART;TZID=America/Los_Angeles:20230930T143000
DURATION:PT1H0M0S
SUMMARY:Healing Motion -- Seahawks vs. Corvallis Dental Group -- Seahawks
DESCRIPTION:7th/8th Grade - Valley League Sports
LOCATION:Williams Field Corvallis #1
CATEGORIES:QuickScores, Flag Football Game
TRANSP:OPAQUE
BEGIN:VALARM
TRIGGER:-PT2H
ACTION:DISPLAY
DESCRIPTION:Healing Motion -- Seahawks vs. Corvallis Dental Group -- Seahawks
END:VALARM
END:VEVENT
BEGIN:VEVENT
UID:vls-59922208-20231002T154500@quickscores.com
DTSTAMP:20260421T102400Z
DTSTART;TZID=America/Los_Angeles:20231002T154500
DURATION:PT1H30M0S
SUMMARY:Practice: Healing Motion -- Seahawks
DESCRIPTION:7th/8th Grade - Valley League Sports
LOCATION:Linus Pauling Practice Field A
CATEGORIES:QuickScores, Flag Football Game
TRANSP:OPAQUE
BEGIN:VALARM
TRIGGER:-PT2H
ACTION:DISPLAY
DESCRIPTION:Practice: Healing Motion -- Seahawks
END:VALARM
END:VEVENT
BEGIN:VEVENT
UID:vls-59931206-20231003T183000@quickscores.com
DTSTAMP:20260421T102400Z
DTSTART;TZID=America/Los_Angeles:20231003T183000
DURATION:PT1H0M0S
SUMMARY:Healing Motion -- Seahawks vs. Corvallis Dental Group -- Seahawks
DESCRIPTION:7th/8th Grade - Valley League Sports
LOCATION:Williams Field Corvallis #1
CATEGORIES:QuickScores, Flag Football Game
TRANSP:OPAQUE
BEGIN:VALARM
TRIGGER:-PT2H
ACTION:DISPLAY
DESCRIPTION:Healing Motion -- Seahawks vs. Corvallis Dental Group -- Seahawks
END:VALARM
END:VEVENT
BEGIN:VEVENT
UID:vls-59922202-20231005T154500@quickscores.com
DTSTAMP:20260421T102400Z
DTSTART;TZID=America/Los_Angeles:20231005T154500
DURATION:PT1H30M0S
SUMMARY:Practice: Healing Motion -- Seahawks
DESCRIPTION:7th/8th Grade - Valley League Sports
LOCATION:Linus Pauling Practice Field A
CATEGORIES:QuickScores, Flag Football Game
TRANSP:OPAQUE
BEGIN:VALARM
TRIGGER:-PT2H
ACTION:DISPLAY
DESCRIPTION:Practice: Healing Motion -- Seahawks
END:VALARM
END:VEVENT
BEGIN:VEVENT
UID:vls-59926387-20231006T150000@quickscores.com
DTSTAMP:20260421T102400Z
DTSTART;TZID=America/Los_Angeles:20231006T150000
DURATION:PT2H0M0S
SUMMARY:Practice: Healing Motion -- Seahawks
DESCRIPTION:7th/8th Grade - Valley League Sports
LOCATION:Linus Pauling Practice Field A
CATEGORIES:QuickScores, Flag Football Game
TRANSP:OPAQUE
BEGIN:VALARM
TRIGGER:-PT2H
ACTION:DISPLAY
DESCRIPTION:Practice: Healing Motion -- Seahawks
END:VALARM
END:VEVENT
BEGIN:VEVENT
UID:vls-59904161-20231007T153000@quickscores.com
DTSTAMP:20260421T102400Z
DTSTART;TZID=America/Los_Angeles:20231007T153000
DURATION:PT1H0M0S
SUMMARY:Corvallis Dental Group -- Seahawks vs. Healing Motion -- Seahawks
DESCRIPTION:7th/8th Grade - Valley League Sports
LOCATION:Williams Field Corvallis #1
CATEGORIES:QuickScores, Flag Football Game
TRANSP:OPAQUE
BEGIN:VALARM
TRIGGER:-PT2H
ACTION:DISPLAY
DESCRIPTION:Corvallis Dental Group -- Seahawks vs. Healing Motion -- Seahawks
END:VALARM
END:VEVENT
BEGIN:VEVENT
UID:vls-59922209-20231009T154500@quickscores.com
DTSTAMP:20260421T102400Z
DTSTART;TZID=America/Los_Angeles:20231009T154500
DURATION:PT1H30M0S
SUMMARY:Practice: Healing Motion -- Seahawks
DESCRIPTION:7th/8th Grade - Valley League Sports
LOCATION:Linus Pauling Practice Field A
CATEGORIES:QuickScores, Flag Football Game
TRANSP:OPAQUE
BEGIN:VALARM
TRIGGER:-PT2H
ACTION:DISPLAY
DESCRIPTION:Practice: Healing Motion -- Seahawks
END:VALARM
END:VEVENT
BEGIN:VEVENT
UID:vls-59856438-20231010T193000@quickscores.com
DTSTAMP:20260421T102400Z
DTSTART;TZID=America/Los_Angeles:20231010T193000
DURATION:PT1H0M0S
SUMMARY:Corvallis Dental Group -- Seahawks vs. Healing Motion -- Seahawks
DESCRIPTION:7th/8th Grade - Valley League Sports
LOCATION:Williams Field Corvallis #1
CATEGORIES:QuickScores, Flag Football Game
TRANSP:OPAQUE
BEGIN:VALARM
TRIGGER:-PT2H
ACTION:DISPLAY
DESCRIPTION:Corvallis Dental Group -- Seahawks vs. Healing Motion -- Seahawks
END:VALARM
END:VEVENT
BEGIN:VEVENT
UID:vls-59898093-20231011T193000@quickscores.com
DTSTAMP:20260421T102400Z
DTSTART;TZID=America/Los_Angeles:20231011T193000
DURATION:PT1H0M0S
SUMMARY:Healing Motion -- Seahawks vs. Corvallis Dental Group -- Seahawks
DESCRIPTION:7th/8th Grade - Valley League Sports
LOCATION:Williams Field Corvallis #1
CATEGORIES:QuickScores, Flag Football Game
TRANSP:OPAQUE
BEGIN:VALARM
TRIGGER:-PT2H
ACTION:DISPLAY
DESCRIPTION:Healing Motion -- Seahawks vs. Corvallis Dental Group -- Seahawks
END:VALARM
END:VEVENT
BEGIN:VEVENT
UID:vls-59922203-20231012T154500@quickscores.com
DTSTAMP:20260421T102400Z
DTSTART;TZID=America/Los_Angeles:20231012T154500
DURATION:PT1H30M0S
SUMMARY:Practice: Healing Motion -- Seahawks
DESCRIPTION:7th/8th Grade - Valley League Sports
LOCATION:Linus Pauling Practice Field A
CATEGORIES:QuickScores, Flag Football Game
TRANSP:OPAQUE
BEGIN:VALARM
TRIGGER:-PT2H
ACTION:DISPLAY
DESCRIPTION:Practice: Healing Motion -- Seahawks
END:VALARM
END:VEVENT
BEGIN:VEVENT
UID:vls-59926388-20231013T150000@quickscores.com
DTSTAMP:20260421T102400Z
DTSTART;TZID=America/Los_Angeles:20231013T150000
DURATION:PT2H0M0S
SUMMARY:Practice: Healing Motion -- Seahawks
DESCRIPTION:7th/8th Grade - Valley League Sports
LOCATION:Linus Pauling Practice Field A
CATEGORIES:QuickScores, Flag Football Game
TRANSP:OPAQUE
BEGIN:VALARM
TRIGGER:-PT2H
ACTION:DISPLAY
DESCRIPTION:Practice: Healing Motion -- Seahawks
END:VALARM
END:VEVENT
BEGIN:VEVENT
UID:vls-59922206-20231016T154500@quickscores.com
DTSTAMP:20260421T102400Z
DTSTART;TZID=America/Los_Angeles:20231016T154500
DURATION:PT1H30M0S
SUMMARY:Practice: Healing Motion -- Seahawks
DESCRIPTION:7th/8th Grade - Valley League Sports
LOCATION:Linus Pauling Practice Field A
CATEGORIES:QuickScores, Flag Football Game
TRANSP:OPAQUE
BEGIN:VALARM
TRIGGER:-PT2H
ACTION:DISPLAY
DESCRIPTION:Practice: Healing Motion -- Seahawks
END:VALARM
END:VEVENT
BEGIN:VEVENT
UID:vls-59856439-20231017T193000@quickscores.com
DTSTAMP:20260421T102400Z
DTSTART;TZID=America/Los_Angeles:20231017T193000
DURATION:PT1H0M0S
SUMMARY:Corvallis Dental Group -- Seahawks vs. Healing Motion -- Seahawks
DESCRIPTION:7th/8th Grade - Valley League Sports
LOCATION:Williams Field Corvallis #1
CATEGORIES:QuickScores, Flag Football Game
TRANSP:OPAQUE
BEGIN:VALARM
TRIGGER:-PT2H
ACTION:DISPLAY
DESCRIPTION:Corvallis Dental Group -- Seahawks vs. Healing Motion -- Seahawks
END:VALARM
END:VEVENT
BEGIN:VEVENT
UID:vls-59898094-20231018T193000@quickscores.com
DTSTAMP:20260421T102400Z
DTSTART;TZID=America/Los_Angeles:20231018T193000
DURATION:PT1H0M0S
SUMMARY:Corvallis Dental Group -- Seahawks vs. Healing Motion -- Seahawks
DESCRIPTION:7th/8th Grade - Valley League Sports
LOCATION:Williams Field Corvallis #1
CATEGORIES:QuickScores, Flag Football Game
TRANSP:OPAQUE
BEGIN:VALARM
TRIGGER:-PT2H
ACTION:DISPLAY
DESCRIPTION:Corvallis Dental Group -- Seahawks vs. Healing Motion -- Seahawks
END:VALARM
END:VEVENT
BEGIN:VEVENT
UID:vls-59922204-20231019T154500@quickscores.com
DTSTAMP:20260421T102400Z
DTSTART;TZID=America/Los_Angeles:20231019T154500
DURATION:PT1H30M0S
SUMMARY:Practice: Healing Motion -- Seahawks
DESCRIPTION:7th/8th Grade - Valley League Sports
LOCATION:Linus Pauling Practice Field A
CATEGORIES:QuickScores, Flag Football Game
TRANSP:OPAQUE
BEGIN:VALARM
TRIGGER:-PT2H
ACTION:DISPLAY
DESCRIPTION:Practice: Healing Motion -- Seahawks
END:VALARM
END:VEVENT
BEGIN:VEVENT
UID:vls-59926476-20231020T150000@quickscores.com
DTSTAMP:20260421T102400Z
DTSTART;TZID=America/Los_Angeles:20231020T150000
DURATION:PT2H0M0S
SUMMARY:Practice: Healing Motion -- Seahawks
DESCRIPTION:7th/8th Grade - Valley League Sports
LOCATION:Linus Pauling Football Field
CATEGORIES:QuickScores, Flag Football Game
TRANSP:OPAQUE
BEGIN:VALARM
TRIGGER:-PT2H
ACTION:DISPLAY
DESCRIPTION:Practice: Healing Motion -- Seahawks
END:VALARM
END:VEVENT
BEGIN:VEVENT
UID:vls-59904162-20231021T133000@quickscores.com
DTSTAMP:20260421T102400Z
DTSTART;TZID=America/Los_Angeles:20231021T133000
DURATION:PT1H0M0S
SUMMARY:Healing Motion -- Seahawks vs. Corvallis Dental Group -- Seahawks
DESCRIPTION:7th/8th Grade - Valley League Sports
LOCATION:Williams Field Corvallis #1
CATEGORIES:QuickScores, Flag Football Game
TRANSP:OPAQUE
BEGIN:VALARM
TRIGGER:-PT2H
ACTION:DISPLAY
DESCRIPTION:Healing Motion -- Seahawks vs. Corvallis Dental Group -- Seahawks
END:VALARM
END:VEVENT
END:VCALENDAR
