BEGIN:VCALENDAR
VERSION:2.0
PRODID:-//QuickScores.com//BQ Dynamic iCal Creator//EN
METHOD:PUBLISH
X-WR-CALNAME:Broncos -- Fielder - 5th/6th Grade - Fall 2023
X-WR-CALDESC:QuickScores game calendar
X-PUBLISHED-TTL:PT24H
REFRESH-INTERVAL;VALUE=DURATION:PT24H
CALSCALE:GREGORIAN
BEGIN:VTIMEZONE
TZID:America/Los_Angeles
X-LIC-LOCATION:America/Los_Angeles
BEGIN:DAYLIGHT
TZNAME:PDT
TZOFFSETFROM:-0800
TZOFFSETTO:-0700
DTSTART:19700308T020000
RRULE:FREQ=YEARLY;BYMONTH=3;BYDAY=2SU
END:DAYLIGHT
BEGIN:STANDARD
TZNAME:PST
TZOFFSETFROM:-0700
TZOFFSETTO:-0800
DTSTART:19701101T020000
RRULE:FREQ=YEARLY;BYMONTH=11;BYDAY=1SU
END:STANDARD
END:VTIMEZONE
BEGIN:VEVENT
UID:vls-59697053-20230916T093000@quickscores.com
DTSTAMP:20260425T202600Z
DTSTART;TZID=America/Los_Angeles:20230916T093000
DURATION:PT0H30M0S
SUMMARY:Hendrix Heating -- Ravens vs. Broncos -- Fielder
DESCRIPTION:Jamboree!! 1 20 minute half --- 5th/6th Grade - Valley League Sports
LOCATION:Williams Field Corvallis #1
CATEGORIES:QuickScores, Flag Football Game
TRANSP:OPAQUE
BEGIN:VALARM
TRIGGER:-PT2H
ACTION:DISPLAY
DESCRIPTION:Hendrix Heating -- Ravens vs. Broncos -- Fielder
END:VALARM
END:VEVENT
BEGIN:VEVENT
UID:vls-59697055-20230916T100000@quickscores.com
DTSTAMP:20260425T202600Z
DTSTART;TZID=America/Los_Angeles:20230916T100000
DURATION:PT0H30M0S
SUMMARY:Broncos -- Fielder vs. Valley Eye Care -- Falcons
DESCRIPTION:Jamboree!! 1 20 minute half --- 5th/6th Grade - Valley League Sports
LOCATION:Williams Field Corvallis #2
CATEGORIES:QuickScores, Flag Football Game
TRANSP:OPAQUE
BEGIN:VALARM
TRIGGER:-PT2H
ACTION:DISPLAY
DESCRIPTION:Broncos -- Fielder vs. Valley Eye Care -- Falcons
END:VALARM
END:VEVENT
BEGIN:VEVENT
UID:vls-59838904-20230923T103000@quickscores.com
DTSTAMP:20260425T202600Z
DTSTART;TZID=America/Los_Angeles:20230923T103000
DURATION:PT1H0M0S
SUMMARY:Broncos -- Fielder vs. Sweet Home - Packers
DESCRIPTION:5th/6th Grade - Valley League Sports
LOCATION:Williams Field Corvallis #1
CATEGORIES:QuickScores, Flag Football Game
TRANSP:OPAQUE
BEGIN:VALARM
TRIGGER:-PT2H
ACTION:DISPLAY
DESCRIPTION:Broncos -- Fielder vs. Sweet Home - Packers
END:VALARM
END:VEVENT
BEGIN:VEVENT
UID:vls-59838908-20230923T113000@quickscores.com
DTSTAMP:20260425T202600Z
DTSTART;TZID=America/Los_Angeles:20230923T113000
DURATION:PT1H0M0S
SUMMARY:Pacific Power -- Eagles vs. Broncos -- Fielder
DESCRIPTION:5th/6th Grade - Valley League Sports
LOCATION:Williams Field Corvallis #2
CATEGORIES:QuickScores, Flag Football Game
TRANSP:OPAQUE
BEGIN:VALARM
TRIGGER:-PT2H
ACTION:DISPLAY
DESCRIPTION:Pacific Power -- Eagles vs. Broncos -- Fielder
END:VALARM
END:VEVENT
BEGIN:VEVENT
UID:vls-59845610-20230930T103000@quickscores.com
DTSTAMP:20260425T202600Z
DTSTART;TZID=America/Los_Angeles:20230930T103000
DURATION:PT1H0M0S
SUMMARY:Broncos -- Fielder vs. Valley Eye Care -- Falcons
DESCRIPTION:5th/6th Grade - Valley League Sports
LOCATION:Williams Field Corvallis #1
CATEGORIES:QuickScores, Flag Football Game
TRANSP:OPAQUE
BEGIN:VALARM
TRIGGER:-PT2H
ACTION:DISPLAY
DESCRIPTION:Broncos -- Fielder vs. Valley Eye Care -- Falcons
END:VALARM
END:VEVENT
BEGIN:VEVENT
UID:vls-59845614-20230930T123000@quickscores.com
DTSTAMP:20260425T202600Z
DTSTART;TZID=America/Los_Angeles:20230930T123000
DURATION:PT1H0M0S
SUMMARY:CYS Seahawks vs. Broncos -- Fielder
DESCRIPTION:5th/6th Grade - Valley League Sports
LOCATION:Williams Field Corvallis #1
CATEGORIES:QuickScores, Flag Football Game
TRANSP:OPAQUE
BEGIN:VALARM
TRIGGER:-PT2H
ACTION:DISPLAY
DESCRIPTION:CYS Seahawks vs. Broncos -- Fielder
END:VALARM
END:VEVENT
BEGIN:VEVENT
UID:vls-59845618-20231007T133000@quickscores.com
DTSTAMP:20260425T202600Z
DTSTART;TZID=America/Los_Angeles:20231007T133000
DURATION:PT1H0M0S
SUMMARY:Broncos -- Fielder vs. Valley Eye Care -- Falcons
DESCRIPTION:5th/6th Grade - Valley League Sports
LOCATION:Williams Field Corvallis #1
CATEGORIES:QuickScores, Flag Football Game
TRANSP:OPAQUE
BEGIN:VALARM
TRIGGER:-PT2H
ACTION:DISPLAY
DESCRIPTION:Broncos -- Fielder vs. Valley Eye Care -- Falcons
END:VALARM
END:VEVENT
BEGIN:VEVENT
UID:vls-59845621-20231007T143000@quickscores.com
DTSTAMP:20260425T202600Z
DTSTART;TZID=America/Los_Angeles:20231007T143000
DURATION:PT1H0M0S
SUMMARY:Wilson Motors -- Cardinals vs. Broncos -- Fielder
DESCRIPTION:5th/6th Grade - Valley League Sports
LOCATION:Williams Field Corvallis #2
CATEGORIES:QuickScores, Flag Football Game
TRANSP:OPAQUE
BEGIN:VALARM
TRIGGER:-PT2H
ACTION:DISPLAY
DESCRIPTION:Wilson Motors -- Cardinals vs. Broncos -- Fielder
END:VALARM
END:VEVENT
BEGIN:VEVENT
UID:vls-59845864-20231014T110000@quickscores.com
DTSTAMP:20260425T202600Z
DTSTART;TZID=America/Los_Angeles:20231014T110000
DURATION:PT1H0M0S
SUMMARY:CYS Eagles vs. Broncos -- Fielder
DESCRIPTION:5th/6th Grade - Valley League Sports
LOCATION:Central High School
CATEGORIES:QuickScores, Flag Football Game
TRANSP:OPAQUE
BEGIN:VALARM
TRIGGER:-PT2H
ACTION:DISPLAY
DESCRIPTION:CYS Eagles vs. Broncos -- Fielder
END:VALARM
END:VEVENT
BEGIN:VEVENT
UID:vls-59845867-20231014T120000@quickscores.com
DTSTAMP:20260425T202600Z
DTSTART;TZID=America/Los_Angeles:20231014T120000
DURATION:PT1H0M0S
SUMMARY:Broncos -- Fielder vs. CYS Seahawks
DESCRIPTION:5th/6th Grade - Valley League Sports
LOCATION:Central High School
CATEGORIES:QuickScores, Flag Football Game
TRANSP:OPAQUE
BEGIN:VALARM
TRIGGER:-PT2H
ACTION:DISPLAY
DESCRIPTION:Broncos -- Fielder vs. CYS Seahawks
END:VALARM
END:VEVENT
END:VCALENDAR
