BEGIN:VCALENDAR
VERSION:2.0
PRODID:-//QuickScores.com//BQ Dynamic iCal Creator//EN
METHOD:PUBLISH
X-WR-CALNAME:Thatcher Construction (SYC Team 1) - 5th/6th Grade - Fall 2023
X-WR-CALDESC:QuickScores game calendar
X-PUBLISHED-TTL:PT24H
REFRESH-INTERVAL;VALUE=DURATION:PT24H
CALSCALE:GREGORIAN
BEGIN:VTIMEZONE
TZID:America/Los_Angeles
X-LIC-LOCATION:America/Los_Angeles
BEGIN:DAYLIGHT
TZNAME:PDT
TZOFFSETFROM:-0800
TZOFFSETTO:-0700
DTSTART:19700308T020000
RRULE:FREQ=YEARLY;BYMONTH=3;BYDAY=2SU
END:DAYLIGHT
BEGIN:STANDARD
TZNAME:PST
TZOFFSETFROM:-0700
TZOFFSETTO:-0800
DTSTART:19701101T020000
RRULE:FREQ=YEARLY;BYMONTH=11;BYDAY=1SU
END:STANDARD
END:VTIMEZONE
BEGIN:VEVENT
UID:vls-59834607-20230923T090000@quickscores.com
DTSTAMP:20260425T145700Z
DTSTART;TZID=America/Los_Angeles:20230923T090000
DURATION:PT1H0M0S
SUMMARY:Thatcher Construction (SYC Team 1) vs. Lebanon - Seahawks
DESCRIPTION:5th/6th Grade - Valley League Sports
LOCATION:Century Park 1 - Lebanon
CATEGORIES:QuickScores, Flag Football Game
TRANSP:OPAQUE
BEGIN:VALARM
TRIGGER:-PT2H
ACTION:DISPLAY
DESCRIPTION:Thatcher Construction (SYC Team 1) vs. Lebanon - Seahawks
END:VALARM
END:VEVENT
BEGIN:VEVENT
UID:vls-59834605-20230923T100000@quickscores.com
DTSTAMP:20260425T145700Z
DTSTART;TZID=America/Los_Angeles:20230923T100000
DURATION:PT1H0M0S
SUMMARY:Lebanon - 49ers vs. Thatcher Construction (SYC Team 1)
DESCRIPTION:5th/6th Grade - Valley League Sports
LOCATION:Century Park 1 - Lebanon
CATEGORIES:QuickScores, Flag Football Game
TRANSP:OPAQUE
BEGIN:VALARM
TRIGGER:-PT2H
ACTION:DISPLAY
DESCRIPTION:Lebanon - 49ers vs. Thatcher Construction (SYC Team 1)
END:VALARM
END:VEVENT
BEGIN:VEVENT
UID:vls-59858238-20230930T120000@quickscores.com
DTSTAMP:20260425T145700Z
DTSTART;TZID=America/Los_Angeles:20230930T120000
DURATION:PT1H0M0S
SUMMARY:Sweet Home - Packers vs. Thatcher Construction (SYC Team 1)
DESCRIPTION:5th/6th Grade - Valley League Sports
LOCATION:Century Park 1 - Lebanon
CATEGORIES:QuickScores, Flag Football Game
TRANSP:OPAQUE
BEGIN:VALARM
TRIGGER:-PT2H
ACTION:DISPLAY
DESCRIPTION:Sweet Home - Packers vs. Thatcher Construction (SYC Team 1)
END:VALARM
END:VEVENT
BEGIN:VEVENT
UID:vls-59834852-20230930T130000@quickscores.com
DTSTAMP:20260425T145700Z
DTSTART;TZID=America/Los_Angeles:20230930T130000
DURATION:PT1H0M0S
SUMMARY:Lebanon - Commanders vs. Thatcher Construction (SYC Team 1)
DESCRIPTION:5th/6th Grade - Valley League Sports
LOCATION:Century Park 1 - Lebanon
CATEGORIES:QuickScores, Flag Football Game
TRANSP:OPAQUE
BEGIN:VALARM
TRIGGER:-PT2H
ACTION:DISPLAY
DESCRIPTION:Lebanon - Commanders vs. Thatcher Construction (SYC Team 1)
END:VALARM
END:VEVENT
BEGIN:VEVENT
UID:vls-59835112-20231014T141500@quickscores.com
DTSTAMP:20260425T145700Z
DTSTART;TZID=America/Los_Angeles:20231014T141500
DURATION:PT1H0M0S
SUMMARY:Thatcher Construction (SYC Team 1) vs. NSYA - Seahawks
DESCRIPTION:5th/6th Grade - Valley League Sports
LOCATION:Scio HS Football Field
CATEGORIES:QuickScores, Flag Football Game
TRANSP:OPAQUE
BEGIN:VALARM
TRIGGER:-PT2H
ACTION:DISPLAY
DESCRIPTION:Thatcher Construction (SYC Team 1) vs. NSYA - Seahawks
END:VALARM
END:VEVENT
BEGIN:VEVENT
UID:vls-59835113-20231014T152000@quickscores.com
DTSTAMP:20260425T145700Z
DTSTART;TZID=America/Los_Angeles:20231014T152000
DURATION:PT1H0M0S
SUMMARY:Thatcher Construction (SYC Team 1) vs. NSYA-Bills
DESCRIPTION:5th/6th Grade - Valley League Sports
LOCATION:Scio HS Football Field
CATEGORIES:QuickScores, Flag Football Game
TRANSP:OPAQUE
BEGIN:VALARM
TRIGGER:-PT2H
ACTION:DISPLAY
DESCRIPTION:Thatcher Construction (SYC Team 1) vs. NSYA-Bills
END:VALARM
END:VEVENT
BEGIN:VEVENT
UID:vls-59835874-20231021T131500@quickscores.com
DTSTAMP:20260425T145700Z
DTSTART;TZID=America/Los_Angeles:20231021T131500
DURATION:PT1H0M0S
SUMMARY:Thatcher Construction (SYC Team 1) vs. Lebanon - Seahawks
DESCRIPTION:5th/6th Grade - Valley League Sports
LOCATION:Scio HS Football Field
CATEGORIES:QuickScores, Flag Football Game
TRANSP:OPAQUE
BEGIN:VALARM
TRIGGER:-PT2H
ACTION:DISPLAY
DESCRIPTION:Thatcher Construction (SYC Team 1) vs. Lebanon - Seahawks
END:VALARM
END:VEVENT
BEGIN:VEVENT
UID:vls-59835873-20231021T163500@quickscores.com
DTSTAMP:20260425T145700Z
DTSTART;TZID=America/Los_Angeles:20231021T163500
DURATION:PT1H0M0S
SUMMARY:Thatcher Construction (SYC Team 1) vs. Best Heating & cooling (SYC Team 2)
DESCRIPTION:5th/6th Grade - Valley League Sports
LOCATION:Scio HS Football Field
CATEGORIES:QuickScores, Flag Football Game
TRANSP:OPAQUE
BEGIN:VALARM
TRIGGER:-PT2H
ACTION:DISPLAY
DESCRIPTION:Thatcher Construction (SYC Team 1) vs. Best Heating & cooling (SYC Team 2)
END:VALARM
END:VEVENT
BEGIN:VEVENT
UID:vls-59834969-20231028T103000@quickscores.com
DTSTAMP:20260425T145700Z
DTSTART;TZID=America/Los_Angeles:20231028T103000
DURATION:PT1H0M0S
SUMMARY:Lebanon - 49ers vs. Thatcher Construction (SYC Team 1)
DESCRIPTION:5th/6th Grade - Valley League Sports
LOCATION:Jefferson HS Football Field
CATEGORIES:QuickScores, Flag Football Game
TRANSP:OPAQUE
BEGIN:VALARM
TRIGGER:-PT2H
ACTION:DISPLAY
DESCRIPTION:Lebanon - 49ers vs. Thatcher Construction (SYC Team 1)
END:VALARM
END:VEVENT
BEGIN:VEVENT
UID:vls-59834970-20231028T113000@quickscores.com
DTSTAMP:20260425T145700Z
DTSTART;TZID=America/Los_Angeles:20231028T113000
DURATION:PT1H0M0S
SUMMARY:Thatcher Construction (SYC Team 1) vs. Jefferson- Steelers
DESCRIPTION:5th/6th Grade - Valley League Sports
LOCATION:Jefferson HS Football Field
CATEGORIES:QuickScores, Flag Football Game
TRANSP:OPAQUE
BEGIN:VALARM
TRIGGER:-PT2H
ACTION:DISPLAY
DESCRIPTION:Thatcher Construction (SYC Team 1) vs. Jefferson- Steelers
END:VALARM
END:VEVENT
END:VCALENDAR
