BEGIN:VCALENDAR
VERSION:2.0
PRODID:-//QuickScores.com//BQ Dynamic iCal Creator//EN
METHOD:PUBLISH
X-WR-CALNAME:Hendrix Heating -- Ravens - 5th/6th Grade - Fall 2023
X-WR-CALDESC:QuickScores game calendar
X-PUBLISHED-TTL:PT24H
REFRESH-INTERVAL;VALUE=DURATION:PT24H
CALSCALE:GREGORIAN
BEGIN:VTIMEZONE
TZID:America/Los_Angeles
X-LIC-LOCATION:America/Los_Angeles
BEGIN:DAYLIGHT
TZNAME:PDT
TZOFFSETFROM:-0800
TZOFFSETTO:-0700
DTSTART:19700308T020000
RRULE:FREQ=YEARLY;BYMONTH=3;BYDAY=2SU
END:DAYLIGHT
BEGIN:STANDARD
TZNAME:PST
TZOFFSETFROM:-0700
TZOFFSETTO:-0800
DTSTART:19701101T020000
RRULE:FREQ=YEARLY;BYMONTH=11;BYDAY=1SU
END:STANDARD
END:VTIMEZONE
BEGIN:VEVENT
UID:vls-59653804-20230905T163000@quickscores.com
DTSTAMP:20260425T162300Z
DTSTART;TZID=America/Los_Angeles:20230905T163000
DURATION:PT1H15M0S
SUMMARY:Practice: Hendrix Heating -- Ravens
DESCRIPTION:5th/6th Grade - Valley League Sports
LOCATION:Johnson Teen Center West D
CATEGORIES:QuickScores, Flag Football Game
TRANSP:OPAQUE
BEGIN:VALARM
TRIGGER:-PT2H
ACTION:DISPLAY
DESCRIPTION:Practice: Hendrix Heating -- Ravens
END:VALARM
END:VEVENT
BEGIN:VEVENT
UID:vls-59653812-20230907T163000@quickscores.com
DTSTAMP:20260425T162300Z
DTSTART;TZID=America/Los_Angeles:20230907T163000
DURATION:PT1H15M0S
SUMMARY:Practice: Hendrix Heating -- Ravens
DESCRIPTION:5th/6th Grade - Valley League Sports
LOCATION:Johnson Teen Center West D
CATEGORIES:QuickScores, Flag Football Game
TRANSP:OPAQUE
BEGIN:VALARM
TRIGGER:-PT2H
ACTION:DISPLAY
DESCRIPTION:Practice: Hendrix Heating -- Ravens
END:VALARM
END:VEVENT
BEGIN:VEVENT
UID:vls-59653805-20230912T163000@quickscores.com
DTSTAMP:20260425T162300Z
DTSTART;TZID=America/Los_Angeles:20230912T163000
DURATION:PT1H15M0S
SUMMARY:Practice: Hendrix Heating -- Ravens
DESCRIPTION:5th/6th Grade - Valley League Sports
LOCATION:Johnson Teen Center West D
CATEGORIES:QuickScores, Flag Football Game
TRANSP:OPAQUE
BEGIN:VALARM
TRIGGER:-PT2H
ACTION:DISPLAY
DESCRIPTION:Practice: Hendrix Heating -- Ravens
END:VALARM
END:VEVENT
BEGIN:VEVENT
UID:vls-59653813-20230914T163000@quickscores.com
DTSTAMP:20260425T162300Z
DTSTART;TZID=America/Los_Angeles:20230914T163000
DURATION:PT1H15M0S
SUMMARY:Practice: Hendrix Heating -- Ravens
DESCRIPTION:5th/6th Grade - Valley League Sports
LOCATION:Johnson Teen Center West D
CATEGORIES:QuickScores, Flag Football Game
TRANSP:OPAQUE
BEGIN:VALARM
TRIGGER:-PT2H
ACTION:DISPLAY
DESCRIPTION:Practice: Hendrix Heating -- Ravens
END:VALARM
END:VEVENT
BEGIN:VEVENT
UID:vls-59697053-20230916T093000@quickscores.com
DTSTAMP:20260425T162300Z
DTSTART;TZID=America/Los_Angeles:20230916T093000
DURATION:PT0H30M0S
SUMMARY:Hendrix Heating -- Ravens vs. Broncos -- Fielder
DESCRIPTION:Jamboree!! 1 20 minute half --- 5th/6th Grade - Valley League Sports
LOCATION:Williams Field Corvallis #1
CATEGORIES:QuickScores, Flag Football Game
TRANSP:OPAQUE
BEGIN:VALARM
TRIGGER:-PT2H
ACTION:DISPLAY
DESCRIPTION:Hendrix Heating -- Ravens vs. Broncos -- Fielder
END:VALARM
END:VEVENT
BEGIN:VEVENT
UID:vls-59697054-20230916T100000@quickscores.com
DTSTAMP:20260425T162300Z
DTSTART;TZID=America/Los_Angeles:20230916T100000
DURATION:PT0H30M0S
SUMMARY:Hendrix Heating -- Ravens vs. Wilson Motors -- Cardinals
DESCRIPTION:Jamboree!! 1 20 minute half --- 5th/6th Grade - Valley League Sports
LOCATION:Williams Field Corvallis #1
CATEGORIES:QuickScores, Flag Football Game
TRANSP:OPAQUE
BEGIN:VALARM
TRIGGER:-PT2H
ACTION:DISPLAY
DESCRIPTION:Hendrix Heating -- Ravens vs. Wilson Motors -- Cardinals
END:VALARM
END:VEVENT
BEGIN:VEVENT
UID:vls-59653806-20230919T163000@quickscores.com
DTSTAMP:20260425T162300Z
DTSTART;TZID=America/Los_Angeles:20230919T163000
DURATION:PT1H15M0S
SUMMARY:Practice: Hendrix Heating -- Ravens
DESCRIPTION:5th/6th Grade - Valley League Sports
LOCATION:Johnson Teen Center West D
CATEGORIES:QuickScores, Flag Football Game
TRANSP:OPAQUE
BEGIN:VALARM
TRIGGER:-PT2H
ACTION:DISPLAY
DESCRIPTION:Practice: Hendrix Heating -- Ravens
END:VALARM
END:VEVENT
BEGIN:VEVENT
UID:vls-59840896-20230919T170000@quickscores.com
DTSTAMP:20260425T162300Z
DTSTART;TZID=America/Los_Angeles:20230919T170000
DURATION:PT0H15M0S
SUMMARY:Practice: Hendrix Heating -- Ravens
DESCRIPTION:PICTURE NIGHT!!! --- 5th/6th Grade - Valley League Sports
LOCATION:Johnson Teen Center West D
CATEGORIES:QuickScores, Flag Football Game
TRANSP:OPAQUE
BEGIN:VALARM
TRIGGER:-PT2H
ACTION:DISPLAY
DESCRIPTION:Practice: Hendrix Heating -- Ravens
END:VALARM
END:VEVENT
BEGIN:VEVENT
UID:vls-59653814-20230921T163000@quickscores.com
DTSTAMP:20260425T162300Z
DTSTART;TZID=America/Los_Angeles:20230921T163000
DURATION:PT1H15M0S
SUMMARY:Practice: Hendrix Heating -- Ravens
DESCRIPTION:5th/6th Grade - Valley League Sports
LOCATION:Johnson Teen Center West D
CATEGORIES:QuickScores, Flag Football Game
TRANSP:OPAQUE
BEGIN:VALARM
TRIGGER:-PT2H
ACTION:DISPLAY
DESCRIPTION:Practice: Hendrix Heating -- Ravens
END:VALARM
END:VEVENT
BEGIN:VEVENT
UID:vls-59858205-20230923T113000@quickscores.com
DTSTAMP:20260425T162300Z
DTSTART;TZID=America/Los_Angeles:20230923T113000
DURATION:PT1H0M0S
SUMMARY:Sweet Home - Packers vs. Hendrix Heating -- Ravens
DESCRIPTION:5th/6th Grade - Valley League Sports
LOCATION:Williams Field Corvallis #1
CATEGORIES:QuickScores, Flag Football Game
TRANSP:OPAQUE
BEGIN:VALARM
TRIGGER:-PT2H
ACTION:DISPLAY
DESCRIPTION:Sweet Home - Packers vs. Hendrix Heating -- Ravens
END:VALARM
END:VEVENT
BEGIN:VEVENT
UID:vls-59838911-20230923T133000@quickscores.com
DTSTAMP:20260425T162300Z
DTSTART;TZID=America/Los_Angeles:20230923T133000
DURATION:PT1H0M0S
SUMMARY:Hendrix Heating -- Ravens vs. Wilson Motors -- Cardinals
DESCRIPTION:5th/6th Grade - Valley League Sports
LOCATION:Williams Field Corvallis #2
CATEGORIES:QuickScores, Flag Football Game
TRANSP:OPAQUE
BEGIN:VALARM
TRIGGER:-PT2H
ACTION:DISPLAY
DESCRIPTION:Hendrix Heating -- Ravens vs. Wilson Motors -- Cardinals
END:VALARM
END:VEVENT
BEGIN:VEVENT
UID:vls-59653807-20230926T163000@quickscores.com
DTSTAMP:20260425T162300Z
DTSTART;TZID=America/Los_Angeles:20230926T163000
DURATION:PT1H15M0S
SUMMARY:Practice: Hendrix Heating -- Ravens
DESCRIPTION:5th/6th Grade - Valley League Sports
LOCATION:Johnson Teen Center West D
CATEGORIES:QuickScores, Flag Football Game
TRANSP:OPAQUE
BEGIN:VALARM
TRIGGER:-PT2H
ACTION:DISPLAY
DESCRIPTION:Practice: Hendrix Heating -- Ravens
END:VALARM
END:VEVENT
BEGIN:VEVENT
UID:vls-59653815-20230928T163000@quickscores.com
DTSTAMP:20260425T162300Z
DTSTART;TZID=America/Los_Angeles:20230928T163000
DURATION:PT1H15M0S
SUMMARY:Practice: Hendrix Heating -- Ravens
DESCRIPTION:5th/6th Grade - Valley League Sports
LOCATION:Johnson Teen Center West D
CATEGORIES:QuickScores, Flag Football Game
TRANSP:OPAQUE
BEGIN:VALARM
TRIGGER:-PT2H
ACTION:DISPLAY
DESCRIPTION:Practice: Hendrix Heating -- Ravens
END:VALARM
END:VEVENT
BEGIN:VEVENT
UID:vls-59845612-20230930T113000@quickscores.com
DTSTAMP:20260425T162300Z
DTSTART;TZID=America/Los_Angeles:20230930T113000
DURATION:PT1H0M0S
SUMMARY:Raiders -- Young vs. Hendrix Heating -- Ravens
DESCRIPTION:5th/6th Grade - Valley League Sports
LOCATION:Williams Field Corvallis #1
CATEGORIES:QuickScores, Flag Football Game
TRANSP:OPAQUE
BEGIN:VALARM
TRIGGER:-PT2H
ACTION:DISPLAY
DESCRIPTION:Raiders -- Young vs. Hendrix Heating -- Ravens
END:VALARM
END:VEVENT
BEGIN:VEVENT
UID:vls-59845615-20230930T123000@quickscores.com
DTSTAMP:20260425T162300Z
DTSTART;TZID=America/Los_Angeles:20230930T123000
DURATION:PT1H0M0S
SUMMARY:Hendrix Heating -- Ravens vs. CYS Eagles
DESCRIPTION:5th/6th Grade - Valley League Sports
LOCATION:Williams Field Corvallis #2
CATEGORIES:QuickScores, Flag Football Game
TRANSP:OPAQUE
BEGIN:VALARM
TRIGGER:-PT2H
ACTION:DISPLAY
DESCRIPTION:Hendrix Heating -- Ravens vs. CYS Eagles
END:VALARM
END:VEVENT
BEGIN:VEVENT
UID:vls-59653808-20231003T163000@quickscores.com
DTSTAMP:20260425T162300Z
DTSTART;TZID=America/Los_Angeles:20231003T163000
DURATION:PT1H15M0S
SUMMARY:Practice: Hendrix Heating -- Ravens
DESCRIPTION:5th/6th Grade - Valley League Sports
LOCATION:Johnson Teen Center West D
CATEGORIES:QuickScores, Flag Football Game
TRANSP:OPAQUE
BEGIN:VALARM
TRIGGER:-PT2H
ACTION:DISPLAY
DESCRIPTION:Practice: Hendrix Heating -- Ravens
END:VALARM
END:VEVENT
BEGIN:VEVENT
UID:vls-59653816-20231005T163000@quickscores.com
DTSTAMP:20260425T162300Z
DTSTART;TZID=America/Los_Angeles:20231005T163000
DURATION:PT1H15M0S
SUMMARY:Practice: Hendrix Heating -- Ravens
DESCRIPTION:5th/6th Grade - Valley League Sports
LOCATION:Johnson Teen Center West D
CATEGORIES:QuickScores, Flag Football Game
TRANSP:OPAQUE
BEGIN:VALARM
TRIGGER:-PT2H
ACTION:DISPLAY
DESCRIPTION:Practice: Hendrix Heating -- Ravens
END:VALARM
END:VEVENT
BEGIN:VEVENT
UID:vls-59845622-20231007T110000@quickscores.com
DTSTAMP:20260425T162300Z
DTSTART;TZID=America/Los_Angeles:20231007T110000
DURATION:PT1H0M0S
SUMMARY:CYS Eagles vs. Hendrix Heating -- Ravens
DESCRIPTION:5th/6th Grade - Valley League Sports
LOCATION:Central High School
CATEGORIES:QuickScores, Flag Football Game
TRANSP:OPAQUE
BEGIN:VALARM
TRIGGER:-PT2H
ACTION:DISPLAY
DESCRIPTION:CYS Eagles vs. Hendrix Heating -- Ravens
END:VALARM
END:VEVENT
BEGIN:VEVENT
UID:vls-59845625-20231007T120000@quickscores.com
DTSTAMP:20260425T162300Z
DTSTART;TZID=America/Los_Angeles:20231007T120000
DURATION:PT1H0M0S
SUMMARY:Hendrix Heating -- Ravens vs. CYS Seahawks
DESCRIPTION:5th/6th Grade - Valley League Sports
LOCATION:Central High School
CATEGORIES:QuickScores, Flag Football Game
TRANSP:OPAQUE
BEGIN:VALARM
TRIGGER:-PT2H
ACTION:DISPLAY
DESCRIPTION:Hendrix Heating -- Ravens vs. CYS Seahawks
END:VALARM
END:VEVENT
BEGIN:VEVENT
UID:vls-59653809-20231010T163000@quickscores.com
DTSTAMP:20260425T162300Z
DTSTART;TZID=America/Los_Angeles:20231010T163000
DURATION:PT1H15M0S
SUMMARY:Practice: Hendrix Heating -- Ravens
DESCRIPTION:5th/6th Grade - Valley League Sports
LOCATION:Johnson Teen Center West D
CATEGORIES:QuickScores, Flag Football Game
TRANSP:OPAQUE
BEGIN:VALARM
TRIGGER:-PT2H
ACTION:DISPLAY
DESCRIPTION:Practice: Hendrix Heating -- Ravens
END:VALARM
END:VEVENT
BEGIN:VEVENT
UID:vls-59845858-20231010T173000@quickscores.com
DTSTAMP:20260425T162300Z
DTSTART;TZID=America/Los_Angeles:20231010T173000
DURATION:PT1H0M0S
SUMMARY:Valley Eye Care -- Falcons vs. Hendrix Heating -- Ravens
DESCRIPTION:5th/6th Grade - Valley League Sports
LOCATION:Williams Field Corvallis #1
CATEGORIES:QuickScores, Flag Football Game
TRANSP:OPAQUE
BEGIN:VALARM
TRIGGER:-PT2H
ACTION:DISPLAY
DESCRIPTION:Valley Eye Care -- Falcons vs. Hendrix Heating -- Ravens
END:VALARM
END:VEVENT
BEGIN:VEVENT
UID:vls-59653817-20231012T163000@quickscores.com
DTSTAMP:20260425T162300Z
DTSTART;TZID=America/Los_Angeles:20231012T163000
DURATION:PT1H15M0S
SUMMARY:Practice: Hendrix Heating -- Ravens
DESCRIPTION:5th/6th Grade - Valley League Sports
LOCATION:Johnson Teen Center West D
CATEGORIES:QuickScores, Flag Football Game
TRANSP:OPAQUE
BEGIN:VALARM
TRIGGER:-PT2H
ACTION:DISPLAY
DESCRIPTION:Practice: Hendrix Heating -- Ravens
END:VALARM
END:VEVENT
BEGIN:VEVENT
UID:vls-59653810-20231017T163000@quickscores.com
DTSTAMP:20260425T162300Z
DTSTART;TZID=America/Los_Angeles:20231017T163000
DURATION:PT1H15M0S
SUMMARY:Practice: Hendrix Heating -- Ravens
DESCRIPTION:5th/6th Grade - Valley League Sports
LOCATION:Johnson Teen Center West D
CATEGORIES:QuickScores, Flag Football Game
TRANSP:OPAQUE
BEGIN:VALARM
TRIGGER:-PT2H
ACTION:DISPLAY
DESCRIPTION:Practice: Hendrix Heating -- Ravens
END:VALARM
END:VEVENT
BEGIN:VEVENT
UID:vls-59845861-20231017T183000@quickscores.com
DTSTAMP:20260425T162300Z
DTSTART;TZID=America/Los_Angeles:20231017T183000
DURATION:PT1H0M0S
SUMMARY:Hendrix Heating -- Ravens vs. Wilson Motors -- Cardinals
DESCRIPTION:5th/6th Grade - Valley League Sports
LOCATION:Williams Field Corvallis #1
CATEGORIES:QuickScores, Flag Football Game
TRANSP:OPAQUE
BEGIN:VALARM
TRIGGER:-PT2H
ACTION:DISPLAY
DESCRIPTION:Hendrix Heating -- Ravens vs. Wilson Motors -- Cardinals
END:VALARM
END:VEVENT
BEGIN:VEVENT
UID:vls-59653818-20231019T163000@quickscores.com
DTSTAMP:20260425T162300Z
DTSTART;TZID=America/Los_Angeles:20231019T163000
DURATION:PT1H15M0S
SUMMARY:Practice: Hendrix Heating -- Ravens
DESCRIPTION:5th/6th Grade - Valley League Sports
LOCATION:Johnson Teen Center West D
CATEGORIES:QuickScores, Flag Football Game
TRANSP:OPAQUE
BEGIN:VALARM
TRIGGER:-PT2H
ACTION:DISPLAY
DESCRIPTION:Practice: Hendrix Heating -- Ravens
END:VALARM
END:VEVENT
BEGIN:VEVENT
UID:vls-59855412-20231021T103000@quickscores.com
DTSTAMP:20260425T162300Z
DTSTART;TZID=America/Los_Angeles:20231021T103000
DURATION:PT1H0M0S
SUMMARY:Hendrix Heating -- Ravens vs. CYS Seahawks
DESCRIPTION:5th/6th Grade - Valley League Sports
LOCATION:Williams Field Corvallis #2
CATEGORIES:QuickScores, Flag Football Game
TRANSP:OPAQUE
BEGIN:VALARM
TRIGGER:-PT2H
ACTION:DISPLAY
DESCRIPTION:Hendrix Heating -- Ravens vs. CYS Seahawks
END:VALARM
END:VEVENT
BEGIN:VEVENT
UID:vls-59856052-20231021T123000@quickscores.com
DTSTAMP:20260425T162300Z
DTSTART;TZID=America/Los_Angeles:20231021T123000
DURATION:PT1H0M0S
SUMMARY:Hendrix Heating -- Ravens vs. Pacific Power -- Eagles
DESCRIPTION:5th/6th Grade - Valley League Sports
LOCATION:Williams Field Corvallis #2
CATEGORIES:QuickScores, Flag Football Game
TRANSP:OPAQUE
BEGIN:VALARM
TRIGGER:-PT2H
ACTION:DISPLAY
DESCRIPTION:Hendrix Heating -- Ravens vs. Pacific Power -- Eagles
END:VALARM
END:VEVENT
END:VCALENDAR
