BEGIN:VCALENDAR
VERSION:2.0
PRODID:-//QuickScores.com//BQ Dynamic iCal Creator//EN
METHOD:PUBLISH
X-WR-CALNAME:Oswalt- Oregon tree professionals - Lebanon T-ball - 2023 BGCGS T-Ball & Coach Pitch
X-WR-CALDESC:QuickScores game calendar
X-PUBLISHED-TTL:PT24H
REFRESH-INTERVAL;VALUE=DURATION:PT24H
CALSCALE:GREGORIAN
BEGIN:VTIMEZONE
TZID:America/Los_Angeles
X-LIC-LOCATION:America/Los_Angeles
BEGIN:DAYLIGHT
TZNAME:PDT
TZOFFSETFROM:-0800
TZOFFSETTO:-0700
DTSTART:19700308T020000
RRULE:FREQ=YEARLY;BYMONTH=3;BYDAY=2SU
END:DAYLIGHT
BEGIN:STANDARD
TZNAME:PST
TZOFFSETFROM:-0700
TZOFFSETTO:-0800
DTSTART:19701101T020000
RRULE:FREQ=YEARLY;BYMONTH=11;BYDAY=1SU
END:STANDARD
END:VTIMEZONE
BEGIN:VEVENT
UID:vls-58343819-20230601T183000@quickscores.com
DTSTAMP:20260425T142200Z
DTSTART;TZID=America/Los_Angeles:20230601T183000
DURATION:PT1H0M0S
SUMMARY:Wodtli- East Linn roofing vs. Oswalt- Oregon tree professionals
DESCRIPTION:Lebanon T-ball - Valley League Sports
LOCATION:Green Acres 1
CATEGORIES:QuickScores, Baseball Game
TRANSP:OPAQUE
BEGIN:VALARM
TRIGGER:-PT2H
ACTION:DISPLAY
DESCRIPTION:Wodtli- East Linn roofing vs. Oswalt- Oregon tree professionals
END:VALARM
END:VEVENT
BEGIN:VEVENT
UID:vls-58343822-20230606T183000@quickscores.com
DTSTAMP:20260425T142200Z
DTSTART;TZID=America/Los_Angeles:20230606T183000
DURATION:PT1H0M0S
SUMMARY:Baxter- Heritage property management vs. Oswalt- Oregon tree professionals
DESCRIPTION:Lebanon T-ball - Valley League Sports
LOCATION:Green Acres 2
CATEGORIES:QuickScores, Baseball Game
TRANSP:OPAQUE
BEGIN:VALARM
TRIGGER:-PT2H
ACTION:DISPLAY
DESCRIPTION:Baxter- Heritage property management vs. Oswalt- Oregon tree professionals
END:VALARM
END:VEVENT
BEGIN:VEVENT
UID:vls-58343827-20230609T183000@quickscores.com
DTSTAMP:20260425T142200Z
DTSTART;TZID=America/Los_Angeles:20230609T183000
DURATION:PT1H0M0S
SUMMARY:Oswalt- Oregon tree professionals vs. King- RKI
DESCRIPTION:Lebanon T-ball - Valley League Sports
LOCATION:Green Acres 2
CATEGORIES:QuickScores, Baseball Game
TRANSP:OPAQUE
BEGIN:VALARM
TRIGGER:-PT2H
ACTION:DISPLAY
DESCRIPTION:Oswalt- Oregon tree professionals vs. King- RKI
END:VALARM
END:VEVENT
BEGIN:VEVENT
UID:vls-58343829-20230613T183000@quickscores.com
DTSTAMP:20260425T142200Z
DTSTART;TZID=America/Los_Angeles:20230613T183000
DURATION:PT1H0M0S
SUMMARY:Martineau- Performance horses vs. Oswalt- Oregon tree professionals
DESCRIPTION:Lebanon T-ball - Valley League Sports
LOCATION:Green Acres 4
CATEGORIES:QuickScores, Baseball Game
TRANSP:OPAQUE
BEGIN:VALARM
TRIGGER:-PT2H
ACTION:DISPLAY
DESCRIPTION:Martineau- Performance horses vs. Oswalt- Oregon tree professionals
END:VALARM
END:VEVENT
BEGIN:VEVENT
UID:vls-58343837-20230616T173000@quickscores.com
DTSTAMP:20260425T142200Z
DTSTART;TZID=America/Los_Angeles:20230616T173000
DURATION:PT1H0M0S
SUMMARY:King- RKI vs. Oswalt- Oregon tree professionals
DESCRIPTION:LOCATION CHANGE --- Lebanon T-ball - Valley League Sports
LOCATION:Bob Smith #2 - Weyerhaueser/Jeff King Contractor Field
CATEGORIES:QuickScores, Baseball Game
TRANSP:OPAQUE
BEGIN:VALARM
TRIGGER:-PT2H
ACTION:DISPLAY
DESCRIPTION:King- RKI vs. Oswalt- Oregon tree professionals
END:VALARM
END:VEVENT
BEGIN:VEVENT
UID:vls-58343838-20230620T183000@quickscores.com
DTSTAMP:20260425T142200Z
DTSTART;TZID=America/Los_Angeles:20230620T183000
DURATION:PT1H0M0S
SUMMARY:Oswalt- Oregon tree professionals vs. Branch- Ms. Emmy lil nuggets
DESCRIPTION:Lebanon T-ball - Valley League Sports
LOCATION:Green Acres 2
CATEGORIES:QuickScores, Baseball Game
TRANSP:OPAQUE
BEGIN:VALARM
TRIGGER:-PT2H
ACTION:DISPLAY
DESCRIPTION:Oswalt- Oregon tree professionals vs. Branch- Ms. Emmy lil nuggets
END:VALARM
END:VEVENT
BEGIN:VEVENT
UID:vls-58343843-20230622T173000@quickscores.com
DTSTAMP:20260425T142200Z
DTSTART;TZID=America/Los_Angeles:20230622T173000
DURATION:PT1H0M0S
SUMMARY:Oswalt- Oregon tree professionals vs. Humphrey- Melcher's Home Team
DESCRIPTION:Lebanon T-ball - Valley League Sports
LOCATION:Century Park 1 - Lebanon
CATEGORIES:QuickScores, Baseball Game
TRANSP:OPAQUE
BEGIN:VALARM
TRIGGER:-PT2H
ACTION:DISPLAY
DESCRIPTION:Oswalt- Oregon tree professionals vs. Humphrey- Melcher's Home Team
END:VALARM
END:VEVENT
BEGIN:VEVENT
UID:vls-58343834-20230623T173000@quickscores.com
DTSTAMP:20260425T142200Z
DTSTART;TZID=America/Los_Angeles:20230623T173000
DURATION:PT1H0M0S
SUMMARY:Eickman- Night and day construction vs. Oswalt- Oregon tree professionals
DESCRIPTION:Lebanon T-ball - Valley League Sports
LOCATION:Green Acres 4
CATEGORIES:QuickScores, Baseball Game
TRANSP:OPAQUE
BEGIN:VALARM
TRIGGER:-PT2H
ACTION:DISPLAY
DESCRIPTION:Eickman- Night and day construction vs. Oswalt- Oregon tree professionals
END:VALARM
END:VEVENT
BEGIN:VEVENT
UID:vls-58343851-20230627T173000@quickscores.com
DTSTAMP:20260425T142200Z
DTSTART;TZID=America/Los_Angeles:20230627T173000
DURATION:PT1H0M0S
SUMMARY:Oswalt- Oregon tree professionals vs. Wodtli- East Linn roofing
DESCRIPTION:LOCATION CHANGE --- Lebanon T-ball - Valley League Sports
LOCATION:Century Park 1 - Lebanon
CATEGORIES:QuickScores, Baseball Game
TRANSP:OPAQUE
BEGIN:VALARM
TRIGGER:-PT2H
ACTION:DISPLAY
DESCRIPTION:Oswalt- Oregon tree professionals vs. Wodtli- East Linn roofing
END:VALARM
END:VEVENT
BEGIN:VEVENT
UID:vls-58343854-20230629T173000@quickscores.com
DTSTAMP:20260425T142200Z
DTSTART;TZID=America/Los_Angeles:20230629T173000
DURATION:PT1H0M0S
SUMMARY:Oswalt- Oregon tree professionals vs. Baxter- Heritage property management
DESCRIPTION:Lebanon T-ball - Valley League Sports
LOCATION:Green Acres 4
CATEGORIES:QuickScores, Baseball Game
TRANSP:OPAQUE
BEGIN:VALARM
TRIGGER:-PT2H
ACTION:DISPLAY
DESCRIPTION:Oswalt- Oregon tree professionals vs. Baxter- Heritage property management
END:VALARM
END:VEVENT
END:VCALENDAR
