BEGIN:VCALENDAR
VERSION:2.0
PRODID:-//QuickScores.com//BQ Dynamic iCal Creator//EN
METHOD:PUBLISH
X-WR-CALNAME:Humphrey- Melcher&#039;s Home Team - Lebanon T-ball - 2023 BGCGS T-Ball & Coach Pitch
X-WR-CALDESC:QuickScores game calendar
X-PUBLISHED-TTL:PT24H
REFRESH-INTERVAL;VALUE=DURATION:PT24H
CALSCALE:GREGORIAN
BEGIN:VTIMEZONE
TZID:America/Los_Angeles
X-LIC-LOCATION:America/Los_Angeles
BEGIN:DAYLIGHT
TZNAME:PDT
TZOFFSETFROM:-0800
TZOFFSETTO:-0700
DTSTART:19700308T020000
RRULE:FREQ=YEARLY;BYMONTH=3;BYDAY=2SU
END:DAYLIGHT
BEGIN:STANDARD
TZNAME:PST
TZOFFSETFROM:-0700
TZOFFSETTO:-0800
DTSTART:19701101T020000
RRULE:FREQ=YEARLY;BYMONTH=11;BYDAY=1SU
END:STANDARD
END:VTIMEZONE
BEGIN:VEVENT
UID:vls-58343818-20230601T173000@quickscores.com
DTSTAMP:20260425T224200Z
DTSTART;TZID=America/Los_Angeles:20230601T173000
DURATION:PT1H0M0S
SUMMARY:Humphrey- Melcher's Home Team vs. King- RKI
DESCRIPTION:Lebanon T-ball - Valley League Sports
LOCATION:Green Acres 1
CATEGORIES:QuickScores, Baseball Game
TRANSP:OPAQUE
BEGIN:VALARM
TRIGGER:-PT2H
ACTION:DISPLAY
DESCRIPTION:Humphrey- Melcher's Home Team vs. King- RKI
END:VALARM
END:VEVENT
BEGIN:VEVENT
UID:vls-58343823-20230606T183000@quickscores.com
DTSTAMP:20260425T224200Z
DTSTART;TZID=America/Los_Angeles:20230606T183000
DURATION:PT1H0M0S
SUMMARY:Humphrey- Melcher's Home Team vs. Wodtli- East Linn roofing
DESCRIPTION:Lebanon T-ball - Valley League Sports
LOCATION:Green Acres 4
CATEGORIES:QuickScores, Baseball Game
TRANSP:OPAQUE
BEGIN:VALARM
TRIGGER:-PT2H
ACTION:DISPLAY
DESCRIPTION:Humphrey- Melcher's Home Team vs. Wodtli- East Linn roofing
END:VALARM
END:VEVENT
BEGIN:VEVENT
UID:vls-58343825-20230609T173000@quickscores.com
DTSTAMP:20260425T224200Z
DTSTART;TZID=America/Los_Angeles:20230609T173000
DURATION:PT1H0M0S
SUMMARY:Humphrey- Melcher's Home Team vs. Eickman- Night and day construction
DESCRIPTION:Lebanon T-ball - Valley League Sports
LOCATION:Green Acres 2
CATEGORIES:QuickScores, Baseball Game
TRANSP:OPAQUE
BEGIN:VALARM
TRIGGER:-PT2H
ACTION:DISPLAY
DESCRIPTION:Humphrey- Melcher's Home Team vs. Eickman- Night and day construction
END:VALARM
END:VEVENT
BEGIN:VEVENT
UID:vls-58343836-20230613T183000@quickscores.com
DTSTAMP:20260425T224200Z
DTSTART;TZID=America/Los_Angeles:20230613T183000
DURATION:PT1H0M0S
SUMMARY:Eickman- Night and day construction vs. Humphrey- Melcher's Home Team
DESCRIPTION:Lebanon T-ball - Valley League Sports
LOCATION:Green Acres 2
CATEGORIES:QuickScores, Baseball Game
TRANSP:OPAQUE
BEGIN:VALARM
TRIGGER:-PT2H
ACTION:DISPLAY
DESCRIPTION:Eickman- Night and day construction vs. Humphrey- Melcher's Home Team
END:VALARM
END:VEVENT
BEGIN:VEVENT
UID:vls-58343832-20230615T173000@quickscores.com
DTSTAMP:20260425T224200Z
DTSTART;TZID=America/Los_Angeles:20230615T173000
DURATION:PT1H0M0S
SUMMARY:Humphrey- Melcher's Home Team vs. Branch- Ms. Emmy lil nuggets
DESCRIPTION:LOCATION CHANGE --- Lebanon T-ball - Valley League Sports
LOCATION:Century Park 1 - Lebanon
CATEGORIES:QuickScores, Baseball Game
TRANSP:OPAQUE
BEGIN:VALARM
TRIGGER:-PT2H
ACTION:DISPLAY
DESCRIPTION:Humphrey- Melcher's Home Team vs. Branch- Ms. Emmy lil nuggets
END:VALARM
END:VEVENT
BEGIN:VEVENT
UID:vls-58343831-20230616T173000@quickscores.com
DTSTAMP:20260425T224200Z
DTSTART;TZID=America/Los_Angeles:20230616T173000
DURATION:PT1H0M0S
SUMMARY:Baxter- Heritage property management vs. Humphrey- Melcher's Home Team
DESCRIPTION:LOCATION CHANGE --- Lebanon T-ball - Valley League Sports
LOCATION:Christopher Columbus Park
CATEGORIES:QuickScores, Baseball Game
TRANSP:OPAQUE
BEGIN:VALARM
TRIGGER:-PT2H
ACTION:DISPLAY
DESCRIPTION:Baxter- Heritage property management vs. Humphrey- Melcher's Home Team
END:VALARM
END:VEVENT
BEGIN:VEVENT
UID:vls-58343840-20230621T183000@quickscores.com
DTSTAMP:20260425T224200Z
DTSTART;TZID=America/Los_Angeles:20230621T183000
DURATION:PT1H0M0S
SUMMARY:Humphrey- Melcher's Home Team vs. Martineau- Performance horses
DESCRIPTION:LOCATION AND DATE CHANGE --- Lebanon T-ball - Valley League Sports
LOCATION:Green Acres 4
CATEGORIES:QuickScores, Baseball Game
TRANSP:OPAQUE
BEGIN:VALARM
TRIGGER:-PT2H
ACTION:DISPLAY
DESCRIPTION:Humphrey- Melcher's Home Team vs. Martineau- Performance horses
END:VALARM
END:VEVENT
BEGIN:VEVENT
UID:vls-58343843-20230622T173000@quickscores.com
DTSTAMP:20260425T224200Z
DTSTART;TZID=America/Los_Angeles:20230622T173000
DURATION:PT1H0M0S
SUMMARY:Oswalt- Oregon tree professionals vs. Humphrey- Melcher's Home Team
DESCRIPTION:Lebanon T-ball - Valley League Sports
LOCATION:Century Park 1 - Lebanon
CATEGORIES:QuickScores, Baseball Game
TRANSP:OPAQUE
BEGIN:VALARM
TRIGGER:-PT2H
ACTION:DISPLAY
DESCRIPTION:Oswalt- Oregon tree professionals vs. Humphrey- Melcher's Home Team
END:VALARM
END:VEVENT
BEGIN:VEVENT
UID:vls-58343850-20230627T173000@quickscores.com
DTSTAMP:20260425T224200Z
DTSTART;TZID=America/Los_Angeles:20230627T173000
DURATION:PT1H0M0S
SUMMARY:King- RKI vs. Humphrey- Melcher's Home Team
DESCRIPTION:Lebanon T-ball - Valley League Sports
LOCATION:Green Acres 4
CATEGORIES:QuickScores, Baseball Game
TRANSP:OPAQUE
BEGIN:VALARM
TRIGGER:-PT2H
ACTION:DISPLAY
DESCRIPTION:King- RKI vs. Humphrey- Melcher's Home Team
END:VALARM
END:VEVENT
BEGIN:VEVENT
UID:vls-58343855-20230629T173000@quickscores.com
DTSTAMP:20260425T224200Z
DTSTART;TZID=America/Los_Angeles:20230629T173000
DURATION:PT1H0M0S
SUMMARY:Wodtli- East Linn roofing vs. Humphrey- Melcher's Home Team
DESCRIPTION:Lebanon T-ball - Valley League Sports
LOCATION:Century Park 1 - Lebanon
CATEGORIES:QuickScores, Baseball Game
TRANSP:OPAQUE
BEGIN:VALARM
TRIGGER:-PT2H
ACTION:DISPLAY
DESCRIPTION:Wodtli- East Linn roofing vs. Humphrey- Melcher's Home Team
END:VALARM
END:VEVENT
END:VCALENDAR
