BEGIN:VCALENDAR
VERSION:2.0
PRODID:-//QuickScores.com//BQ Dynamic iCal Creator//EN
METHOD:PUBLISH
X-WR-CALNAME:Jefferson Blue- Martin - Albany/jefferson Pitching Machine - Spring 2023 Rookie League
X-WR-CALDESC:QuickScores game calendar
X-PUBLISHED-TTL:PT24H
REFRESH-INTERVAL;VALUE=DURATION:PT24H
CALSCALE:GREGORIAN
BEGIN:VTIMEZONE
TZID:America/Los_Angeles
X-LIC-LOCATION:America/Los_Angeles
BEGIN:DAYLIGHT
TZNAME:PDT
TZOFFSETFROM:-0800
TZOFFSETTO:-0700
DTSTART:19700308T020000
RRULE:FREQ=YEARLY;BYMONTH=3;BYDAY=2SU
END:DAYLIGHT
BEGIN:STANDARD
TZNAME:PST
TZOFFSETFROM:-0700
TZOFFSETTO:-0800
DTSTART:19701101T020000
RRULE:FREQ=YEARLY;BYMONTH=11;BYDAY=1SU
END:STANDARD
END:VTIMEZONE
BEGIN:VEVENT
UID:vls-57942933-20230524T184500@quickscores.com
DTSTAMP:20260424T191800Z
DTSTART;TZID=America/Los_Angeles:20230524T184500
DURATION:PT1H0M0S
SUMMARY:Team Smith vs. Jefferson Blue- Martin
DESCRIPTION:Albany/jefferson Pitching Machine - Valley League Sports
LOCATION:Jefferson MS Field #5
CATEGORIES:QuickScores, Baseball Game
TRANSP:OPAQUE
BEGIN:VALARM
TRIGGER:-PT2H
ACTION:DISPLAY
DESCRIPTION:Team Smith vs. Jefferson Blue- Martin
END:VALARM
END:VEVENT
BEGIN:VEVENT
UID:vls-57942930-20230525T171500@quickscores.com
DTSTAMP:20260424T191800Z
DTSTART;TZID=America/Los_Angeles:20230525T171500
DURATION:PT1H0M0S
SUMMARY:Team Webb vs. Jefferson Blue- Martin
DESCRIPTION:Moved from 5/22- Albany Coach info not available for contact --- Albany/jefferson Pitching Machine - Valley League Sports
LOCATION:Jefferson MS Field #5
CATEGORIES:QuickScores, Baseball Game
TRANSP:OPAQUE
BEGIN:VALARM
TRIGGER:-PT2H
ACTION:DISPLAY
DESCRIPTION:Team Webb vs. Jefferson Blue- Martin
END:VALARM
END:VEVENT
BEGIN:VEVENT
UID:vls-57942940-20230531T171500@quickscores.com
DTSTAMP:20260424T191800Z
DTSTART;TZID=America/Los_Angeles:20230531T171500
DURATION:PT1H0M0S
SUMMARY:Jefferson Blue- Martin vs. Team Meekins
DESCRIPTION:Albany/jefferson Pitching Machine - Valley League Sports
LOCATION:Kinder (Rookie League #3) Green Field sponsored by Les Schwab
CATEGORIES:QuickScores, Baseball Game
TRANSP:OPAQUE
BEGIN:VALARM
TRIGGER:-PT2H
ACTION:DISPLAY
DESCRIPTION:Jefferson Blue- Martin vs. Team Meekins
END:VALARM
END:VEVENT
BEGIN:VEVENT
UID:vls-57942945-20230605T173000@quickscores.com
DTSTAMP:20260424T191800Z
DTSTART;TZID=America/Los_Angeles:20230605T173000
DURATION:PT1H0M0S
SUMMARY:Jefferson Blue- Martin vs. Team Katzenstein
DESCRIPTION:Albany/jefferson Pitching Machine - Valley League Sports
LOCATION:Kinder (Rookie League #3) Green Field sponsored by Les Schwab
CATEGORIES:QuickScores, Baseball Game
TRANSP:OPAQUE
BEGIN:VALARM
TRIGGER:-PT2H
ACTION:DISPLAY
DESCRIPTION:Jefferson Blue- Martin vs. Team Katzenstein
END:VALARM
END:VEVENT
BEGIN:VEVENT
UID:vls-57942943-20230606T180000@quickscores.com
DTSTAMP:20260424T191800Z
DTSTART;TZID=America/Los_Angeles:20230606T180000
DURATION:PT1H0M0S
SUMMARY:Jefferson Blue- Martin vs. Team Kidd
DESCRIPTION:Albany/jefferson Pitching Machine - Valley League Sports
LOCATION:Kinder (Rookie League #2) Blue Field sponsored by Jamba Juice
CATEGORIES:QuickScores, Baseball Game
TRANSP:OPAQUE
BEGIN:VALARM
TRIGGER:-PT2H
ACTION:DISPLAY
DESCRIPTION:Jefferson Blue- Martin vs. Team Kidd
END:VALARM
END:VEVENT
BEGIN:VEVENT
UID:vls-57942951-20230612T173000@quickscores.com
DTSTAMP:20260424T191800Z
DTSTART;TZID=America/Los_Angeles:20230612T173000
DURATION:PT1H0M0S
SUMMARY:Team Meekins vs. Jefferson Blue- Martin
DESCRIPTION:Albany/jefferson Pitching Machine - Valley League Sports
LOCATION:Jefferson MS Field #5
CATEGORIES:QuickScores, Baseball Game
TRANSP:OPAQUE
BEGIN:VALARM
TRIGGER:-PT2H
ACTION:DISPLAY
DESCRIPTION:Team Meekins vs. Jefferson Blue- Martin
END:VALARM
END:VEVENT
BEGIN:VEVENT
UID:vls-57942935-20230615T184500@quickscores.com
DTSTAMP:20260424T191800Z
DTSTART;TZID=America/Los_Angeles:20230615T184500
DURATION:PT1H0M0S
SUMMARY:Jefferson Blue- Martin vs. Jefferson Yellow- Sloan
DESCRIPTION:Albany/jefferson Pitching Machine - Valley League Sports
LOCATION:Jefferson MS Field #5
CATEGORIES:QuickScores, Baseball Game
TRANSP:OPAQUE
BEGIN:VALARM
TRIGGER:-PT2H
ACTION:DISPLAY
DESCRIPTION:Jefferson Blue- Martin vs. Jefferson Yellow- Sloan
END:VALARM
END:VEVENT
BEGIN:VEVENT
UID:vls-57942924-20230621T184500@quickscores.com
DTSTAMP:20260424T191800Z
DTSTART;TZID=America/Los_Angeles:20230621T184500
DURATION:PT1H0M0S
SUMMARY:Jefferson Yellow- Sloan vs. Jefferson Blue- Martin
DESCRIPTION:Albany/jefferson Pitching Machine - Valley League Sports
LOCATION:Jefferson MS Field #5
CATEGORIES:QuickScores, Baseball Game
TRANSP:OPAQUE
BEGIN:VALARM
TRIGGER:-PT2H
ACTION:DISPLAY
DESCRIPTION:Jefferson Yellow- Sloan vs. Jefferson Blue- Martin
END:VALARM
END:VEVENT
END:VCALENDAR
