BEGIN:VCALENDAR
VERSION:2.0
PRODID:-//QuickScores.com//BQ Dynamic iCal Creator//EN
METHOD:PUBLISH
X-WR-CALNAME:Team Katzenstein - Albany/jefferson Pitching Machine - Spring 2023 Rookie League
X-WR-CALDESC:QuickScores game calendar
X-PUBLISHED-TTL:PT24H
REFRESH-INTERVAL;VALUE=DURATION:PT24H
CALSCALE:GREGORIAN
BEGIN:VTIMEZONE
TZID:America/Los_Angeles
X-LIC-LOCATION:America/Los_Angeles
BEGIN:DAYLIGHT
TZNAME:PDT
TZOFFSETFROM:-0800
TZOFFSETTO:-0700
DTSTART:19700308T020000
RRULE:FREQ=YEARLY;BYMONTH=3;BYDAY=2SU
END:DAYLIGHT
BEGIN:STANDARD
TZNAME:PST
TZOFFSETFROM:-0700
TZOFFSETTO:-0800
DTSTART:19701101T020000
RRULE:FREQ=YEARLY;BYMONTH=11;BYDAY=1SU
END:STANDARD
END:VTIMEZONE
BEGIN:VEVENT
UID:vls-57942926-20230517T174500@quickscores.com
DTSTAMP:20260425T072200Z
DTSTART;TZID=America/Los_Angeles:20230517T174500
DURATION:PT1H0M0S
SUMMARY:Team Smith vs. Team Katzenstein
DESCRIPTION:Albany/jefferson Pitching Machine - Valley League Sports
LOCATION:Kinder (Rookie League #3) Green Field sponsored by Les Schwab
CATEGORIES:QuickScores, Baseball Game
TRANSP:OPAQUE
BEGIN:VALARM
TRIGGER:-PT2H
ACTION:DISPLAY
DESCRIPTION:Team Smith vs. Team Katzenstein
END:VALARM
END:VEVENT
BEGIN:VEVENT
UID:vls-57942929-20230523T171500@quickscores.com
DTSTAMP:20260425T072200Z
DTSTART;TZID=America/Los_Angeles:20230523T171500
DURATION:PT1H0M0S
SUMMARY:Team Katzenstein vs. Team Meekins
DESCRIPTION:Albany/jefferson Pitching Machine - Valley League Sports
LOCATION:Kinder (Rookie League #3) Green Field sponsored by Les Schwab
CATEGORIES:QuickScores, Baseball Game
TRANSP:OPAQUE
BEGIN:VALARM
TRIGGER:-PT2H
ACTION:DISPLAY
DESCRIPTION:Team Katzenstein vs. Team Meekins
END:VALARM
END:VEVENT
BEGIN:VEVENT
UID:vls-57942934-20230524T174500@quickscores.com
DTSTAMP:20260425T072200Z
DTSTART;TZID=America/Los_Angeles:20230524T174500
DURATION:PT1H0M0S
SUMMARY:Team Katzenstein vs. Team Webb
DESCRIPTION:Albany/jefferson Pitching Machine - Valley League Sports
LOCATION:Kinder (Rookie League #3) Green Field sponsored by Les Schwab
CATEGORIES:QuickScores, Baseball Game
TRANSP:OPAQUE
BEGIN:VALARM
TRIGGER:-PT2H
ACTION:DISPLAY
DESCRIPTION:Team Katzenstein vs. Team Webb
END:VALARM
END:VEVENT
BEGIN:VEVENT
UID:vls-57942937-20230531T183000@quickscores.com
DTSTAMP:20260425T072200Z
DTSTART;TZID=America/Los_Angeles:20230531T183000
DURATION:PT1H0M0S
SUMMARY:Team Katzenstein vs. Team Smith
DESCRIPTION:Albany/jefferson Pitching Machine - Valley League Sports
LOCATION:Kinder (Rookie League #3) Green Field sponsored by Les Schwab
CATEGORIES:QuickScores, Baseball Game
TRANSP:OPAQUE
BEGIN:VALARM
TRIGGER:-PT2H
ACTION:DISPLAY
DESCRIPTION:Team Katzenstein vs. Team Smith
END:VALARM
END:VEVENT
BEGIN:VEVENT
UID:vls-57942945-20230605T173000@quickscores.com
DTSTAMP:20260425T072200Z
DTSTART;TZID=America/Los_Angeles:20230605T173000
DURATION:PT1H0M0S
SUMMARY:Jefferson Blue- Martin vs. Team Katzenstein
DESCRIPTION:Albany/jefferson Pitching Machine - Valley League Sports
LOCATION:Kinder (Rookie League #3) Green Field sponsored by Les Schwab
CATEGORIES:QuickScores, Baseball Game
TRANSP:OPAQUE
BEGIN:VALARM
TRIGGER:-PT2H
ACTION:DISPLAY
DESCRIPTION:Jefferson Blue- Martin vs. Team Katzenstein
END:VALARM
END:VEVENT
BEGIN:VEVENT
UID:vls-57942947-20230609T171500@quickscores.com
DTSTAMP:20260425T072200Z
DTSTART;TZID=America/Los_Angeles:20230609T171500
DURATION:PT1H0M0S
SUMMARY:Jefferson Yellow- Sloan vs. Team Katzenstein
DESCRIPTION:Albany/jefferson Pitching Machine - Valley League Sports
LOCATION:Kinder (Rookie League #3) Green Field sponsored by Les Schwab
CATEGORIES:QuickScores, Baseball Game
TRANSP:OPAQUE
BEGIN:VALARM
TRIGGER:-PT2H
ACTION:DISPLAY
DESCRIPTION:Jefferson Yellow- Sloan vs. Team Katzenstein
END:VALARM
END:VEVENT
BEGIN:VEVENT
UID:vls-57942949-20230613T173000@quickscores.com
DTSTAMP:20260425T072200Z
DTSTART;TZID=America/Los_Angeles:20230613T173000
DURATION:PT1H0M0S
SUMMARY:Team Kidd vs. Team Katzenstein
DESCRIPTION:Albany/jefferson Pitching Machine - Valley League Sports
LOCATION:Kinder (Rookie League #3) Green Field sponsored by Les Schwab
CATEGORIES:QuickScores, Baseball Game
TRANSP:OPAQUE
BEGIN:VALARM
TRIGGER:-PT2H
ACTION:DISPLAY
DESCRIPTION:Team Kidd vs. Team Katzenstein
END:VALARM
END:VEVENT
BEGIN:VEVENT
UID:vls-57942938-20230614T173000@quickscores.com
DTSTAMP:20260425T072200Z
DTSTART;TZID=America/Los_Angeles:20230614T173000
DURATION:PT1H0M0S
SUMMARY:Team Katzenstein vs. Team Kidd
DESCRIPTION:6/1 Game rescheduled for 6/14 --- Albany/jefferson Pitching Machine - Valley League Sports
LOCATION:Kinder (Rookie League #2) Blue Field sponsored by Jamba Juice
CATEGORIES:QuickScores, Baseball Game
TRANSP:OPAQUE
BEGIN:VALARM
TRIGGER:-PT2H
ACTION:DISPLAY
DESCRIPTION:Team Katzenstein vs. Team Kidd
END:VALARM
END:VEVENT
END:VCALENDAR
