BEGIN:VCALENDAR
VERSION:2.0
PRODID:-//QuickScores.com//BQ Dynamic iCal Creator//EN
METHOD:PUBLISH
X-WR-CALNAME:FOP Lodge 76 - Semi-competitive Division - Winter 2025-2026
X-WR-CALDESC:QuickScores game calendar
X-PUBLISHED-TTL:PT24H
REFRESH-INTERVAL;VALUE=DURATION:PT24H
CALSCALE:GREGORIAN
BEGIN:VTIMEZONE
TZID:America/Chicago
X-LIC-LOCATION:America/Chicago
BEGIN:DAYLIGHT
TZNAME:CDT
TZOFFSETFROM:-0600
TZOFFSETTO:-0500
DTSTART:19700308T020000
RRULE:FREQ=YEARLY;BYMONTH=3;BYDAY=2SU
END:DAYLIGHT
BEGIN:STANDARD
TZNAME:CST
TZOFFSETFROM:-0500
TZOFFSETTO:-0600
DTSTART:19701101T020000
RRULE:FREQ=YEARLY;BYMONTH=11;BYDAY=1SU
END:STANDARD
END:VTIMEZONE
BEGIN:VEVENT
UID:valpoparks-72214876-20260106T193500@quickscores.com
DTSTAMP:20260420T032500Z
DTSTART;TZID=America/Chicago:20260106T193500
DURATION:PT1H0M0S
SUMMARY:The IN Coast vs. FOP Lodge 76
DESCRIPTION:Semi-competitive Division - Valparaiso Parks & Recreation
LOCATION:CPP - William E. Urschel Pavilion
CATEGORIES:QuickScores, Hockey Game
TRANSP:OPAQUE
BEGIN:VALARM
TRIGGER:-PT2H
ACTION:DISPLAY
DESCRIPTION:The IN Coast vs. FOP Lodge 76
END:VALARM
END:VEVENT
BEGIN:VEVENT
UID:valpoparks-72214879-20260113T204000@quickscores.com
DTSTAMP:20260420T032500Z
DTSTART;TZID=America/Chicago:20260113T204000
DURATION:PT1H0M0S
SUMMARY:FOP Lodge 76 vs. Valpo Car Co.
DESCRIPTION:Semi-competitive Division - Valparaiso Parks & Recreation
LOCATION:CPP - William E. Urschel Pavilion
CATEGORIES:QuickScores, Hockey Game
TRANSP:OPAQUE
BEGIN:VALARM
TRIGGER:-PT2H
ACTION:DISPLAY
DESCRIPTION:FOP Lodge 76 vs. Valpo Car Co.
END:VALARM
END:VEVENT
BEGIN:VEVENT
UID:valpoparks-72214881-20260120T183000@quickscores.com
DTSTAMP:20260420T032500Z
DTSTART;TZID=America/Chicago:20260120T183000
DURATION:PT1H0M0S
SUMMARY:Franklin House vs. FOP Lodge 76
DESCRIPTION:Semi-competitive Division - Valparaiso Parks & Recreation
LOCATION:CPP - William E. Urschel Pavilion
CATEGORIES:QuickScores, Hockey Game
TRANSP:OPAQUE
BEGIN:VALARM
TRIGGER:-PT2H
ACTION:DISPLAY
DESCRIPTION:Franklin House vs. FOP Lodge 76
END:VALARM
END:VEVENT
BEGIN:VEVENT
UID:valpoparks-72214886-20260203T183000@quickscores.com
DTSTAMP:20260420T032500Z
DTSTART;TZID=America/Chicago:20260203T183000
DURATION:PT1H0M0S
SUMMARY:Shive-Hattery Moved to Rec vs. FOP Lodge 76
DESCRIPTION:Semi-competitive Division - Valparaiso Parks & Recreation
LOCATION:CPP - William E. Urschel Pavilion
CATEGORIES:QuickScores, Hockey Game
TRANSP:OPAQUE
BEGIN:VALARM
TRIGGER:-PT2H
ACTION:DISPLAY
DESCRIPTION:Shive-Hattery Moved to Rec vs. FOP Lodge 76
END:VALARM
END:VEVENT
BEGIN:VEVENT
UID:valpoparks-72214884-20260217T193500@quickscores.com
DTSTAMP:20260420T032500Z
DTSTART;TZID=America/Chicago:20260217T193500
DURATION:PT1H0M0S
SUMMARY:FOP Lodge 76 vs. The IN Coast
DESCRIPTION:rescheduled from 1/27 --- Semi-competitive Division - Valparaiso Parks & Recreation
LOCATION:CPP - William E. Urschel Pavilion
CATEGORIES:QuickScores, Hockey Game
TRANSP:OPAQUE
BEGIN:VALARM
TRIGGER:-PT2H
ACTION:DISPLAY
DESCRIPTION:FOP Lodge 76 vs. The IN Coast
END:VALARM
END:VEVENT
BEGIN:VEVENT
UID:valpoparks-72214891-20260224T204000@quickscores.com
DTSTAMP:20260420T032500Z
DTSTART;TZID=America/Chicago:20260224T204000
DURATION:PT1H0M0S
SUMMARY:FOP Lodge 76 vs. NWI Property Exchange
DESCRIPTION:Semi-competitive Division - Valparaiso Parks & Recreation
LOCATION:CPP - William E. Urschel Pavilion
CATEGORIES:QuickScores, Hockey Game
TRANSP:OPAQUE
BEGIN:VALARM
TRIGGER:-PT2H
ACTION:DISPLAY
DESCRIPTION:FOP Lodge 76 vs. NWI Property Exchange
END:VALARM
END:VEVENT
BEGIN:VEVENT
UID:valpoparks-72214895-20260303T190000@quickscores.com
DTSTAMP:20260420T032500Z
DTSTART;TZID=America/Chicago:20260303T190000
DURATION:PT1H0M0S
SUMMARY:Misfits vs. FOP Lodge 76
DESCRIPTION:Semi-competitive Division - Valparaiso Parks & Recreation
LOCATION:CPP - William E. Urschel Pavilion
CATEGORIES:QuickScores, Hockey Game
TRANSP:OPAQUE
BEGIN:VALARM
TRIGGER:-PT2H
ACTION:DISPLAY
DESCRIPTION:Misfits vs. FOP Lodge 76
END:VALARM
END:VEVENT
END:VCALENDAR
