BEGIN:VCALENDAR
VERSION:2.0
PRODID:-//QuickScores.com//BQ Dynamic iCal Creator//EN
METHOD:PUBLISH
X-WR-CALNAME:Franklin House - Semi-competitive Division - Winter 2025-2026
X-WR-CALDESC:QuickScores game calendar
X-PUBLISHED-TTL:PT24H
REFRESH-INTERVAL;VALUE=DURATION:PT24H
CALSCALE:GREGORIAN
BEGIN:VTIMEZONE
TZID:America/Chicago
X-LIC-LOCATION:America/Chicago
BEGIN:DAYLIGHT
TZNAME:CDT
TZOFFSETFROM:-0600
TZOFFSETTO:-0500
DTSTART:19700308T020000
RRULE:FREQ=YEARLY;BYMONTH=3;BYDAY=2SU
END:DAYLIGHT
BEGIN:STANDARD
TZNAME:CST
TZOFFSETFROM:-0500
TZOFFSETTO:-0600
DTSTART:19701101T020000
RRULE:FREQ=YEARLY;BYMONTH=11;BYDAY=1SU
END:STANDARD
END:VTIMEZONE
BEGIN:VEVENT
UID:valpoparks-72214875-20260106T183000@quickscores.com
DTSTAMP:20260423T071700Z
DTSTART;TZID=America/Chicago:20260106T183000
DURATION:PT1H0M0S
SUMMARY:Shive-Hattery Moved to Rec vs. Franklin House
DESCRIPTION:Semi-competitive Division - Valparaiso Parks & Recreation
LOCATION:CPP - William E. Urschel Pavilion
CATEGORIES:QuickScores, Hockey Game
TRANSP:OPAQUE
BEGIN:VALARM
TRIGGER:-PT2H
ACTION:DISPLAY
DESCRIPTION:Shive-Hattery Moved to Rec vs. Franklin House
END:VALARM
END:VEVENT
BEGIN:VEVENT
UID:valpoparks-72214878-20260113T183000@quickscores.com
DTSTAMP:20260423T071700Z
DTSTART;TZID=America/Chicago:20260113T183000
DURATION:PT1H0M0S
SUMMARY:NWI Property Exchange vs. Franklin House
DESCRIPTION:Semi-competitive Division - Valparaiso Parks & Recreation
LOCATION:CPP - William E. Urschel Pavilion
CATEGORIES:QuickScores, Hockey Game
TRANSP:OPAQUE
BEGIN:VALARM
TRIGGER:-PT2H
ACTION:DISPLAY
DESCRIPTION:NWI Property Exchange vs. Franklin House
END:VALARM
END:VEVENT
BEGIN:VEVENT
UID:valpoparks-72214881-20260120T183000@quickscores.com
DTSTAMP:20260423T071700Z
DTSTART;TZID=America/Chicago:20260120T183000
DURATION:PT1H0M0S
SUMMARY:Franklin House vs. FOP Lodge 76
DESCRIPTION:Semi-competitive Division - Valparaiso Parks & Recreation
LOCATION:CPP - William E. Urschel Pavilion
CATEGORIES:QuickScores, Hockey Game
TRANSP:OPAQUE
BEGIN:VALARM
TRIGGER:-PT2H
ACTION:DISPLAY
DESCRIPTION:Franklin House vs. FOP Lodge 76
END:VALARM
END:VEVENT
BEGIN:VEVENT
UID:valpoparks-72214888-20260203T204000@quickscores.com
DTSTAMP:20260423T071700Z
DTSTART;TZID=America/Chicago:20260203T204000
DURATION:PT1H0M0S
SUMMARY:Franklin House vs. The IN Coast
DESCRIPTION:Semi-competitive Division - Valparaiso Parks & Recreation
LOCATION:CPP - William E. Urschel Pavilion
CATEGORIES:QuickScores, Hockey Game
TRANSP:OPAQUE
BEGIN:VALARM
TRIGGER:-PT2H
ACTION:DISPLAY
DESCRIPTION:Franklin House vs. The IN Coast
END:VALARM
END:VEVENT
BEGIN:VEVENT
UID:valpoparks-72214890-20260209T183000@quickscores.com
DTSTAMP:20260423T071700Z
DTSTART;TZID=America/Chicago:20260209T183000
DURATION:PT1H0M0S
SUMMARY:Franklin House vs. Misfits (AH)
DESCRIPTION:Semi-competitive Division - Valparaiso Parks & Recreation
LOCATION:CPP - William E. Urschel Pavilion
CATEGORIES:QuickScores, Hockey Game
TRANSP:OPAQUE
BEGIN:VALARM
TRIGGER:-PT2H
ACTION:DISPLAY
DESCRIPTION:Franklin House vs. Misfits (AH)
END:VALARM
END:VEVENT
BEGIN:VEVENT
UID:valpoparks-72214885-20260217T204000@quickscores.com
DTSTAMP:20260423T071700Z
DTSTART;TZID=America/Chicago:20260217T204000
DURATION:PT1H0M0S
SUMMARY:Valpo Car Co. vs. Franklin House
DESCRIPTION:rescheduled from 1/27 --- Semi-competitive Division - Valparaiso Parks & Recreation
LOCATION:CPP - William E. Urschel Pavilion
CATEGORIES:QuickScores, Hockey Game
TRANSP:OPAQUE
BEGIN:VALARM
TRIGGER:-PT2H
ACTION:DISPLAY
DESCRIPTION:Valpo Car Co. vs. Franklin House
END:VALARM
END:VEVENT
BEGIN:VEVENT
UID:valpoparks-72214897-20260303T210000@quickscores.com
DTSTAMP:20260423T071700Z
DTSTART;TZID=America/Chicago:20260303T210000
DURATION:PT1H0M0S
SUMMARY:Franklin House vs. Misfits
DESCRIPTION:Semi-competitive Division - Valparaiso Parks & Recreation
LOCATION:CPP - William E. Urschel Pavilion
CATEGORIES:QuickScores, Hockey Game
TRANSP:OPAQUE
BEGIN:VALARM
TRIGGER:-PT2H
ACTION:DISPLAY
DESCRIPTION:Franklin House vs. Misfits
END:VALARM
END:VEVENT
END:VCALENDAR
