BEGIN:VCALENDAR
VERSION:2.0
PRODID:-//QuickScores.com//BQ Dynamic iCal Creator//EN
METHOD:PUBLISH
X-WR-CALNAME:NWI Property Exchange - Semi-competitive Division - Winter 2025-2026
X-WR-CALDESC:QuickScores game calendar
X-PUBLISHED-TTL:PT24H
REFRESH-INTERVAL;VALUE=DURATION:PT24H
CALSCALE:GREGORIAN
BEGIN:VTIMEZONE
TZID:America/Chicago
X-LIC-LOCATION:America/Chicago
BEGIN:DAYLIGHT
TZNAME:CDT
TZOFFSETFROM:-0600
TZOFFSETTO:-0500
DTSTART:19700308T020000
RRULE:FREQ=YEARLY;BYMONTH=3;BYDAY=2SU
END:DAYLIGHT
BEGIN:STANDARD
TZNAME:CST
TZOFFSETFROM:-0500
TZOFFSETTO:-0600
DTSTART:19701101T020000
RRULE:FREQ=YEARLY;BYMONTH=11;BYDAY=1SU
END:STANDARD
END:VTIMEZONE
BEGIN:VEVENT
UID:valpoparks-72214874-20260106T204000@quickscores.com
DTSTAMP:20260420T070200Z
DTSTART;TZID=America/Chicago:20260106T204000
DURATION:PT1H0M0S
SUMMARY:NWI Property Exchange vs. Valpo Car Co.
DESCRIPTION:Semi-competitive Division - Valparaiso Parks & Recreation
LOCATION:CPP - William E. Urschel Pavilion
CATEGORIES:QuickScores, Hockey Game
TRANSP:OPAQUE
BEGIN:VALARM
TRIGGER:-PT2H
ACTION:DISPLAY
DESCRIPTION:NWI Property Exchange vs. Valpo Car Co.
END:VALARM
END:VEVENT
BEGIN:VEVENT
UID:valpoparks-72214878-20260113T183000@quickscores.com
DTSTAMP:20260420T070200Z
DTSTART;TZID=America/Chicago:20260113T183000
DURATION:PT1H0M0S
SUMMARY:NWI Property Exchange vs. Franklin House
DESCRIPTION:Semi-competitive Division - Valparaiso Parks & Recreation
LOCATION:CPP - William E. Urschel Pavilion
CATEGORIES:QuickScores, Hockey Game
TRANSP:OPAQUE
BEGIN:VALARM
TRIGGER:-PT2H
ACTION:DISPLAY
DESCRIPTION:NWI Property Exchange vs. Franklin House
END:VALARM
END:VEVENT
BEGIN:VEVENT
UID:valpoparks-72214882-20260120T204000@quickscores.com
DTSTAMP:20260420T070200Z
DTSTART;TZID=America/Chicago:20260120T204000
DURATION:PT1H0M0S
SUMMARY:The IN Coast vs. NWI Property Exchange
DESCRIPTION:Semi-competitive Division - Valparaiso Parks & Recreation
LOCATION:CPP - William E. Urschel Pavilion
CATEGORIES:QuickScores, Hockey Game
TRANSP:OPAQUE
BEGIN:VALARM
TRIGGER:-PT2H
ACTION:DISPLAY
DESCRIPTION:The IN Coast vs. NWI Property Exchange
END:VALARM
END:VEVENT
BEGIN:VEVENT
UID:valpoparks-72214887-20260203T193500@quickscores.com
DTSTAMP:20260420T070200Z
DTSTART;TZID=America/Chicago:20260203T193500
DURATION:PT1H0M0S
SUMMARY:Valpo Car Co. vs. NWI Property Exchange
DESCRIPTION:Semi-competitive Division - Valparaiso Parks & Recreation
LOCATION:CPP - William E. Urschel Pavilion
CATEGORIES:QuickScores, Hockey Game
TRANSP:OPAQUE
BEGIN:VALARM
TRIGGER:-PT2H
ACTION:DISPLAY
DESCRIPTION:Valpo Car Co. vs. NWI Property Exchange
END:VALARM
END:VEVENT
BEGIN:VEVENT
UID:valpoparks-72214883-20260217T183000@quickscores.com
DTSTAMP:20260420T070200Z
DTSTART;TZID=America/Chicago:20260217T183000
DURATION:PT1H0M0S
SUMMARY:NWI Property Exchange vs. Misfits (AH)
DESCRIPTION:rescheduled from 1/27 --- Semi-competitive Division - Valparaiso Parks & Recreation
LOCATION:CPP - William E. Urschel Pavilion
CATEGORIES:QuickScores, Hockey Game
TRANSP:OPAQUE
BEGIN:VALARM
TRIGGER:-PT2H
ACTION:DISPLAY
DESCRIPTION:NWI Property Exchange vs. Misfits (AH)
END:VALARM
END:VEVENT
BEGIN:VEVENT
UID:valpoparks-72214891-20260224T204000@quickscores.com
DTSTAMP:20260420T070200Z
DTSTART;TZID=America/Chicago:20260224T204000
DURATION:PT1H0M0S
SUMMARY:FOP Lodge 76 vs. NWI Property Exchange
DESCRIPTION:Semi-competitive Division - Valparaiso Parks & Recreation
LOCATION:CPP - William E. Urschel Pavilion
CATEGORIES:QuickScores, Hockey Game
TRANSP:OPAQUE
BEGIN:VALARM
TRIGGER:-PT2H
ACTION:DISPLAY
DESCRIPTION:FOP Lodge 76 vs. NWI Property Exchange
END:VALARM
END:VEVENT
BEGIN:VEVENT
UID:valpoparks-72214893-20260303T180000@quickscores.com
DTSTAMP:20260420T070200Z
DTSTART;TZID=America/Chicago:20260303T180000
DURATION:PT1H0M0S
SUMMARY:The IN Coast vs. NWI Property Exchange
DESCRIPTION:Semi-competitive Division - Valparaiso Parks & Recreation
LOCATION:CPP - William E. Urschel Pavilion
CATEGORIES:QuickScores, Hockey Game
TRANSP:OPAQUE
BEGIN:VALARM
TRIGGER:-PT2H
ACTION:DISPLAY
DESCRIPTION:The IN Coast vs. NWI Property Exchange
END:VALARM
END:VEVENT
END:VCALENDAR
