BEGIN:VCALENDAR
VERSION:2.0
PRODID:-//QuickScores.com//BQ Dynamic iCal Creator//EN
METHOD:PUBLISH
X-WR-CALNAME:OLV - Senior Boys Green - Winter 2019-2020
X-WR-CALDESC:QuickScores game calendar
X-PUBLISHED-TTL:PT24H
REFRESH-INTERVAL;VALUE=DURATION:PT24H
CALSCALE:GREGORIAN
BEGIN:VTIMEZONE
TZID:America/Chicago
X-LIC-LOCATION:America/Chicago
BEGIN:DAYLIGHT
TZNAME:CDT
TZOFFSETFROM:-0600
TZOFFSETTO:-0500
DTSTART:19700308T020000
RRULE:FREQ=YEARLY;BYMONTH=3;BYDAY=2SU
END:DAYLIGHT
BEGIN:STANDARD
TZNAME:CST
TZOFFSETFROM:-0500
TZOFFSETTO:-0600
DTSTART:19701101T020000
RRULE:FREQ=YEARLY;BYMONTH=11;BYDAY=1SU
END:STANDARD
END:VTIMEZONE
BEGIN:VEVENT
UID:toybowl-44890684-20191207T110000@quickscores.com
DTSTAMP:20260425T212400Z
DTSTART;TZID=America/Chicago:20191207T110000
DURATION:PT1H0M0S
SUMMARY:OLS-6H vs. OLV
DESCRIPTION:Senior Boys Green - Toy Bowl
LOCATION:Our Lady of Sorrows
CATEGORIES:QuickScores, Basketball Game
TRANSP:OPAQUE
BEGIN:VALARM
TRIGGER:-PT2H
ACTION:DISPLAY
DESCRIPTION:OLS-6H vs. OLV
END:VALARM
END:VEVENT
BEGIN:VEVENT
UID:toybowl-44890686-20191214T110000@quickscores.com
DTSTAMP:20260425T212400Z
DTSTART;TZID=America/Chicago:20191214T110000
DURATION:PT1H0M0S
SUMMARY:OLV vs. SRA
DESCRIPTION:Senior Boys Green - Toy Bowl
LOCATION:Our Lady of the Valley
CATEGORIES:QuickScores, Basketball Game
TRANSP:OPAQUE
BEGIN:VALARM
TRIGGER:-PT2H
ACTION:DISPLAY
DESCRIPTION:OLV vs. SRA
END:VALARM
END:VEVENT
BEGIN:VEVENT
UID:toybowl-44890695-20200104T160000@quickscores.com
DTSTAMP:20260425T212400Z
DTSTART;TZID=America/Chicago:20200104T160000
DURATION:PT1H0M0S
SUMMARY:POP-R vs. OLV
DESCRIPTION:Senior Boys Green - Toy Bowl
LOCATION:Prince of Peace
CATEGORIES:QuickScores, Basketball Game
TRANSP:OPAQUE
BEGIN:VALARM
TRIGGER:-PT2H
ACTION:DISPLAY
DESCRIPTION:POP-R vs. OLV
END:VALARM
END:VEVENT
BEGIN:VEVENT
UID:toybowl-44890699-20200112T160000@quickscores.com
DTSTAMP:20260425T212400Z
DTSTART;TZID=America/Chicago:20200112T160000
DURATION:PT1H0M0S
SUMMARY:OLV vs. POP-G
DESCRIPTION:Senior Boys Green - Toy Bowl
LOCATION:Our Lady of the Valley
CATEGORIES:QuickScores, Basketball Game
TRANSP:OPAQUE
BEGIN:VALARM
TRIGGER:-PT2H
ACTION:DISPLAY
DESCRIPTION:OLV vs. POP-G
END:VALARM
END:VEVENT
BEGIN:VEVENT
UID:toybowl-44890707-20200125T090000@quickscores.com
DTSTAMP:20260425T212400Z
DTSTART;TZID=America/Chicago:20200125T090000
DURATION:PT1H0M0S
SUMMARY:SRA vs. OLV
DESCRIPTION:Senior Boys Green - Toy Bowl
LOCATION:John Carroll Catholic High School
CATEGORIES:QuickScores, Basketball Game
TRANSP:OPAQUE
BEGIN:VALARM
TRIGGER:-PT2H
ACTION:DISPLAY
DESCRIPTION:SRA vs. OLV
END:VALARM
END:VEVENT
BEGIN:VEVENT
UID:toybowl-44890705-20200201T130000@quickscores.com
DTSTAMP:20260425T212400Z
DTSTART;TZID=America/Chicago:20200201T130000
DURATION:PT1H0M0S
SUMMARY:OLV vs. OLS-6H
DESCRIPTION:Senior Boys Green - Toy Bowl
LOCATION:Our Lady of the Valley
CATEGORIES:QuickScores, Basketball Game
TRANSP:OPAQUE
BEGIN:VALARM
TRIGGER:-PT2H
ACTION:DISPLAY
DESCRIPTION:OLV vs. OLS-6H
END:VALARM
END:VEVENT
BEGIN:VEVENT
UID:toybowl-44890710-20200209T160000@quickscores.com
DTSTAMP:20260425T212400Z
DTSTART;TZID=America/Chicago:20200209T160000
DURATION:PT1H0M0S
SUMMARY:OLV vs. POP-R
DESCRIPTION:Senior Boys Green - Toy Bowl
LOCATION:Our Lady of the Valley
CATEGORIES:QuickScores, Basketball Game
TRANSP:OPAQUE
BEGIN:VALARM
TRIGGER:-PT2H
ACTION:DISPLAY
DESCRIPTION:OLV vs. POP-R
END:VALARM
END:VEVENT
BEGIN:VEVENT
UID:toybowl-44890690-20200215T140000@quickscores.com
DTSTAMP:20260425T212400Z
DTSTART;TZID=America/Chicago:20200215T140000
DURATION:PT1H0M0S
SUMMARY:POP-G vs. OLV
DESCRIPTION:Senior Boys Green - Toy Bowl
LOCATION:Prince of Peace
CATEGORIES:QuickScores, Basketball Game
TRANSP:OPAQUE
BEGIN:VALARM
TRIGGER:-PT2H
ACTION:DISPLAY
DESCRIPTION:POP-G vs. OLV
END:VALARM
END:VEVENT
BEGIN:VEVENT
UID:toybowl-45864116-20200225T200000@quickscores.com
DTSTAMP:20260425T212400Z
DTSTART;TZID=America/Chicago:20200225T200000
DURATION:PT1H0M0S
SUMMARY:[4] OLV vs. [5] SRA
DESCRIPTION:Senior Boys Green - Toy Bowl
LOCATION:Our Lady of the Valley
CATEGORIES:QuickScores, Basketball Game
TRANSP:OPAQUE
BEGIN:VALARM
TRIGGER:-PT2H
ACTION:DISPLAY
DESCRIPTION:[4] OLV vs. [5] SRA
END:VALARM
END:VEVENT
END:VCALENDAR
