BEGIN:VCALENDAR
VERSION:2.0
PRODID:-//QuickScores.com//BQ Dynamic iCal Creator//EN
METHOD:PUBLISH
X-WR-CALNAME:SFX - Starter Boys Blue - Winter 2018-2019
X-WR-CALDESC:QuickScores game calendar
X-PUBLISHED-TTL:PT24H
REFRESH-INTERVAL;VALUE=DURATION:PT24H
CALSCALE:GREGORIAN
BEGIN:VTIMEZONE
TZID:America/Chicago
X-LIC-LOCATION:America/Chicago
BEGIN:DAYLIGHT
TZNAME:CDT
TZOFFSETFROM:-0600
TZOFFSETTO:-0500
DTSTART:19700308T020000
RRULE:FREQ=YEARLY;BYMONTH=3;BYDAY=2SU
END:DAYLIGHT
BEGIN:STANDARD
TZNAME:CST
TZOFFSETFROM:-0500
TZOFFSETTO:-0600
DTSTART:19701101T020000
RRULE:FREQ=YEARLY;BYMONTH=11;BYDAY=1SU
END:STANDARD
END:VTIMEZONE
BEGIN:VEVENT
UID:toybowl-40279802-20190105T150000@quickscores.com
DTSTAMP:20260425T100600Z
DTSTART;TZID=America/Chicago:20190105T150000
DURATION:PT1H0M0S
SUMMARY:POP-S vs. SFX
DESCRIPTION:Starter Boys Blue - Toy Bowl
LOCATION:Prince of Peace
CATEGORIES:QuickScores, Basketball Game
TRANSP:OPAQUE
BEGIN:VALARM
TRIGGER:-PT2H
ACTION:DISPLAY
DESCRIPTION:POP-S vs. SFX
END:VALARM
END:VEVENT
BEGIN:VEVENT
UID:toybowl-40279833-20190106T160000@quickscores.com
DTSTAMP:20260425T100600Z
DTSTART;TZID=America/Chicago:20190106T160000
DURATION:PT1H0M0S
SUMMARY:OLV vs. SFX
DESCRIPTION:Starter Boys Blue - Toy Bowl
LOCATION:Our Lady of the Valley
CATEGORIES:QuickScores, Basketball Game
TRANSP:OPAQUE
BEGIN:VALARM
TRIGGER:-PT2H
ACTION:DISPLAY
DESCRIPTION:OLV vs. SFX
END:VALARM
END:VEVENT
BEGIN:VEVENT
UID:toybowl-40279806-20190112T090000@quickscores.com
DTSTAMP:20260425T100600Z
DTSTART;TZID=America/Chicago:20190112T090000
DURATION:PT1H0M0S
SUMMARY:SFX vs. POP-M
DESCRIPTION:Starter Boys Blue - Toy Bowl
LOCATION:St. Francis Xavier
CATEGORIES:QuickScores, Basketball Game
TRANSP:OPAQUE
BEGIN:VALARM
TRIGGER:-PT2H
ACTION:DISPLAY
DESCRIPTION:SFX vs. POP-M
END:VALARM
END:VEVENT
BEGIN:VEVENT
UID:toybowl-40279809-20190119T120000@quickscores.com
DTSTAMP:20260425T100600Z
DTSTART;TZID=America/Chicago:20190119T120000
DURATION:PT1H0M0S
SUMMARY:SRA vs. SFX
DESCRIPTION:Starter Boys Blue - Toy Bowl
LOCATION:St. Rose Academy
CATEGORIES:QuickScores, Basketball Game
TRANSP:OPAQUE
BEGIN:VALARM
TRIGGER:-PT2H
ACTION:DISPLAY
DESCRIPTION:SRA vs. SFX
END:VALARM
END:VEVENT
BEGIN:VEVENT
UID:toybowl-40279813-20190126T120000@quickscores.com
DTSTAMP:20260425T100600Z
DTSTART;TZID=America/Chicago:20190126T120000
DURATION:PT1H0M0S
SUMMARY:SFX vs. OLV
DESCRIPTION:Starter Boys Blue - Toy Bowl
LOCATION:St. Francis Xavier
CATEGORIES:QuickScores, Basketball Game
TRANSP:OPAQUE
BEGIN:VALARM
TRIGGER:-PT2H
ACTION:DISPLAY
DESCRIPTION:SFX vs. OLV
END:VALARM
END:VEVENT
BEGIN:VEVENT
UID:toybowl-40279816-20190202T110000@quickscores.com
DTSTAMP:20260425T100600Z
DTSTART;TZID=America/Chicago:20190202T110000
DURATION:PT1H0M0S
SUMMARY:SFX vs. OLS
DESCRIPTION:Starter Boys Blue - Toy Bowl
LOCATION:St. Francis Xavier
CATEGORIES:QuickScores, Basketball Game
TRANSP:OPAQUE
BEGIN:VALARM
TRIGGER:-PT2H
ACTION:DISPLAY
DESCRIPTION:SFX vs. OLS
END:VALARM
END:VEVENT
BEGIN:VEVENT
UID:toybowl-40279820-20190209T110000@quickscores.com
DTSTAMP:20260425T100600Z
DTSTART;TZID=America/Chicago:20190209T110000
DURATION:PT1H0M0S
SUMMARY:SFX vs. SBS
DESCRIPTION:Starter Boys Blue - Toy Bowl
LOCATION:St. Francis Xavier
CATEGORIES:QuickScores, Basketball Game
TRANSP:OPAQUE
BEGIN:VALARM
TRIGGER:-PT2H
ACTION:DISPLAY
DESCRIPTION:SFX vs. SBS
END:VALARM
END:VEVENT
BEGIN:VEVENT
UID:toybowl-40279829-20190210T150000@quickscores.com
DTSTAMP:20260425T100600Z
DTSTART;TZID=America/Chicago:20190210T150000
DURATION:PT1H0M0S
SUMMARY:SFX vs. SRA
DESCRIPTION:Starter Boys Blue - Toy Bowl
LOCATION:St. Francis Xavier
CATEGORIES:QuickScores, Basketball Game
TRANSP:OPAQUE
BEGIN:VALARM
TRIGGER:-PT2H
ACTION:DISPLAY
DESCRIPTION:SFX vs. SRA
END:VALARM
END:VEVENT
END:VCALENDAR
