BEGIN:VCALENDAR
VERSION:2.0
PRODID:-//QuickScores.com//BQ Dynamic iCal Creator//EN
METHOD:PUBLISH
X-WR-CALNAME:POP-K - Flea Girls - Winter 2017-2018 Basketball
X-WR-CALDESC:QuickScores game calendar
X-PUBLISHED-TTL:PT24H
REFRESH-INTERVAL;VALUE=DURATION:PT24H
CALSCALE:GREGORIAN
BEGIN:VTIMEZONE
TZID:America/Chicago
X-LIC-LOCATION:America/Chicago
BEGIN:DAYLIGHT
TZNAME:CDT
TZOFFSETFROM:-0600
TZOFFSETTO:-0500
DTSTART:19700308T020000
RRULE:FREQ=YEARLY;BYMONTH=3;BYDAY=2SU
END:DAYLIGHT
BEGIN:STANDARD
TZNAME:CST
TZOFFSETFROM:-0500
TZOFFSETTO:-0600
DTSTART:19701101T020000
RRULE:FREQ=YEARLY;BYMONTH=11;BYDAY=1SU
END:STANDARD
END:VTIMEZONE
BEGIN:VEVENT
UID:toybowl-36035132-20180106T080000@quickscores.com
DTSTAMP:20260425T100600Z
DTSTART;TZID=America/Chicago:20180106T080000
DURATION:PT1H0M0S
SUMMARY:OLS-R vs. POP-K
DESCRIPTION:Flea Girls - Toy Bowl
LOCATION:Our Lady of Sorrows
CATEGORIES:QuickScores, Basketball Game
TRANSP:OPAQUE
BEGIN:VALARM
TRIGGER:-PT2H
ACTION:DISPLAY
DESCRIPTION:OLS-R vs. POP-K
END:VALARM
END:VEVENT
BEGIN:VEVENT
UID:toybowl-36035136-20180113T140000@quickscores.com
DTSTAMP:20260425T100600Z
DTSTART;TZID=America/Chicago:20180113T140000
DURATION:PT1H0M0S
SUMMARY:SFX-H vs. POP-K
DESCRIPTION:Flea Girls - Toy Bowl
LOCATION:St. Francis Xavier
CATEGORIES:QuickScores, Basketball Game
TRANSP:OPAQUE
BEGIN:VALARM
TRIGGER:-PT2H
ACTION:DISPLAY
DESCRIPTION:SFX-H vs. POP-K
END:VALARM
END:VEVENT
BEGIN:VEVENT
UID:toybowl-36035169-20180114T150000@quickscores.com
DTSTAMP:20260425T100600Z
DTSTART;TZID=America/Chicago:20180114T150000
DURATION:PT1H0M0S
SUMMARY:POP-K vs. OLV-W
DESCRIPTION:Flea Girls - Toy Bowl
LOCATION:Prince of Peace
CATEGORIES:QuickScores, Basketball Game
TRANSP:OPAQUE
BEGIN:VALARM
TRIGGER:-PT2H
ACTION:DISPLAY
DESCRIPTION:POP-K vs. OLV-W
END:VALARM
END:VEVENT
BEGIN:VEVENT
UID:toybowl-36035143-20180120T090000@quickscores.com
DTSTAMP:20260425T100600Z
DTSTART;TZID=America/Chicago:20180120T090000
DURATION:PT1H0M0S
SUMMARY:POP-K vs. OLS-J
DESCRIPTION:Flea Girls - Toy Bowl
LOCATION:Prince of Peace
CATEGORIES:QuickScores, Basketball Game
TRANSP:OPAQUE
BEGIN:VALARM
TRIGGER:-PT2H
ACTION:DISPLAY
DESCRIPTION:POP-K vs. OLS-J
END:VALARM
END:VEVENT
BEGIN:VEVENT
UID:toybowl-36035147-20180127T120000@quickscores.com
DTSTAMP:20260425T100600Z
DTSTART;TZID=America/Chicago:20180127T120000
DURATION:PT1H0M0S
SUMMARY:POP-K vs. OLS-C
DESCRIPTION:Flea Girls - Toy Bowl
LOCATION:Prince of Peace
CATEGORIES:QuickScores, Basketball Game
TRANSP:OPAQUE
BEGIN:VALARM
TRIGGER:-PT2H
ACTION:DISPLAY
DESCRIPTION:POP-K vs. OLS-C
END:VALARM
END:VEVENT
BEGIN:VEVENT
UID:toybowl-36035154-20180203T090000@quickscores.com
DTSTAMP:20260425T100600Z
DTSTART;TZID=America/Chicago:20180203T090000
DURATION:PT1H0M0S
SUMMARY:OLV-H vs. POP-K
DESCRIPTION:Flea Girls - Toy Bowl
LOCATION:Our Lady of the Valley
CATEGORIES:QuickScores, Basketball Game
TRANSP:OPAQUE
BEGIN:VALARM
TRIGGER:-PT2H
ACTION:DISPLAY
DESCRIPTION:OLV-H vs. POP-K
END:VALARM
END:VEVENT
BEGIN:VEVENT
UID:toybowl-36035158-20180210T160000@quickscores.com
DTSTAMP:20260425T100600Z
DTSTART;TZID=America/Chicago:20180210T160000
DURATION:PT1H0M0S
SUMMARY:POP-K vs. SFX-S
DESCRIPTION:Flea Girls - Toy Bowl
LOCATION:Prince of Peace
CATEGORIES:QuickScores, Basketball Game
TRANSP:OPAQUE
BEGIN:VALARM
TRIGGER:-PT2H
ACTION:DISPLAY
DESCRIPTION:POP-K vs. SFX-S
END:VALARM
END:VEVENT
BEGIN:VEVENT
UID:toybowl-36035165-20180217T110000@quickscores.com
DTSTAMP:20260425T100600Z
DTSTART;TZID=America/Chicago:20180217T110000
DURATION:PT1H0M0S
SUMMARY:POP-KP vs. POP-K
DESCRIPTION:Flea Girls - Toy Bowl
LOCATION:Prince of Peace
CATEGORIES:QuickScores, Basketball Game
TRANSP:OPAQUE
BEGIN:VALARM
TRIGGER:-PT2H
ACTION:DISPLAY
DESCRIPTION:POP-KP vs. POP-K
END:VALARM
END:VEVENT
END:VCALENDAR
