BEGIN:VCALENDAR
VERSION:2.0
PRODID:-//QuickScores.com//BQ Dynamic iCal Creator//EN
METHOD:PUBLISH
X-WR-CALNAME:SFX-H - Flea Girls - Winter 2017-2018 Basketball
X-WR-CALDESC:QuickScores game calendar
X-PUBLISHED-TTL:PT24H
REFRESH-INTERVAL;VALUE=DURATION:PT24H
CALSCALE:GREGORIAN
BEGIN:VTIMEZONE
TZID:America/Chicago
X-LIC-LOCATION:America/Chicago
BEGIN:DAYLIGHT
TZNAME:CDT
TZOFFSETFROM:-0600
TZOFFSETTO:-0500
DTSTART:19700308T020000
RRULE:FREQ=YEARLY;BYMONTH=3;BYDAY=2SU
END:DAYLIGHT
BEGIN:STANDARD
TZNAME:CST
TZOFFSETFROM:-0500
TZOFFSETTO:-0600
DTSTART:19701101T020000
RRULE:FREQ=YEARLY;BYMONTH=11;BYDAY=1SU
END:STANDARD
END:VTIMEZONE
BEGIN:VEVENT
UID:toybowl-36035131-20180106T100000@quickscores.com
DTSTAMP:20260425T112300Z
DTSTART;TZID=America/Chicago:20180106T100000
DURATION:PT1H0M0S
SUMMARY:SRA vs. SFX-H
DESCRIPTION:Flea Girls - Toy Bowl
LOCATION:St. Rose Academy
CATEGORIES:QuickScores, Basketball Game
TRANSP:OPAQUE
BEGIN:VALARM
TRIGGER:-PT2H
ACTION:DISPLAY
DESCRIPTION:SRA vs. SFX-H
END:VALARM
END:VEVENT
BEGIN:VEVENT
UID:toybowl-36035161-20180107T140000@quickscores.com
DTSTAMP:20260425T112300Z
DTSTART;TZID=America/Chicago:20180107T140000
DURATION:PT1H0M0S
SUMMARY:SFX-H vs. OLS-J
DESCRIPTION:Flea Girls - Toy Bowl
LOCATION:St. Francis Xavier
CATEGORIES:QuickScores, Basketball Game
TRANSP:OPAQUE
BEGIN:VALARM
TRIGGER:-PT2H
ACTION:DISPLAY
DESCRIPTION:SFX-H vs. OLS-J
END:VALARM
END:VEVENT
BEGIN:VEVENT
UID:toybowl-36035136-20180113T140000@quickscores.com
DTSTAMP:20260425T112300Z
DTSTART;TZID=America/Chicago:20180113T140000
DURATION:PT1H0M0S
SUMMARY:SFX-H vs. POP-K
DESCRIPTION:Flea Girls - Toy Bowl
LOCATION:St. Francis Xavier
CATEGORIES:QuickScores, Basketball Game
TRANSP:OPAQUE
BEGIN:VALARM
TRIGGER:-PT2H
ACTION:DISPLAY
DESCRIPTION:SFX-H vs. POP-K
END:VALARM
END:VEVENT
BEGIN:VEVENT
UID:toybowl-36035166-20180114T140000@quickscores.com
DTSTAMP:20260425T112300Z
DTSTART;TZID=America/Chicago:20180114T140000
DURATION:PT1H0M0S
SUMMARY:OLV-H vs. SFX-H
DESCRIPTION:Flea Girls - Toy Bowl
LOCATION:Our Lady of the Valley
CATEGORIES:QuickScores, Basketball Game
TRANSP:OPAQUE
BEGIN:VALARM
TRIGGER:-PT2H
ACTION:DISPLAY
DESCRIPTION:OLV-H vs. SFX-H
END:VALARM
END:VEVENT
BEGIN:VEVENT
UID:toybowl-36035141-20180120T130000@quickscores.com
DTSTAMP:20260425T112300Z
DTSTART;TZID=America/Chicago:20180120T130000
DURATION:PT1H0M0S
SUMMARY:OLS-R vs. SFX-H
DESCRIPTION:Flea Girls - Toy Bowl
LOCATION:Our Lady of Sorrows
CATEGORIES:QuickScores, Basketball Game
TRANSP:OPAQUE
BEGIN:VALARM
TRIGGER:-PT2H
ACTION:DISPLAY
DESCRIPTION:OLS-R vs. SFX-H
END:VALARM
END:VEVENT
BEGIN:VEVENT
UID:toybowl-36035146-20180127T100000@quickscores.com
DTSTAMP:20260425T112300Z
DTSTART;TZID=America/Chicago:20180127T100000
DURATION:PT1H0M0S
SUMMARY:SFX-H vs. POP-KP
DESCRIPTION:Flea Girls - Toy Bowl
LOCATION:St. Francis Xavier
CATEGORIES:QuickScores, Basketball Game
TRANSP:OPAQUE
BEGIN:VALARM
TRIGGER:-PT2H
ACTION:DISPLAY
DESCRIPTION:SFX-H vs. POP-KP
END:VALARM
END:VEVENT
BEGIN:VEVENT
UID:toybowl-36035151-20180203T100000@quickscores.com
DTSTAMP:20260425T112300Z
DTSTART;TZID=America/Chicago:20180203T100000
DURATION:PT1H0M0S
SUMMARY:SFX-H vs. OLV-W
DESCRIPTION:Flea Girls - Toy Bowl
LOCATION:St. Francis Xavier
CATEGORIES:QuickScores, Basketball Game
TRANSP:OPAQUE
BEGIN:VALARM
TRIGGER:-PT2H
ACTION:DISPLAY
DESCRIPTION:SFX-H vs. OLV-W
END:VALARM
END:VEVENT
BEGIN:VEVENT
UID:toybowl-36035156-20180210T150000@quickscores.com
DTSTAMP:20260425T112300Z
DTSTART;TZID=America/Chicago:20180210T150000
DURATION:PT1H0M0S
SUMMARY:OLS-C vs. SFX-H
DESCRIPTION:Flea Girls - Toy Bowl
LOCATION:Our Lady of Sorrows
CATEGORIES:QuickScores, Basketball Game
TRANSP:OPAQUE
BEGIN:VALARM
TRIGGER:-PT2H
ACTION:DISPLAY
DESCRIPTION:OLS-C vs. SFX-H
END:VALARM
END:VEVENT
END:VCALENDAR
