BEGIN:VCALENDAR
VERSION:2.0
PRODID:-//QuickScores.com//BQ Dynamic iCal Creator//EN
METHOD:PUBLISH
X-WR-CALNAME:OLF - Senior Division - Fall 2015
X-WR-CALDESC:QuickScores game calendar
X-PUBLISHED-TTL:PT24H
REFRESH-INTERVAL;VALUE=DURATION:PT24H
CALSCALE:GREGORIAN
BEGIN:VTIMEZONE
TZID:America/Chicago
X-LIC-LOCATION:America/Chicago
BEGIN:DAYLIGHT
TZNAME:CDT
TZOFFSETFROM:-0600
TZOFFSETTO:-0500
DTSTART:19700308T020000
RRULE:FREQ=YEARLY;BYMONTH=3;BYDAY=2SU
END:DAYLIGHT
BEGIN:STANDARD
TZNAME:CST
TZOFFSETFROM:-0500
TZOFFSETTO:-0600
DTSTART:19701101T020000
RRULE:FREQ=YEARLY;BYMONTH=11;BYDAY=1SU
END:STANDARD
END:VTIMEZONE
BEGIN:VEVENT
UID:toybowl-26831795-20150912T140000@quickscores.com
DTSTAMP:20260425T224900Z
DTSTART;TZID=America/Chicago:20150912T140000
DURATION:PT1H0M0S
SUMMARY:OLS-M vs. OLF
DESCRIPTION:Senior Division - Toy Bowl
LOCATION:St. Rose Academy
CATEGORIES:QuickScores, Volleyball Game
TRANSP:OPAQUE
BEGIN:VALARM
TRIGGER:-PT2H
ACTION:DISPLAY
DESCRIPTION:OLS-M vs. OLF
END:VALARM
END:VEVENT
BEGIN:VEVENT
UID:toybowl-26831796-20150912T150000@quickscores.com
DTSTAMP:20260425T224900Z
DTSTART;TZID=America/Chicago:20150912T150000
DURATION:PT1H0M0S
SUMMARY:OLF vs. OLV-D
DESCRIPTION:Senior Division - Toy Bowl
LOCATION:St. Rose Academy
CATEGORIES:QuickScores, Volleyball Game
TRANSP:OPAQUE
BEGIN:VALARM
TRIGGER:-PT2H
ACTION:DISPLAY
DESCRIPTION:OLF vs. OLV-D
END:VALARM
END:VEVENT
BEGIN:VEVENT
UID:toybowl-26831801-20150919T130000@quickscores.com
DTSTAMP:20260425T224900Z
DTSTART;TZID=America/Chicago:20150919T130000
DURATION:PT1H0M0S
SUMMARY:OLF vs. OLS-M
DESCRIPTION:Senior Division - Toy Bowl
LOCATION:DO NOT USE Holy Family
CATEGORIES:QuickScores, Volleyball Game
TRANSP:OPAQUE
BEGIN:VALARM
TRIGGER:-PT2H
ACTION:DISPLAY
DESCRIPTION:OLF vs. OLS-M
END:VALARM
END:VEVENT
BEGIN:VEVENT
UID:toybowl-26831803-20150919T150000@quickscores.com
DTSTAMP:20260425T224900Z
DTSTART;TZID=America/Chicago:20150919T150000
DURATION:PT1H0M0S
SUMMARY:HF vs. OLF
DESCRIPTION:Senior Division - Toy Bowl
LOCATION:DO NOT USE Holy Family
CATEGORIES:QuickScores, Volleyball Game
TRANSP:OPAQUE
BEGIN:VALARM
TRIGGER:-PT2H
ACTION:DISPLAY
DESCRIPTION:HF vs. OLF
END:VALARM
END:VEVENT
BEGIN:VEVENT
UID:toybowl-26831808-20150926T130000@quickscores.com
DTSTAMP:20260425T224900Z
DTSTART;TZID=America/Chicago:20150926T130000
DURATION:PT1H0M0S
SUMMARY:SRA vs. OLF
DESCRIPTION:Senior Division - Toy Bowl
LOCATION:Our Lady of Sorrows
CATEGORIES:QuickScores, Volleyball Game
TRANSP:OPAQUE
BEGIN:VALARM
TRIGGER:-PT2H
ACTION:DISPLAY
DESCRIPTION:SRA vs. OLF
END:VALARM
END:VEVENT
BEGIN:VEVENT
UID:toybowl-26831809-20150926T140000@quickscores.com
DTSTAMP:20260425T224900Z
DTSTART;TZID=America/Chicago:20150926T140000
DURATION:PT1H0M0S
SUMMARY:OLF vs. SFX
DESCRIPTION:Senior Division - Toy Bowl
LOCATION:Our Lady of Sorrows
CATEGORIES:QuickScores, Volleyball Game
TRANSP:OPAQUE
BEGIN:VALARM
TRIGGER:-PT2H
ACTION:DISPLAY
DESCRIPTION:OLF vs. SFX
END:VALARM
END:VEVENT
BEGIN:VEVENT
UID:toybowl-26831889-20151003T140000@quickscores.com
DTSTAMP:20260425T224900Z
DTSTART;TZID=America/Chicago:20151003T140000
DURATION:PT1H0M0S
SUMMARY:OLF vs. OLV-D
DESCRIPTION:Senior Division - Toy Bowl
LOCATION:Our Lady of the Valley
CATEGORIES:QuickScores, Volleyball Game
TRANSP:OPAQUE
BEGIN:VALARM
TRIGGER:-PT2H
ACTION:DISPLAY
DESCRIPTION:OLF vs. OLV-D
END:VALARM
END:VEVENT
BEGIN:VEVENT
UID:toybowl-26831888-20151003T150000@quickscores.com
DTSTAMP:20260425T224900Z
DTSTART;TZID=America/Chicago:20151003T150000
DURATION:PT1H0M0S
SUMMARY:OLV-MB vs. OLF
DESCRIPTION:Senior Division - Toy Bowl
LOCATION:Our Lady of the Valley
CATEGORIES:QuickScores, Volleyball Game
TRANSP:OPAQUE
BEGIN:VALARM
TRIGGER:-PT2H
ACTION:DISPLAY
DESCRIPTION:OLV-MB vs. OLF
END:VALARM
END:VEVENT
BEGIN:VEVENT
UID:toybowl-26831886-20151010T140000@quickscores.com
DTSTAMP:20260425T224900Z
DTSTART;TZID=America/Chicago:20151010T140000
DURATION:PT1H0M0S
SUMMARY:OLF vs. SRA
DESCRIPTION:Senior Division - Toy Bowl
LOCATION:DO NOT USE Our Lady of Fatima
CATEGORIES:QuickScores, Volleyball Game
TRANSP:OPAQUE
BEGIN:VALARM
TRIGGER:-PT2H
ACTION:DISPLAY
DESCRIPTION:OLF vs. SRA
END:VALARM
END:VEVENT
BEGIN:VEVENT
UID:toybowl-26831887-20151010T150000@quickscores.com
DTSTAMP:20260425T224900Z
DTSTART;TZID=America/Chicago:20151010T150000
DURATION:PT1H0M0S
SUMMARY:HF vs. OLF
DESCRIPTION:Senior Division - Toy Bowl
LOCATION:DO NOT USE Our Lady of Fatima
CATEGORIES:QuickScores, Volleyball Game
TRANSP:OPAQUE
BEGIN:VALARM
TRIGGER:-PT2H
ACTION:DISPLAY
DESCRIPTION:HF vs. OLF
END:VALARM
END:VEVENT
BEGIN:VEVENT
UID:toybowl-26831878-20151017T120000@quickscores.com
DTSTAMP:20260425T224900Z
DTSTART;TZID=America/Chicago:20151017T120000
DURATION:PT1H0M0S
SUMMARY:OLV-MB vs. OLF
DESCRIPTION:Senior Division - Toy Bowl
LOCATION:Our Lady of the Valley
CATEGORIES:QuickScores, Volleyball Game
TRANSP:OPAQUE
BEGIN:VALARM
TRIGGER:-PT2H
ACTION:DISPLAY
DESCRIPTION:OLV-MB vs. OLF
END:VALARM
END:VEVENT
BEGIN:VEVENT
UID:toybowl-27282888-20151017T140000@quickscores.com
DTSTAMP:20260425T224900Z
DTSTART;TZID=America/Chicago:20151017T140000
DURATION:PT1H0M0S
SUMMARY:OLF vs. SFX
DESCRIPTION:Forfeit --- Senior Division - Toy Bowl
LOCATION:Our Lady of the Valley
CATEGORIES:QuickScores, Volleyball Game
TRANSP:OPAQUE
BEGIN:VALARM
TRIGGER:-PT2H
ACTION:DISPLAY
DESCRIPTION:OLF vs. SFX
END:VALARM
END:VEVENT
BEGIN:VEVENT
UID:toybowl-27297458-20151020T193000@quickscores.com
DTSTAMP:20260425T224900Z
DTSTART;TZID=America/Chicago:20151020T193000
DURATION:PT1H0M0S
SUMMARY:SRA vs. OLF
DESCRIPTION:Senior Division - Toy Bowl
LOCATION:St. Rose Academy
CATEGORIES:QuickScores, Volleyball Game
TRANSP:OPAQUE
BEGIN:VALARM
TRIGGER:-PT2H
ACTION:DISPLAY
DESCRIPTION:SRA vs. OLF
END:VALARM
END:VEVENT
END:VCALENDAR
