BEGIN:VCALENDAR
VERSION:2.0
PRODID:-//QuickScores.com//BQ Dynamic iCal Creator//EN
METHOD:PUBLISH
X-WR-CALNAME:POP-B - Flea Division - Fall 2015
X-WR-CALDESC:QuickScores game calendar
X-PUBLISHED-TTL:PT24H
REFRESH-INTERVAL;VALUE=DURATION:PT24H
CALSCALE:GREGORIAN
BEGIN:VTIMEZONE
TZID:America/Chicago
X-LIC-LOCATION:America/Chicago
BEGIN:DAYLIGHT
TZNAME:CDT
TZOFFSETFROM:-0600
TZOFFSETTO:-0500
DTSTART:19700308T020000
RRULE:FREQ=YEARLY;BYMONTH=3;BYDAY=2SU
END:DAYLIGHT
BEGIN:STANDARD
TZNAME:CST
TZOFFSETFROM:-0500
TZOFFSETTO:-0600
DTSTART:19701101T020000
RRULE:FREQ=YEARLY;BYMONTH=11;BYDAY=1SU
END:STANDARD
END:VTIMEZONE
BEGIN:VEVENT
UID:toybowl-26832414-20150912T090000@quickscores.com
DTSTAMP:20260425T175500Z
DTSTART;TZID=America/Chicago:20150912T090000
DURATION:PT1H0M0S
SUMMARY:POP-D vs. POP-B
DESCRIPTION:Flea Division - Toy Bowl
LOCATION:Prince of Peace
CATEGORIES:QuickScores, Volleyball Game
TRANSP:OPAQUE
BEGIN:VALARM
TRIGGER:-PT2H
ACTION:DISPLAY
DESCRIPTION:POP-D vs. POP-B
END:VALARM
END:VEVENT
BEGIN:VEVENT
UID:toybowl-26832415-20150912T100000@quickscores.com
DTSTAMP:20260425T175500Z
DTSTART;TZID=America/Chicago:20150912T100000
DURATION:PT1H0M0S
SUMMARY:POP-B vs. SRA
DESCRIPTION:Flea Division - Toy Bowl
LOCATION:Prince of Peace
CATEGORIES:QuickScores, Volleyball Game
TRANSP:OPAQUE
BEGIN:VALARM
TRIGGER:-PT2H
ACTION:DISPLAY
DESCRIPTION:POP-B vs. SRA
END:VALARM
END:VEVENT
BEGIN:VEVENT
UID:toybowl-26832392-20150919T090000@quickscores.com
DTSTAMP:20260425T175500Z
DTSTART;TZID=America/Chicago:20150919T090000
DURATION:PT1H0M0S
SUMMARY:SFX vs. POP-B
DESCRIPTION:Flea Division - Toy Bowl
LOCATION:St. Francis Xavier
CATEGORIES:QuickScores, Volleyball Game
TRANSP:OPAQUE
BEGIN:VALARM
TRIGGER:-PT2H
ACTION:DISPLAY
DESCRIPTION:SFX vs. POP-B
END:VALARM
END:VEVENT
BEGIN:VEVENT
UID:toybowl-26832393-20150919T100000@quickscores.com
DTSTAMP:20260425T175500Z
DTSTART;TZID=America/Chicago:20150919T100000
DURATION:PT1H0M0S
SUMMARY:POP-B vs. OLV-G
DESCRIPTION:Flea Division - Toy Bowl
LOCATION:St. Francis Xavier
CATEGORIES:QuickScores, Volleyball Game
TRANSP:OPAQUE
BEGIN:VALARM
TRIGGER:-PT2H
ACTION:DISPLAY
DESCRIPTION:POP-B vs. OLV-G
END:VALARM
END:VEVENT
BEGIN:VEVENT
UID:toybowl-26832402-20150926T120000@quickscores.com
DTSTAMP:20260425T175500Z
DTSTART;TZID=America/Chicago:20150926T120000
DURATION:PT1H0M0S
SUMMARY:POP-B vs. OLS-C
DESCRIPTION:Flea Division - Toy Bowl
LOCATION:Our Lady of the Valley
CATEGORIES:QuickScores, Volleyball Game
TRANSP:OPAQUE
BEGIN:VALARM
TRIGGER:-PT2H
ACTION:DISPLAY
DESCRIPTION:POP-B vs. OLS-C
END:VALARM
END:VEVENT
BEGIN:VEVENT
UID:toybowl-26832387-20151003T090000@quickscores.com
DTSTAMP:20260425T175500Z
DTSTART;TZID=America/Chicago:20151003T090000
DURATION:PT1H0M0S
SUMMARY:POP-D vs. POP-B
DESCRIPTION:Flea Division - Toy Bowl
LOCATION:Prince of Peace
CATEGORIES:QuickScores, Volleyball Game
TRANSP:OPAQUE
BEGIN:VALARM
TRIGGER:-PT2H
ACTION:DISPLAY
DESCRIPTION:POP-D vs. POP-B
END:VALARM
END:VEVENT
BEGIN:VEVENT
UID:toybowl-26832385-20151003T100000@quickscores.com
DTSTAMP:20260425T175500Z
DTSTART;TZID=America/Chicago:20151003T100000
DURATION:PT1H0M0S
SUMMARY:POP-B vs. OLV-R
DESCRIPTION:Flea Division - Toy Bowl
LOCATION:Prince of Peace
CATEGORIES:QuickScores, Volleyball Game
TRANSP:OPAQUE
BEGIN:VALARM
TRIGGER:-PT2H
ACTION:DISPLAY
DESCRIPTION:POP-B vs. OLV-R
END:VALARM
END:VEVENT
BEGIN:VEVENT
UID:toybowl-26832421-20151010T100000@quickscores.com
DTSTAMP:20260425T175500Z
DTSTART;TZID=America/Chicago:20151010T100000
DURATION:PT1H0M0S
SUMMARY:POP-B vs. SFX
DESCRIPTION:Flea Division - Toy Bowl
LOCATION:Prince of Peace
CATEGORIES:QuickScores, Volleyball Game
TRANSP:OPAQUE
BEGIN:VALARM
TRIGGER:-PT2H
ACTION:DISPLAY
DESCRIPTION:POP-B vs. SFX
END:VALARM
END:VEVENT
BEGIN:VEVENT
UID:toybowl-26832419-20151010T120000@quickscores.com
DTSTAMP:20260425T175500Z
DTSTART;TZID=America/Chicago:20151010T120000
DURATION:PT1H0M0S
SUMMARY:OLS-C vs. POP-B
DESCRIPTION:Flea Division - Toy Bowl
LOCATION:Prince of Peace
CATEGORIES:QuickScores, Volleyball Game
TRANSP:OPAQUE
BEGIN:VALARM
TRIGGER:-PT2H
ACTION:DISPLAY
DESCRIPTION:OLS-C vs. POP-B
END:VALARM
END:VEVENT
BEGIN:VEVENT
UID:toybowl-26832406-20151017T090000@quickscores.com
DTSTAMP:20260425T175500Z
DTSTART;TZID=America/Chicago:20151017T090000
DURATION:PT1H0M0S
SUMMARY:POP-B vs. OLS-F
DESCRIPTION:Flea Division - Toy Bowl
LOCATION:Prince of Peace
CATEGORIES:QuickScores, Volleyball Game
TRANSP:OPAQUE
BEGIN:VALARM
TRIGGER:-PT2H
ACTION:DISPLAY
DESCRIPTION:POP-B vs. OLS-F
END:VALARM
END:VEVENT
BEGIN:VEVENT
UID:toybowl-26832408-20151017T110000@quickscores.com
DTSTAMP:20260425T175500Z
DTSTART;TZID=America/Chicago:20151017T110000
DURATION:PT1H0M0S
SUMMARY:SRA vs. POP-B
DESCRIPTION:Flea Division - Toy Bowl
LOCATION:Prince of Peace
CATEGORIES:QuickScores, Volleyball Game
TRANSP:OPAQUE
BEGIN:VALARM
TRIGGER:-PT2H
ACTION:DISPLAY
DESCRIPTION:SRA vs. POP-B
END:VALARM
END:VEVENT
END:VCALENDAR
