BEGIN:VCALENDAR
VERSION:2.0
PRODID:-//QuickScores.com//BQ Dynamic iCal Creator//EN
METHOD:PUBLISH
X-WR-CALNAME:POP-B - Flea Division - Fall 2014
X-WR-CALDESC:QuickScores game calendar
X-PUBLISHED-TTL:PT24H
REFRESH-INTERVAL;VALUE=DURATION:PT24H
CALSCALE:GREGORIAN
BEGIN:VTIMEZONE
TZID:America/Chicago
X-LIC-LOCATION:America/Chicago
BEGIN:DAYLIGHT
TZNAME:CDT
TZOFFSETFROM:-0600
TZOFFSETTO:-0500
DTSTART:19700308T020000
RRULE:FREQ=YEARLY;BYMONTH=3;BYDAY=2SU
END:DAYLIGHT
BEGIN:STANDARD
TZNAME:CST
TZOFFSETFROM:-0500
TZOFFSETTO:-0600
DTSTART:19701101T020000
RRULE:FREQ=YEARLY;BYMONTH=11;BYDAY=1SU
END:STANDARD
END:VTIMEZONE
BEGIN:VEVENT
UID:toybowl-22593407-20140906T090000@quickscores.com
DTSTAMP:20260425T053200Z
DTSTART;TZID=America/Chicago:20140906T090000
DURATION:PT1H0M0S
SUMMARY:POP-A vs. POP-B
DESCRIPTION:Flea Division - Toy Bowl
LOCATION:Prince of Peace
CATEGORIES:QuickScores, Volleyball Game
TRANSP:OPAQUE
BEGIN:VALARM
TRIGGER:-PT2H
ACTION:DISPLAY
DESCRIPTION:POP-A vs. POP-B
END:VALARM
END:VEVENT
BEGIN:VEVENT
UID:toybowl-22593399-20140906T100000@quickscores.com
DTSTAMP:20260425T053200Z
DTSTART;TZID=America/Chicago:20140906T100000
DURATION:PT1H0M0S
SUMMARY:POP-B vs. POP-C
DESCRIPTION:Flea Division - Toy Bowl
LOCATION:Prince of Peace
CATEGORIES:QuickScores, Volleyball Game
TRANSP:OPAQUE
BEGIN:VALARM
TRIGGER:-PT2H
ACTION:DISPLAY
DESCRIPTION:POP-B vs. POP-C
END:VALARM
END:VEVENT
BEGIN:VEVENT
UID:toybowl-22593422-20140913T090000@quickscores.com
DTSTAMP:20260425T053200Z
DTSTART;TZID=America/Chicago:20140913T090000
DURATION:PT1H0M0S
SUMMARY:OLS-M vs. POP-B
DESCRIPTION:Flea Division - Toy Bowl
LOCATION:Our Lady of Sorrows
CATEGORIES:QuickScores, Volleyball Game
TRANSP:OPAQUE
BEGIN:VALARM
TRIGGER:-PT2H
ACTION:DISPLAY
DESCRIPTION:OLS-M vs. POP-B
END:VALARM
END:VEVENT
BEGIN:VEVENT
UID:toybowl-22593423-20140913T100000@quickscores.com
DTSTAMP:20260425T053200Z
DTSTART;TZID=America/Chicago:20140913T100000
DURATION:PT1H0M0S
SUMMARY:POP-B vs. OLV-G
DESCRIPTION:Flea Division - Toy Bowl
LOCATION:Our Lady of Sorrows
CATEGORIES:QuickScores, Volleyball Game
TRANSP:OPAQUE
BEGIN:VALARM
TRIGGER:-PT2H
ACTION:DISPLAY
DESCRIPTION:POP-B vs. OLV-G
END:VALARM
END:VEVENT
BEGIN:VEVENT
UID:toybowl-22593414-20140927T090000@quickscores.com
DTSTAMP:20260425T053200Z
DTSTART;TZID=America/Chicago:20140927T090000
DURATION:PT1H0M0S
SUMMARY:POP-B vs. SFX
DESCRIPTION:Flea Division - Toy Bowl
LOCATION:Prince of Peace
CATEGORIES:QuickScores, Volleyball Game
TRANSP:OPAQUE
BEGIN:VALARM
TRIGGER:-PT2H
ACTION:DISPLAY
DESCRIPTION:POP-B vs. SFX
END:VALARM
END:VEVENT
BEGIN:VEVENT
UID:toybowl-22593415-20140927T110000@quickscores.com
DTSTAMP:20260425T053200Z
DTSTART;TZID=America/Chicago:20140927T110000
DURATION:PT1H0M0S
SUMMARY:POP-B vs. OLS-F
DESCRIPTION:Flea Division - Toy Bowl
LOCATION:Prince of Peace
CATEGORIES:QuickScores, Volleyball Game
TRANSP:OPAQUE
BEGIN:VALARM
TRIGGER:-PT2H
ACTION:DISPLAY
DESCRIPTION:POP-B vs. OLS-F
END:VALARM
END:VEVENT
BEGIN:VEVENT
UID:toybowl-22593429-20141004T090000@quickscores.com
DTSTAMP:20260425T053200Z
DTSTART;TZID=America/Chicago:20141004T090000
DURATION:PT1H0M0S
SUMMARY:OLV-F vs. POP-B
DESCRIPTION:Flea Division - Toy Bowl
LOCATION:Our Lady of the Valley
CATEGORIES:QuickScores, Volleyball Game
TRANSP:OPAQUE
BEGIN:VALARM
TRIGGER:-PT2H
ACTION:DISPLAY
DESCRIPTION:OLV-F vs. POP-B
END:VALARM
END:VEVENT
BEGIN:VEVENT
UID:toybowl-22593430-20141004T100000@quickscores.com
DTSTAMP:20260425T053200Z
DTSTART;TZID=America/Chicago:20141004T100000
DURATION:PT1H0M0S
SUMMARY:POP-B vs. SRA
DESCRIPTION:Flea Division - Toy Bowl
LOCATION:Our Lady of the Valley
CATEGORIES:QuickScores, Volleyball Game
TRANSP:OPAQUE
BEGIN:VALARM
TRIGGER:-PT2H
ACTION:DISPLAY
DESCRIPTION:POP-B vs. SRA
END:VALARM
END:VEVENT
BEGIN:VEVENT
UID:toybowl-22593444-20141011T090000@quickscores.com
DTSTAMP:20260425T053200Z
DTSTART;TZID=America/Chicago:20141011T090000
DURATION:PT1H0M0S
SUMMARY:POP-C vs. POP-B
DESCRIPTION:Flea Division - Toy Bowl
LOCATION:Prince of Peace
CATEGORIES:QuickScores, Volleyball Game
TRANSP:OPAQUE
BEGIN:VALARM
TRIGGER:-PT2H
ACTION:DISPLAY
DESCRIPTION:POP-C vs. POP-B
END:VALARM
END:VEVENT
BEGIN:VEVENT
UID:toybowl-22593445-20141011T100000@quickscores.com
DTSTAMP:20260425T053200Z
DTSTART;TZID=America/Chicago:20141011T100000
DURATION:PT1H0M0S
SUMMARY:POP-B vs. POP-A
DESCRIPTION:Flea Division - Toy Bowl
LOCATION:Prince of Peace
CATEGORIES:QuickScores, Volleyball Game
TRANSP:OPAQUE
BEGIN:VALARM
TRIGGER:-PT2H
ACTION:DISPLAY
DESCRIPTION:POP-B vs. POP-A
END:VALARM
END:VEVENT
END:VCALENDAR
