BEGIN:VCALENDAR
VERSION:2.0
PRODID:-//QuickScores.com//BQ Dynamic iCal Creator//EN
METHOD:PUBLISH
X-WR-CALNAME:POP-A - Flea Division - Fall 2014
X-WR-CALDESC:QuickScores game calendar
X-PUBLISHED-TTL:PT24H
REFRESH-INTERVAL;VALUE=DURATION:PT24H
CALSCALE:GREGORIAN
BEGIN:VTIMEZONE
TZID:America/Chicago
X-LIC-LOCATION:America/Chicago
BEGIN:DAYLIGHT
TZNAME:CDT
TZOFFSETFROM:-0600
TZOFFSETTO:-0500
DTSTART:19700308T020000
RRULE:FREQ=YEARLY;BYMONTH=3;BYDAY=2SU
END:DAYLIGHT
BEGIN:STANDARD
TZNAME:CST
TZOFFSETFROM:-0500
TZOFFSETTO:-0600
DTSTART:19701101T020000
RRULE:FREQ=YEARLY;BYMONTH=11;BYDAY=1SU
END:STANDARD
END:VTIMEZONE
BEGIN:VEVENT
UID:toybowl-22593407-20140906T090000@quickscores.com
DTSTAMP:20260425T100600Z
DTSTART;TZID=America/Chicago:20140906T090000
DURATION:PT1H0M0S
SUMMARY:POP-A vs. POP-B
DESCRIPTION:Flea Division - Toy Bowl
LOCATION:Prince of Peace
CATEGORIES:QuickScores, Volleyball Game
TRANSP:OPAQUE
BEGIN:VALARM
TRIGGER:-PT2H
ACTION:DISPLAY
DESCRIPTION:POP-A vs. POP-B
END:VALARM
END:VEVENT
BEGIN:VEVENT
UID:toybowl-22593406-20140906T110000@quickscores.com
DTSTAMP:20260425T100600Z
DTSTART;TZID=America/Chicago:20140906T110000
DURATION:PT1H0M0S
SUMMARY:POP-A vs. POP-C
DESCRIPTION:Flea Division - Toy Bowl
LOCATION:Prince of Peace
CATEGORIES:QuickScores, Volleyball Game
TRANSP:OPAQUE
BEGIN:VALARM
TRIGGER:-PT2H
ACTION:DISPLAY
DESCRIPTION:POP-A vs. POP-C
END:VALARM
END:VEVENT
BEGIN:VEVENT
UID:toybowl-22593417-20140913T090000@quickscores.com
DTSTAMP:20260425T100600Z
DTSTART;TZID=America/Chicago:20140913T090000
DURATION:PT1H0M0S
SUMMARY:POP-A vs. OLV-F
DESCRIPTION:Flea Division - Toy Bowl
LOCATION:Prince of Peace
CATEGORIES:QuickScores, Volleyball Game
TRANSP:OPAQUE
BEGIN:VALARM
TRIGGER:-PT2H
ACTION:DISPLAY
DESCRIPTION:POP-A vs. OLV-F
END:VALARM
END:VEVENT
BEGIN:VEVENT
UID:toybowl-22593418-20140913T110000@quickscores.com
DTSTAMP:20260425T100600Z
DTSTART;TZID=America/Chicago:20140913T110000
DURATION:PT1H0M0S
SUMMARY:POP-A vs. OLS-F
DESCRIPTION:Flea Division - Toy Bowl
LOCATION:Prince of Peace
CATEGORIES:QuickScores, Volleyball Game
TRANSP:OPAQUE
BEGIN:VALARM
TRIGGER:-PT2H
ACTION:DISPLAY
DESCRIPTION:POP-A vs. OLS-F
END:VALARM
END:VEVENT
BEGIN:VEVENT
UID:toybowl-22593412-20140927T130000@quickscores.com
DTSTAMP:20260425T100600Z
DTSTART;TZID=America/Chicago:20140927T130000
DURATION:PT1H0M0S
SUMMARY:OLV-G vs. POP-A
DESCRIPTION:Flea Division - Toy Bowl
LOCATION:Our Lady of the Valley
CATEGORIES:QuickScores, Volleyball Game
TRANSP:OPAQUE
BEGIN:VALARM
TRIGGER:-PT2H
ACTION:DISPLAY
DESCRIPTION:OLV-G vs. POP-A
END:VALARM
END:VEVENT
BEGIN:VEVENT
UID:toybowl-22593413-20140927T140000@quickscores.com
DTSTAMP:20260425T100600Z
DTSTART;TZID=America/Chicago:20140927T140000
DURATION:PT1H0M0S
SUMMARY:SRA vs. POP-A
DESCRIPTION:Flea Division - Toy Bowl
LOCATION:Our Lady of the Valley
CATEGORIES:QuickScores, Volleyball Game
TRANSP:OPAQUE
BEGIN:VALARM
TRIGGER:-PT2H
ACTION:DISPLAY
DESCRIPTION:SRA vs. POP-A
END:VALARM
END:VEVENT
BEGIN:VEVENT
UID:toybowl-22593427-20141004T140000@quickscores.com
DTSTAMP:20260425T100600Z
DTSTART;TZID=America/Chicago:20141004T140000
DURATION:PT1H0M0S
SUMMARY:OLS-M vs. POP-A
DESCRIPTION:Flea Division - Toy Bowl
LOCATION:St. Francis Xavier
CATEGORIES:QuickScores, Volleyball Game
TRANSP:OPAQUE
BEGIN:VALARM
TRIGGER:-PT2H
ACTION:DISPLAY
DESCRIPTION:OLS-M vs. POP-A
END:VALARM
END:VEVENT
BEGIN:VEVENT
UID:toybowl-22593426-20141004T150000@quickscores.com
DTSTAMP:20260425T100600Z
DTSTART;TZID=America/Chicago:20141004T150000
DURATION:PT1H0M0S
SUMMARY:SFX vs. POP-A
DESCRIPTION:Flea Division - Toy Bowl
LOCATION:St. Francis Xavier
CATEGORIES:QuickScores, Volleyball Game
TRANSP:OPAQUE
BEGIN:VALARM
TRIGGER:-PT2H
ACTION:DISPLAY
DESCRIPTION:SFX vs. POP-A
END:VALARM
END:VEVENT
BEGIN:VEVENT
UID:toybowl-22593445-20141011T100000@quickscores.com
DTSTAMP:20260425T100600Z
DTSTART;TZID=America/Chicago:20141011T100000
DURATION:PT1H0M0S
SUMMARY:POP-B vs. POP-A
DESCRIPTION:Flea Division - Toy Bowl
LOCATION:Prince of Peace
CATEGORIES:QuickScores, Volleyball Game
TRANSP:OPAQUE
BEGIN:VALARM
TRIGGER:-PT2H
ACTION:DISPLAY
DESCRIPTION:POP-B vs. POP-A
END:VALARM
END:VEVENT
BEGIN:VEVENT
UID:toybowl-22593452-20141011T110000@quickscores.com
DTSTAMP:20260425T100600Z
DTSTART;TZID=America/Chicago:20141011T110000
DURATION:PT1H0M0S
SUMMARY:POP-A vs. POP-C
DESCRIPTION:Flea Division - Toy Bowl
LOCATION:Prince of Peace
CATEGORIES:QuickScores, Volleyball Game
TRANSP:OPAQUE
BEGIN:VALARM
TRIGGER:-PT2H
ACTION:DISPLAY
DESCRIPTION:POP-A vs. POP-C
END:VALARM
END:VEVENT
END:VCALENDAR
