BEGIN:VCALENDAR
VERSION:2.0
PRODID:-//QuickScores.com//BQ Dynamic iCal Creator//EN
METHOD:PUBLISH
X-WR-CALNAME:OLV - H - Flea Girls - Winter 2012-2013
X-WR-CALDESC:QuickScores game calendar
X-PUBLISHED-TTL:PT24H
REFRESH-INTERVAL;VALUE=DURATION:PT24H
CALSCALE:GREGORIAN
BEGIN:VTIMEZONE
TZID:America/Chicago
X-LIC-LOCATION:America/Chicago
BEGIN:DAYLIGHT
TZNAME:CDT
TZOFFSETFROM:-0600
TZOFFSETTO:-0500
DTSTART:19700308T020000
RRULE:FREQ=YEARLY;BYMONTH=3;BYDAY=2SU
END:DAYLIGHT
BEGIN:STANDARD
TZNAME:CST
TZOFFSETFROM:-0500
TZOFFSETTO:-0600
DTSTART:19701101T020000
RRULE:FREQ=YEARLY;BYMONTH=11;BYDAY=1SU
END:STANDARD
END:VTIMEZONE
BEGIN:VEVENT
UID:toybowl-16184834-20130105T140000@quickscores.com
DTSTAMP:20260425T125700Z
DTSTART;TZID=America/Chicago:20130105T140000
DURATION:PT1H0M0S
SUMMARY:POP-B vs. OLV - H
DESCRIPTION:Flea Girls - Toy Bowl
LOCATION:Prince of Peace
CATEGORIES:QuickScores, Basketball Game
TRANSP:OPAQUE
BEGIN:VALARM
TRIGGER:-PT2H
ACTION:DISPLAY
DESCRIPTION:POP-B vs. OLV - H
END:VALARM
END:VEVENT
BEGIN:VEVENT
UID:toybowl-16184856-20130112T130000@quickscores.com
DTSTAMP:20260425T125700Z
DTSTART;TZID=America/Chicago:20130112T130000
DURATION:PT1H0M0S
SUMMARY:OLV - H vs. OLS - K
DESCRIPTION:Flea Girls - Toy Bowl
LOCATION:Our Lady of the Valley
CATEGORIES:QuickScores, Basketball Game
TRANSP:OPAQUE
BEGIN:VALARM
TRIGGER:-PT2H
ACTION:DISPLAY
DESCRIPTION:OLV - H vs. OLS - K
END:VALARM
END:VEVENT
BEGIN:VEVENT
UID:toybowl-16184848-20130119T100000@quickscores.com
DTSTAMP:20260425T125700Z
DTSTART;TZID=America/Chicago:20130119T100000
DURATION:PT1H0M0S
SUMMARY:POP-A vs. OLV - H
DESCRIPTION:Flea Girls - Toy Bowl
LOCATION:Prince of Peace
CATEGORIES:QuickScores, Basketball Game
TRANSP:OPAQUE
BEGIN:VALARM
TRIGGER:-PT2H
ACTION:DISPLAY
DESCRIPTION:POP-A vs. OLV - H
END:VALARM
END:VEVENT
BEGIN:VEVENT
UID:toybowl-16184850-20130202T090000@quickscores.com
DTSTAMP:20260425T125700Z
DTSTART;TZID=America/Chicago:20130202T090000
DURATION:PT1H0M0S
SUMMARY:OLV - H vs. OLS - B
DESCRIPTION:Flea Girls - Toy Bowl
LOCATION:Our Lady of the Valley
CATEGORIES:QuickScores, Basketball Game
TRANSP:OPAQUE
BEGIN:VALARM
TRIGGER:-PT2H
ACTION:DISPLAY
DESCRIPTION:OLV - H vs. OLS - B
END:VALARM
END:VEVENT
BEGIN:VEVENT
UID:toybowl-16184839-20130209T110000@quickscores.com
DTSTAMP:20260425T125700Z
DTSTART;TZID=America/Chicago:20130209T110000
DURATION:PT1H0M0S
SUMMARY:SRA vs. OLV - H
DESCRIPTION:Flea Girls - Toy Bowl
LOCATION:DO NOT USE St. Aloysius
CATEGORIES:QuickScores, Basketball Game
TRANSP:OPAQUE
BEGIN:VALARM
TRIGGER:-PT2H
ACTION:DISPLAY
DESCRIPTION:SRA vs. OLV - H
END:VALARM
END:VEVENT
BEGIN:VEVENT
UID:toybowl-16184859-20130216T140000@quickscores.com
DTSTAMP:20260425T125700Z
DTSTART;TZID=America/Chicago:20130216T140000
DURATION:PT1H0M0S
SUMMARY:OLV - H vs. OLV - K
DESCRIPTION:Flea Girls - Toy Bowl
LOCATION:Our Lady of the Valley
CATEGORIES:QuickScores, Basketball Game
TRANSP:OPAQUE
BEGIN:VALARM
TRIGGER:-PT2H
ACTION:DISPLAY
DESCRIPTION:OLV - H vs. OLV - K
END:VALARM
END:VEVENT
BEGIN:VEVENT
UID:toybowl-16184863-20130223T110000@quickscores.com
DTSTAMP:20260425T125700Z
DTSTART;TZID=America/Chicago:20130223T110000
DURATION:PT1H0M0S
SUMMARY:POP-A vs. OLV - H
DESCRIPTION:Please confirm entry or request withdrawal by February 17. --- Flea Girls - Toy Bowl
LOCATION:St. Patrick
CATEGORIES:QuickScores, Basketball Game
TRANSP:OPAQUE
BEGIN:VALARM
TRIGGER:-PT2H
ACTION:DISPLAY
DESCRIPTION:POP-A vs. OLV - H
END:VALARM
END:VEVENT
END:VCALENDAR
