BEGIN:VCALENDAR
VERSION:2.0
PRODID:-//QuickScores.com//BQ Dynamic iCal Creator//EN
METHOD:PUBLISH
X-WR-CALNAME:CV-G - Junior Boys White - Fall 2024
X-WR-CALDESC:QuickScores game calendar
X-PUBLISHED-TTL:PT24H
REFRESH-INTERVAL;VALUE=DURATION:PT24H
CALSCALE:GREGORIAN
BEGIN:VTIMEZONE
TZID:America/Chicago
X-LIC-LOCATION:America/Chicago
BEGIN:DAYLIGHT
TZNAME:CDT
TZOFFSETFROM:-0600
TZOFFSETTO:-0500
DTSTART:19700308T020000
RRULE:FREQ=YEARLY;BYMONTH=3;BYDAY=2SU
END:DAYLIGHT
BEGIN:STANDARD
TZNAME:CST
TZOFFSETFROM:-0500
TZOFFSETTO:-0600
DTSTART:19701101T020000
RRULE:FREQ=YEARLY;BYMONTH=11;BYDAY=1SU
END:STANDARD
END:VTIMEZONE
BEGIN:VEVENT
UID:toybowl-66066630-20241214T100000@quickscores.com
DTSTAMP:20260425T142400Z
DTSTART;TZID=America/Chicago:20241214T100000
DURATION:PT1H0M0S
SUMMARY:SRA-Mz vs. CV-G
DESCRIPTION:Junior Boys White - Toy Bowl
LOCATION:John Carroll Catholic High School
CATEGORIES:QuickScores, Basketball Game
TRANSP:OPAQUE
BEGIN:VALARM
TRIGGER:-PT2H
ACTION:DISPLAY
DESCRIPTION:SRA-Mz vs. CV-G
END:VALARM
END:VEVENT
BEGIN:VEVENT
UID:toybowl-66066641-20250118T100000@quickscores.com
DTSTAMP:20260425T142400Z
DTSTART;TZID=America/Chicago:20250118T100000
DURATION:PT1H0M0S
SUMMARY:CV-G vs. CV-F
DESCRIPTION:Junior Boys White - Toy Bowl
LOCATION:St. Francis Xavier
CATEGORIES:QuickScores, Basketball Game
TRANSP:OPAQUE
BEGIN:VALARM
TRIGGER:-PT2H
ACTION:DISPLAY
DESCRIPTION:CV-G vs. CV-F
END:VALARM
END:VEVENT
BEGIN:VEVENT
UID:toybowl-66066648-20250125T100000@quickscores.com
DTSTAMP:20260425T142400Z
DTSTART;TZID=America/Chicago:20250125T100000
DURATION:PT1H0M0S
SUMMARY:CV-G vs. OLS-M
DESCRIPTION:Junior Boys White - Toy Bowl
LOCATION:John Carroll Catholic High School
CATEGORIES:QuickScores, Basketball Game
TRANSP:OPAQUE
BEGIN:VALARM
TRIGGER:-PT2H
ACTION:DISPLAY
DESCRIPTION:CV-G vs. OLS-M
END:VALARM
END:VEVENT
BEGIN:VEVENT
UID:toybowl-66066634-20250125T130000@quickscores.com
DTSTAMP:20260425T142400Z
DTSTART;TZID=America/Chicago:20250125T130000
DURATION:PT1H0M0S
SUMMARY:CV-G vs. Advent
DESCRIPTION:Reschedule --- Junior Boys White - Toy Bowl
LOCATION:John Carroll Catholic High School
CATEGORIES:QuickScores, Basketball Game
TRANSP:OPAQUE
BEGIN:VALARM
TRIGGER:-PT2H
ACTION:DISPLAY
DESCRIPTION:CV-G vs. Advent
END:VALARM
END:VEVENT
BEGIN:VEVENT
UID:toybowl-66066637-20250201T080000@quickscores.com
DTSTAMP:20260425T142400Z
DTSTART;TZID=America/Chicago:20250201T080000
DURATION:PT1H0M0S
SUMMARY:POP-G vs. CV-G
DESCRIPTION:Junior Boys White - Toy Bowl
LOCATION:John Carroll Catholic High School
CATEGORIES:QuickScores, Basketball Game
TRANSP:OPAQUE
BEGIN:VALARM
TRIGGER:-PT2H
ACTION:DISPLAY
DESCRIPTION:POP-G vs. CV-G
END:VALARM
END:VEVENT
BEGIN:VEVENT
UID:toybowl-66066644-20250201T110000@quickscores.com
DTSTAMP:20260425T142400Z
DTSTART;TZID=America/Chicago:20250201T110000
DURATION:PT1H0M0S
SUMMARY:OLS-D vs. CV-G
DESCRIPTION:Junior Boys White - Toy Bowl
LOCATION:John Carroll Catholic High School
CATEGORIES:QuickScores, Basketball Game
TRANSP:OPAQUE
BEGIN:VALARM
TRIGGER:-PT2H
ACTION:DISPLAY
DESCRIPTION:OLS-D vs. CV-G
END:VALARM
END:VEVENT
BEGIN:VEVENT
UID:toybowl-67059142-20250213T183000@quickscores.com
DTSTAMP:20260425T142400Z
DTSTART;TZID=America/Chicago:20250213T183000
DURATION:PT1H0M0S
SUMMARY:[2] CV-G vs. [7] Advent
DESCRIPTION:Junior Boys White - Toy Bowl
LOCATION:Our Lady of Sorrows
CATEGORIES:QuickScores, Basketball Game
TRANSP:OPAQUE
BEGIN:VALARM
TRIGGER:-PT2H
ACTION:DISPLAY
DESCRIPTION:[2] CV-G vs. [7] Advent
END:VALARM
END:VEVENT
BEGIN:VEVENT
UID:toybowl-67059145-20250215T130000@quickscores.com
DTSTAMP:20260425T142400Z
DTSTART;TZID=America/Chicago:20250215T130000
DURATION:PT1H0M0S
SUMMARY:[2] CV-G vs. [3] CV-F
DESCRIPTION:Junior Boys White - Toy Bowl
LOCATION:Our Lady of Sorrows
CATEGORIES:QuickScores, Basketball Game
TRANSP:OPAQUE
BEGIN:VALARM
TRIGGER:-PT2H
ACTION:DISPLAY
DESCRIPTION:[2] CV-G vs. [3] CV-F
END:VALARM
END:VEVENT
BEGIN:VEVENT
UID:toybowl-67059146-20250216T160000@quickscores.com
DTSTAMP:20260425T142400Z
DTSTART;TZID=America/Chicago:20250216T160000
DURATION:PT1H0M0S
SUMMARY:[4] OLS-D vs. [2] CV-G
DESCRIPTION:Junior Boys White - Toy Bowl
LOCATION:John Carroll Catholic High School
CATEGORIES:QuickScores, Basketball Game
TRANSP:OPAQUE
BEGIN:VALARM
TRIGGER:-PT2H
ACTION:DISPLAY
DESCRIPTION:[4] OLS-D vs. [2] CV-G
END:VALARM
END:VEVENT
END:VCALENDAR
