BEGIN:VCALENDAR
VERSION:2.0
PRODID:-//QuickScores.com//BQ Dynamic iCal Creator//EN
METHOD:PUBLISH
X-WR-CALNAME:SRA-Mz - Junior Boys White - Fall 2024
X-WR-CALDESC:QuickScores game calendar
X-PUBLISHED-TTL:PT24H
REFRESH-INTERVAL;VALUE=DURATION:PT24H
CALSCALE:GREGORIAN
BEGIN:VTIMEZONE
TZID:America/Chicago
X-LIC-LOCATION:America/Chicago
BEGIN:DAYLIGHT
TZNAME:CDT
TZOFFSETFROM:-0600
TZOFFSETTO:-0500
DTSTART:19700308T020000
RRULE:FREQ=YEARLY;BYMONTH=3;BYDAY=2SU
END:DAYLIGHT
BEGIN:STANDARD
TZNAME:CST
TZOFFSETFROM:-0500
TZOFFSETTO:-0600
DTSTART:19701101T020000
RRULE:FREQ=YEARLY;BYMONTH=11;BYDAY=1SU
END:STANDARD
END:VTIMEZONE
BEGIN:VEVENT
UID:toybowl-66066630-20241214T100000@quickscores.com
DTSTAMP:20260425T142400Z
DTSTART;TZID=America/Chicago:20241214T100000
DURATION:PT1H0M0S
SUMMARY:SRA-Mz vs. CV-G
DESCRIPTION:Junior Boys White - Toy Bowl
LOCATION:John Carroll Catholic High School
CATEGORIES:QuickScores, Basketball Game
TRANSP:OPAQUE
BEGIN:VALARM
TRIGGER:-PT2H
ACTION:DISPLAY
DESCRIPTION:SRA-Mz vs. CV-G
END:VALARM
END:VEVENT
BEGIN:VEVENT
UID:toybowl-66066633-20241221T140000@quickscores.com
DTSTAMP:20260425T142400Z
DTSTART;TZID=America/Chicago:20241221T140000
DURATION:PT1H0M0S
SUMMARY:SRA-Mz vs. OLS-D
DESCRIPTION:Junior Boys White - Toy Bowl
LOCATION:St. Rose Academy
CATEGORIES:QuickScores, Basketball Game
TRANSP:OPAQUE
BEGIN:VALARM
TRIGGER:-PT2H
ACTION:DISPLAY
DESCRIPTION:SRA-Mz vs. OLS-D
END:VALARM
END:VEVENT
BEGIN:VEVENT
UID:toybowl-66066640-20250118T120000@quickscores.com
DTSTAMP:20260425T142400Z
DTSTART;TZID=America/Chicago:20250118T120000
DURATION:PT1H0M0S
SUMMARY:SRA-Mz vs. POP-G
DESCRIPTION:Junior Boys White - Toy Bowl
LOCATION:St. Francis Xavier
CATEGORIES:QuickScores, Basketball Game
TRANSP:OPAQUE
BEGIN:VALARM
TRIGGER:-PT2H
ACTION:DISPLAY
DESCRIPTION:SRA-Mz vs. POP-G
END:VALARM
END:VEVENT
BEGIN:VEVENT
UID:toybowl-66066645-20250201T120000@quickscores.com
DTSTAMP:20260425T142400Z
DTSTART;TZID=America/Chicago:20250201T120000
DURATION:PT1H0M0S
SUMMARY:CV-F vs. SRA-Mz
DESCRIPTION:Junior Boys White - Toy Bowl
LOCATION:John Carroll Catholic High School
CATEGORIES:QuickScores, Basketball Game
TRANSP:OPAQUE
BEGIN:VALARM
TRIGGER:-PT2H
ACTION:DISPLAY
DESCRIPTION:CV-F vs. SRA-Mz
END:VALARM
END:VEVENT
BEGIN:VEVENT
UID:toybowl-66066638-20250201T140000@quickscores.com
DTSTAMP:20260425T142400Z
DTSTART;TZID=America/Chicago:20250201T140000
DURATION:PT1H0M0S
SUMMARY:SRA-Mz vs. OLS-M
DESCRIPTION:Junior Boys White - Toy Bowl
LOCATION:John Carroll Catholic High School
CATEGORIES:QuickScores, Basketball Game
TRANSP:OPAQUE
BEGIN:VALARM
TRIGGER:-PT2H
ACTION:DISPLAY
DESCRIPTION:SRA-Mz vs. OLS-M
END:VALARM
END:VEVENT
BEGIN:VEVENT
UID:toybowl-66066652-20250208T120000@quickscores.com
DTSTAMP:20260425T142400Z
DTSTART;TZID=America/Chicago:20250208T120000
DURATION:PT1H0M0S
SUMMARY:Advent vs. SRA-Mz
DESCRIPTION:Junior Boys White - Toy Bowl
LOCATION:St. Rose Academy
CATEGORIES:QuickScores, Basketball Game
TRANSP:OPAQUE
BEGIN:VALARM
TRIGGER:-PT2H
ACTION:DISPLAY
DESCRIPTION:Advent vs. SRA-Mz
END:VALARM
END:VEVENT
BEGIN:VEVENT
UID:toybowl-67059141-20250211T183000@quickscores.com
DTSTAMP:20260425T142400Z
DTSTART;TZID=America/Chicago:20250211T183000
DURATION:PT1H0M0S
SUMMARY:[4] OLS-D vs. [5] SRA-Mz
DESCRIPTION:Junior Boys White - Toy Bowl
LOCATION:Our Lady of Sorrows
CATEGORIES:QuickScores, Basketball Game
TRANSP:OPAQUE
BEGIN:VALARM
TRIGGER:-PT2H
ACTION:DISPLAY
DESCRIPTION:[4] OLS-D vs. [5] SRA-Mz
END:VALARM
END:VEVENT
END:VCALENDAR
