BEGIN:VCALENDAR
VERSION:2.0
PRODID:-//QuickScores.com//BQ Dynamic iCal Creator//EN
METHOD:PUBLISH
X-WR-CALNAME:Advent White - Senior Division - Fall 2023
X-WR-CALDESC:QuickScores game calendar
X-PUBLISHED-TTL:PT24H
REFRESH-INTERVAL;VALUE=DURATION:PT24H
CALSCALE:GREGORIAN
BEGIN:VTIMEZONE
TZID:America/Chicago
X-LIC-LOCATION:America/Chicago
BEGIN:DAYLIGHT
TZNAME:CDT
TZOFFSETFROM:-0600
TZOFFSETTO:-0500
DTSTART:19700308T020000
RRULE:FREQ=YEARLY;BYMONTH=3;BYDAY=2SU
END:DAYLIGHT
BEGIN:STANDARD
TZNAME:CST
TZOFFSETFROM:-0500
TZOFFSETTO:-0600
DTSTART:19701101T020000
RRULE:FREQ=YEARLY;BYMONTH=11;BYDAY=1SU
END:STANDARD
END:VTIMEZONE
BEGIN:VEVENT
UID:toybowl-59688539-20230909T120000@quickscores.com
DTSTAMP:20260425T065800Z
DTSTART;TZID=America/Chicago:20230909T120000
DURATION:PT1H0M0S
SUMMARY:Bruno vs. Advent White
DESCRIPTION:Senior Division - Toy Bowl
LOCATION:Advent Episcopal School
CATEGORIES:QuickScores, Volleyball Game
TRANSP:OPAQUE
BEGIN:VALARM
TRIGGER:-PT2H
ACTION:DISPLAY
DESCRIPTION:Bruno vs. Advent White
END:VALARM
END:VEVENT
BEGIN:VEVENT
UID:toybowl-59688538-20230909T140000@quickscores.com
DTSTAMP:20260425T065800Z
DTSTART;TZID=America/Chicago:20230909T140000
DURATION:PT1H0M0S
SUMMARY:OLS/SFX vs. Advent White
DESCRIPTION:Senior Division - Toy Bowl
LOCATION:Advent Episcopal School
CATEGORIES:QuickScores, Volleyball Game
TRANSP:OPAQUE
BEGIN:VALARM
TRIGGER:-PT2H
ACTION:DISPLAY
DESCRIPTION:OLS/SFX vs. Advent White
END:VALARM
END:VEVENT
BEGIN:VEVENT
UID:toybowl-59688545-20230916T100000@quickscores.com
DTSTAMP:20260425T065800Z
DTSTART;TZID=America/Chicago:20230916T100000
DURATION:PT1H0M0S
SUMMARY:Advent White vs. Advent Purple
DESCRIPTION:Senior Division - Toy Bowl
LOCATION:Our Lady of Sorrows
CATEGORIES:QuickScores, Volleyball Game
TRANSP:OPAQUE
BEGIN:VALARM
TRIGGER:-PT2H
ACTION:DISPLAY
DESCRIPTION:Advent White vs. Advent Purple
END:VALARM
END:VEVENT
BEGIN:VEVENT
UID:toybowl-59688542-20230916T120000@quickscores.com
DTSTAMP:20260425T065800Z
DTSTART;TZID=America/Chicago:20230916T120000
DURATION:PT1H0M0S
SUMMARY:Advent White vs. OLS/SFX
DESCRIPTION:Senior Division - Toy Bowl
LOCATION:Our Lady of Sorrows
CATEGORIES:QuickScores, Volleyball Game
TRANSP:OPAQUE
BEGIN:VALARM
TRIGGER:-PT2H
ACTION:DISPLAY
DESCRIPTION:Advent White vs. OLS/SFX
END:VALARM
END:VEVENT
BEGIN:VEVENT
UID:toybowl-59688549-20230923T080000@quickscores.com
DTSTAMP:20260425T065800Z
DTSTART;TZID=America/Chicago:20230923T080000
DURATION:PT1H0M0S
SUMMARY:Advent Purple vs. Advent White
DESCRIPTION:Senior Division - Toy Bowl
LOCATION:Advent Episcopal School
CATEGORIES:QuickScores, Volleyball Game
TRANSP:OPAQUE
BEGIN:VALARM
TRIGGER:-PT2H
ACTION:DISPLAY
DESCRIPTION:Advent Purple vs. Advent White
END:VALARM
END:VEVENT
BEGIN:VEVENT
UID:toybowl-59688546-20230923T090000@quickscores.com
DTSTAMP:20260425T065800Z
DTSTART;TZID=America/Chicago:20230923T090000
DURATION:PT1H0M0S
SUMMARY:Advent White vs. Bruno
DESCRIPTION:Senior Division - Toy Bowl
LOCATION:Advent Episcopal School
CATEGORIES:QuickScores, Volleyball Game
TRANSP:OPAQUE
BEGIN:VALARM
TRIGGER:-PT2H
ACTION:DISPLAY
DESCRIPTION:Advent White vs. Bruno
END:VALARM
END:VEVENT
BEGIN:VEVENT
UID:toybowl-59688550-20230930T090000@quickscores.com
DTSTAMP:20260425T065800Z
DTSTART;TZID=America/Chicago:20230930T090000
DURATION:PT1H0M0S
SUMMARY:OLS/SFX vs. Advent White
DESCRIPTION:Senior Division - Toy Bowl
LOCATION:Our Lady of Sorrows
CATEGORIES:QuickScores, Volleyball Game
TRANSP:OPAQUE
BEGIN:VALARM
TRIGGER:-PT2H
ACTION:DISPLAY
DESCRIPTION:OLS/SFX vs. Advent White
END:VALARM
END:VEVENT
BEGIN:VEVENT
UID:toybowl-59688551-20230930T100000@quickscores.com
DTSTAMP:20260425T065800Z
DTSTART;TZID=America/Chicago:20230930T100000
DURATION:PT1H0M0S
SUMMARY:Bruno vs. Advent White
DESCRIPTION:Senior Division - Toy Bowl
LOCATION:Our Lady of Sorrows
CATEGORIES:QuickScores, Volleyball Game
TRANSP:OPAQUE
BEGIN:VALARM
TRIGGER:-PT2H
ACTION:DISPLAY
DESCRIPTION:Bruno vs. Advent White
END:VALARM
END:VEVENT
BEGIN:VEVENT
UID:toybowl-59688554-20231007T100000@quickscores.com
DTSTAMP:20260425T065800Z
DTSTART;TZID=America/Chicago:20231007T100000
DURATION:PT1H0M0S
SUMMARY:Advent White vs. OLS/SFX
DESCRIPTION:Senior Division - Toy Bowl
LOCATION:Our Lady of the Valley
CATEGORIES:QuickScores, Volleyball Game
TRANSP:OPAQUE
BEGIN:VALARM
TRIGGER:-PT2H
ACTION:DISPLAY
DESCRIPTION:Advent White vs. OLS/SFX
END:VALARM
END:VEVENT
BEGIN:VEVENT
UID:toybowl-59688557-20231007T110000@quickscores.com
DTSTAMP:20260425T065800Z
DTSTART;TZID=America/Chicago:20231007T110000
DURATION:PT1H0M0S
SUMMARY:Advent White vs. Advent Purple
DESCRIPTION:Senior Division - Toy Bowl
LOCATION:Our Lady of the Valley
CATEGORIES:QuickScores, Volleyball Game
TRANSP:OPAQUE
BEGIN:VALARM
TRIGGER:-PT2H
ACTION:DISPLAY
DESCRIPTION:Advent White vs. Advent Purple
END:VALARM
END:VEVENT
BEGIN:VEVENT
UID:toybowl-59688561-20231014T090000@quickscores.com
DTSTAMP:20260425T065800Z
DTSTART;TZID=America/Chicago:20231014T090000
DURATION:PT1H0M0S
SUMMARY:Advent Purple vs. Advent White
DESCRIPTION:Senior Division - Toy Bowl
LOCATION:Our Lady of the Valley
CATEGORIES:QuickScores, Volleyball Game
TRANSP:OPAQUE
BEGIN:VALARM
TRIGGER:-PT2H
ACTION:DISPLAY
DESCRIPTION:Advent Purple vs. Advent White
END:VALARM
END:VEVENT
BEGIN:VEVENT
UID:toybowl-59688558-20231014T110000@quickscores.com
DTSTAMP:20260425T065800Z
DTSTART;TZID=America/Chicago:20231014T110000
DURATION:PT1H0M0S
SUMMARY:Advent White vs. Bruno
DESCRIPTION:Senior Division - Toy Bowl
LOCATION:Our Lady of the Valley
CATEGORIES:QuickScores, Volleyball Game
TRANSP:OPAQUE
BEGIN:VALARM
TRIGGER:-PT2H
ACTION:DISPLAY
DESCRIPTION:Advent White vs. Bruno
END:VALARM
END:VEVENT
BEGIN:VEVENT
UID:toybowl-60257912-20231021T130000@quickscores.com
DTSTAMP:20260425T065800Z
DTSTART;TZID=America/Chicago:20231021T130000
DURATION:PT1H0M0S
SUMMARY:[2] Advent White vs. [3] Bruno
DESCRIPTION:Senior Division - Toy Bowl
LOCATION:John Carroll Catholic High School
CATEGORIES:QuickScores, Volleyball Game
TRANSP:OPAQUE
BEGIN:VALARM
TRIGGER:-PT2H
ACTION:DISPLAY
DESCRIPTION:[2] Advent White vs. [3] Bruno
END:VALARM
END:VEVENT
BEGIN:VEVENT
UID:toybowl-60257913-20231021T140000@quickscores.com
DTSTAMP:20260425T065800Z
DTSTART;TZID=America/Chicago:20231021T140000
DURATION:PT1H0M0S
SUMMARY:[1] Advent Purple vs. [2] Advent White
DESCRIPTION:Senior Division - Toy Bowl
LOCATION:John Carroll Catholic High School
CATEGORIES:QuickScores, Volleyball Game
TRANSP:OPAQUE
BEGIN:VALARM
TRIGGER:-PT2H
ACTION:DISPLAY
DESCRIPTION:[1] Advent Purple vs. [2] Advent White
END:VALARM
END:VEVENT
END:VCALENDAR
