BEGIN:VCALENDAR
VERSION:2.0
PRODID:-//QuickScores.com//BQ Dynamic iCal Creator//EN
METHOD:PUBLISH
X-WR-CALNAME:Galaxy - Pre-k/kindergarten - Spring 2026
X-WR-CALDESC:QuickScores game calendar
X-PUBLISHED-TTL:PT24H
REFRESH-INTERVAL;VALUE=DURATION:PT24H
CALSCALE:GREGORIAN
BEGIN:VTIMEZONE
TZID:America/Chicago
X-LIC-LOCATION:America/Chicago
BEGIN:DAYLIGHT
TZNAME:CDT
TZOFFSETFROM:-0600
TZOFFSETTO:-0500
DTSTART:19700308T020000
RRULE:FREQ=YEARLY;BYMONTH=3;BYDAY=2SU
END:DAYLIGHT
BEGIN:STANDARD
TZNAME:CST
TZOFFSETFROM:-0500
TZOFFSETTO:-0600
DTSTART:19701101T020000
RRULE:FREQ=YEARLY;BYMONTH=11;BYDAY=1SU
END:STANDARD
END:VTIMEZONE
BEGIN:VEVENT
UID:tinleypark-74256152-20260411T110000@quickscores.com
DTSTAMP:20260423T222700Z
DTSTART;TZID=America/Chicago:20260411T110000
DURATION:PT1H0M0S
SUMMARY:Practice: Galaxy vs. Fire
DESCRIPTION:*FULL PRACTICE SOUTH END* --- Pre-k/kindergarten - Tinley Park - Park District
LOCATION:Freedom Park - West Field
CATEGORIES:QuickScores, Soccer - Youth Game
TRANSP:OPAQUE
BEGIN:VALARM
TRIGGER:-PT2H
ACTION:DISPLAY
DESCRIPTION:Practice: Galaxy vs. Fire
END:VALARM
END:VEVENT
BEGIN:VEVENT
UID:tinleypark-74256158-20260418T100000@quickscores.com
DTSTAMP:20260423T222700Z
DTSTART;TZID=America/Chicago:20260418T100000
DURATION:PT1H0M0S
SUMMARY:Earthquakes vs. Galaxy
DESCRIPTION:CANCELLED DUE TO WEATHER --- Pre-k/kindergarten - Tinley Park - Park District
LOCATION:Community Park Soccer Field 5
CATEGORIES:QuickScores, Soccer - Youth Game
TRANSP:OPAQUE
BEGIN:VALARM
TRIGGER:-PT2H
ACTION:DISPLAY
DESCRIPTION:Earthquakes vs. Galaxy
END:VALARM
END:VEVENT
BEGIN:VEVENT
UID:tinleypark-74256161-20260425T090000@quickscores.com
DTSTAMP:20260423T222700Z
DTSTART;TZID=America/Chicago:20260425T090000
DURATION:PT1H0M0S
SUMMARY:Galaxy vs. Stars
DESCRIPTION:*Scrimmage Game --- Pre-k/kindergarten - Tinley Park - Park District
LOCATION:Community Park Soccer Field 5
CATEGORIES:QuickScores, Soccer - Youth Game
TRANSP:OPAQUE
BEGIN:VALARM
TRIGGER:-PT2H
ACTION:DISPLAY
DESCRIPTION:Galaxy vs. Stars
END:VALARM
END:VEVENT
BEGIN:VEVENT
UID:tinleypark-74256169-20260502T100000@quickscores.com
DTSTAMP:20260423T222700Z
DTSTART;TZID=America/Chicago:20260502T100000
DURATION:PT1H0M0S
SUMMARY:Blizzard vs. Galaxy
DESCRIPTION:Pre-k/kindergarten - Tinley Park - Park District
LOCATION:Community Park Soccer Field 5
CATEGORIES:QuickScores, Soccer - Youth Game
TRANSP:OPAQUE
BEGIN:VALARM
TRIGGER:-PT2H
ACTION:DISPLAY
DESCRIPTION:Blizzard vs. Galaxy
END:VALARM
END:VEVENT
BEGIN:VEVENT
UID:tinleypark-74662604-20260504T180500@quickscores.com
DTSTAMP:20260423T222700Z
DTSTART;TZID=America/Chicago:20260504T180500
DURATION:PT0H50M0S
SUMMARY:Earthquakes vs. Galaxy
DESCRIPTION:MAKE UP GAME from 4/18 --- Pre-k/kindergarten - Tinley Park - Park District
LOCATION:Community Park Soccer Field 5
CATEGORIES:QuickScores, Soccer - Youth Game
TRANSP:OPAQUE
BEGIN:VALARM
TRIGGER:-PT2H
ACTION:DISPLAY
DESCRIPTION:Earthquakes vs. Galaxy
END:VALARM
END:VEVENT
BEGIN:VEVENT
UID:tinleypark-74256172-20260509T090000@quickscores.com
DTSTAMP:20260423T222700Z
DTSTART;TZID=America/Chicago:20260509T090000
DURATION:PT1H0M0S
SUMMARY:Galaxy vs. Celtics
DESCRIPTION:Pre-k/kindergarten - Tinley Park - Park District
LOCATION:Community Park Soccer Field 5
CATEGORIES:QuickScores, Soccer - Youth Game
TRANSP:OPAQUE
BEGIN:VALARM
TRIGGER:-PT2H
ACTION:DISPLAY
DESCRIPTION:Galaxy vs. Celtics
END:VALARM
END:VEVENT
BEGIN:VEVENT
UID:tinleypark-74256180-20260516T090000@quickscores.com
DTSTAMP:20260423T222700Z
DTSTART;TZID=America/Chicago:20260516T090000
DURATION:PT1H0M0S
SUMMARY:Dynamo vs. Galaxy
DESCRIPTION:Pre-k/kindergarten - Tinley Park - Park District
LOCATION:Community Park Soccer Field 4
CATEGORIES:QuickScores, Soccer - Youth Game
TRANSP:OPAQUE
BEGIN:VALARM
TRIGGER:-PT2H
ACTION:DISPLAY
DESCRIPTION:Dynamo vs. Galaxy
END:VALARM
END:VEVENT
BEGIN:VEVENT
UID:tinleypark-74279771-20260520T174500@quickscores.com
DTSTAMP:20260423T222700Z
DTSTART;TZID=America/Chicago:20260520T174500
DURATION:PT0H45M0S
SUMMARY:Fire vs. Galaxy
DESCRIPTION:*Weekday Game --- Pre-k/kindergarten - Tinley Park - Park District
LOCATION:Community Park Soccer Field 5
CATEGORIES:QuickScores, Soccer - Youth Game
TRANSP:OPAQUE
BEGIN:VALARM
TRIGGER:-PT2H
ACTION:DISPLAY
DESCRIPTION:Fire vs. Galaxy
END:VALARM
END:VEVENT
BEGIN:VEVENT
UID:tinleypark-74256190-20260530T100000@quickscores.com
DTSTAMP:20260423T222700Z
DTSTART;TZID=America/Chicago:20260530T100000
DURATION:PT1H0M0S
SUMMARY:Galaxy vs. United
DESCRIPTION:*EARLY GAME TIMES* --- Pre-k/kindergarten - Tinley Park - Park District
LOCATION:Community Park Soccer Field 4
CATEGORIES:QuickScores, Soccer - Youth Game
TRANSP:OPAQUE
BEGIN:VALARM
TRIGGER:-PT2H
ACTION:DISPLAY
DESCRIPTION:Galaxy vs. United
END:VALARM
END:VEVENT
BEGIN:VEVENT
UID:tinleypark-74256183-20260606T174500@quickscores.com
DTSTAMP:20260423T222700Z
DTSTART;TZID=America/Chicago:20260606T174500
DURATION:PT1H0M0S
SUMMARY:Rapids vs. Galaxy
DESCRIPTION:*Palooza Game Field 1-North* --- Pre-k/kindergarten - Tinley Park - Park District
LOCATION:Freedom Park - West Field
CATEGORIES:QuickScores, Soccer - Youth Game
TRANSP:OPAQUE
BEGIN:VALARM
TRIGGER:-PT2H
ACTION:DISPLAY
DESCRIPTION:Rapids vs. Galaxy
END:VALARM
END:VEVENT
END:VCALENDAR
