BEGIN:VCALENDAR
VERSION:2.0
PRODID:-//QuickScores.com//BQ Dynamic iCal Creator//EN
METHOD:PUBLISH
X-WR-CALNAME:Blizzard - Pre-k/kindergarten - Spring 2026
X-WR-CALDESC:QuickScores game calendar
X-PUBLISHED-TTL:PT24H
REFRESH-INTERVAL;VALUE=DURATION:PT24H
CALSCALE:GREGORIAN
BEGIN:VTIMEZONE
TZID:America/Chicago
X-LIC-LOCATION:America/Chicago
BEGIN:DAYLIGHT
TZNAME:CDT
TZOFFSETFROM:-0600
TZOFFSETTO:-0500
DTSTART:19700308T020000
RRULE:FREQ=YEARLY;BYMONTH=3;BYDAY=2SU
END:DAYLIGHT
BEGIN:STANDARD
TZNAME:CST
TZOFFSETFROM:-0500
TZOFFSETTO:-0600
DTSTART:19701101T020000
RRULE:FREQ=YEARLY;BYMONTH=11;BYDAY=1SU
END:STANDARD
END:VTIMEZONE
BEGIN:VEVENT
UID:tinleypark-74256155-20260411T100000@quickscores.com
DTSTAMP:20260424T090700Z
DTSTART;TZID=America/Chicago:20260411T100000
DURATION:PT1H0M0S
SUMMARY:Practice: Rapids vs. Blizzard
DESCRIPTION:*FULL PRACTICE NORTH END* --- Pre-k/kindergarten - Tinley Park - Park District
LOCATION:Freedom Park - West Field
CATEGORIES:QuickScores, Soccer - Youth Game
TRANSP:OPAQUE
BEGIN:VALARM
TRIGGER:-PT2H
ACTION:DISPLAY
DESCRIPTION:Practice: Rapids vs. Blizzard
END:VALARM
END:VEVENT
BEGIN:VEVENT
UID:tinleypark-74256160-20260418T110000@quickscores.com
DTSTAMP:20260424T090700Z
DTSTART;TZID=America/Chicago:20260418T110000
DURATION:PT1H0M0S
SUMMARY:Blizzard vs. Celtics
DESCRIPTION:CANCELLED DUE TO WEATHER --- Pre-k/kindergarten - Tinley Park - Park District
LOCATION:Community Park Soccer Field 4
CATEGORIES:QuickScores, Soccer - Youth Game
TRANSP:OPAQUE
BEGIN:VALARM
TRIGGER:-PT2H
ACTION:DISPLAY
DESCRIPTION:Blizzard vs. Celtics
END:VALARM
END:VEVENT
BEGIN:VEVENT
UID:tinleypark-74256164-20260425T100000@quickscores.com
DTSTAMP:20260424T090700Z
DTSTART;TZID=America/Chicago:20260425T100000
DURATION:PT1H0M0S
SUMMARY:Chargers vs. Blizzard
DESCRIPTION:*Scrimmage Game --- Pre-k/kindergarten - Tinley Park - Park District
LOCATION:Community Park Soccer Field 5
CATEGORIES:QuickScores, Soccer - Youth Game
TRANSP:OPAQUE
BEGIN:VALARM
TRIGGER:-PT2H
ACTION:DISPLAY
DESCRIPTION:Chargers vs. Blizzard
END:VALARM
END:VEVENT
BEGIN:VEVENT
UID:tinleypark-74256169-20260502T100000@quickscores.com
DTSTAMP:20260424T090700Z
DTSTART;TZID=America/Chicago:20260502T100000
DURATION:PT1H0M0S
SUMMARY:Blizzard vs. Galaxy
DESCRIPTION:Pre-k/kindergarten - Tinley Park - Park District
LOCATION:Community Park Soccer Field 5
CATEGORIES:QuickScores, Soccer - Youth Game
TRANSP:OPAQUE
BEGIN:VALARM
TRIGGER:-PT2H
ACTION:DISPLAY
DESCRIPTION:Blizzard vs. Galaxy
END:VALARM
END:VEVENT
BEGIN:VEVENT
UID:tinleypark-74662605-20260504T171500@quickscores.com
DTSTAMP:20260424T090700Z
DTSTART;TZID=America/Chicago:20260504T171500
DURATION:PT0H50M0S
SUMMARY:Blizzard vs. Celtics
DESCRIPTION:MAKE UP GAME from 4/18 --- Pre-k/kindergarten - Tinley Park - Park District
LOCATION:Community Park Soccer Field 6
CATEGORIES:QuickScores, Soccer - Youth Game
TRANSP:OPAQUE
BEGIN:VALARM
TRIGGER:-PT2H
ACTION:DISPLAY
DESCRIPTION:Blizzard vs. Celtics
END:VALARM
END:VEVENT
BEGIN:VEVENT
UID:tinleypark-74256173-20260509T100000@quickscores.com
DTSTAMP:20260424T090700Z
DTSTART;TZID=America/Chicago:20260509T100000
DURATION:PT1H0M0S
SUMMARY:United vs. Blizzard
DESCRIPTION:Pre-k/kindergarten - Tinley Park - Park District
LOCATION:Community Park Soccer Field 4
CATEGORIES:QuickScores, Soccer - Youth Game
TRANSP:OPAQUE
BEGIN:VALARM
TRIGGER:-PT2H
ACTION:DISPLAY
DESCRIPTION:United vs. Blizzard
END:VALARM
END:VEVENT
BEGIN:VEVENT
UID:tinleypark-74256178-20260516T110000@quickscores.com
DTSTAMP:20260424T090700Z
DTSTART;TZID=America/Chicago:20260516T110000
DURATION:PT1H0M0S
SUMMARY:Fire vs. Blizzard
DESCRIPTION:Pre-k/kindergarten - Tinley Park - Park District
LOCATION:Community Park Soccer Field 4
CATEGORIES:QuickScores, Soccer - Youth Game
TRANSP:OPAQUE
BEGIN:VALARM
TRIGGER:-PT2H
ACTION:DISPLAY
DESCRIPTION:Fire vs. Blizzard
END:VALARM
END:VEVENT
BEGIN:VEVENT
UID:tinleypark-74279768-20260520T170000@quickscores.com
DTSTAMP:20260424T090700Z
DTSTART;TZID=America/Chicago:20260520T170000
DURATION:PT0H45M0S
SUMMARY:Blizzard vs. Rapids
DESCRIPTION:*Weekday Game --- Pre-k/kindergarten - Tinley Park - Park District
LOCATION:Community Park Soccer Field 4
CATEGORIES:QuickScores, Soccer - Youth Game
TRANSP:OPAQUE
BEGIN:VALARM
TRIGGER:-PT2H
ACTION:DISPLAY
DESCRIPTION:Blizzard vs. Rapids
END:VALARM
END:VEVENT
BEGIN:VEVENT
UID:tinleypark-74256187-20260530T080000@quickscores.com
DTSTAMP:20260424T090700Z
DTSTART;TZID=America/Chicago:20260530T080000
DURATION:PT1H0M0S
SUMMARY:Blizzard vs. Earthquakes
DESCRIPTION:*EARLY GAME TIMES* --- Pre-k/kindergarten - Tinley Park - Park District
LOCATION:Community Park Soccer Field 5
CATEGORIES:QuickScores, Soccer - Youth Game
TRANSP:OPAQUE
BEGIN:VALARM
TRIGGER:-PT2H
ACTION:DISPLAY
DESCRIPTION:Blizzard vs. Earthquakes
END:VALARM
END:VEVENT
BEGIN:VEVENT
UID:tinleypark-74256182-20260606T170000@quickscores.com
DTSTAMP:20260424T090700Z
DTSTART;TZID=America/Chicago:20260606T170000
DURATION:PT1H0M0S
SUMMARY:Blizzard vs. Dynamo
DESCRIPTION:*Palooza Game Field 2-Middle* --- Pre-k/kindergarten - Tinley Park - Park District
LOCATION:Freedom Park - West Field
CATEGORIES:QuickScores, Soccer - Youth Game
TRANSP:OPAQUE
BEGIN:VALARM
TRIGGER:-PT2H
ACTION:DISPLAY
DESCRIPTION:Blizzard vs. Dynamo
END:VALARM
END:VEVENT
END:VCALENDAR
