BEGIN:VCALENDAR
VERSION:2.0
PRODID:-//QuickScores.com//BQ Dynamic iCal Creator//EN
METHOD:PUBLISH
X-WR-CALNAME:Mamba - 3on3 Basketball - 5th Grade Boys Division A - Summer 2025
X-WR-CALDESC:QuickScores game calendar
X-PUBLISHED-TTL:PT24H
REFRESH-INTERVAL;VALUE=DURATION:PT24H
CALSCALE:GREGORIAN
BEGIN:VTIMEZONE
TZID:America/Chicago
X-LIC-LOCATION:America/Chicago
BEGIN:DAYLIGHT
TZNAME:CDT
TZOFFSETFROM:-0600
TZOFFSETTO:-0500
DTSTART:19700308T020000
RRULE:FREQ=YEARLY;BYMONTH=3;BYDAY=2SU
END:DAYLIGHT
BEGIN:STANDARD
TZNAME:CST
TZOFFSETFROM:-0500
TZOFFSETTO:-0600
DTSTART:19701101T020000
RRULE:FREQ=YEARLY;BYMONTH=11;BYDAY=1SU
END:STANDARD
END:VTIMEZONE
BEGIN:VEVENT
UID:thecommunityhouse-70211398-20250816T083000@quickscores.com
DTSTAMP:20260425T154500Z
DTSTART;TZID=America/Chicago:20250816T083000
DURATION:PT0H25M0S
SUMMARY:Mamba vs. Cobra Chi
DESCRIPTION:3on3 Basketball - 5th Grade Boys Division A - The Community House 
LOCATION:Court 12
CATEGORIES:QuickScores, Basketball - Youth Game
TRANSP:OPAQUE
BEGIN:VALARM
TRIGGER:-PT2H
ACTION:DISPLAY
DESCRIPTION:Mamba vs. Cobra Chi
END:VALARM
END:VEVENT
BEGIN:VEVENT
UID:thecommunityhouse-70211403-20250816T103000@quickscores.com
DTSTAMP:20260425T154500Z
DTSTART;TZID=America/Chicago:20250816T103000
DURATION:PT0H25M0S
SUMMARY:Ballers vs. Mamba
DESCRIPTION:3on3 Basketball - 5th Grade Boys Division A - The Community House 
LOCATION:Court 11
CATEGORIES:QuickScores, Basketball - Youth Game
TRANSP:OPAQUE
BEGIN:VALARM
TRIGGER:-PT2H
ACTION:DISPLAY
DESCRIPTION:Ballers vs. Mamba
END:VALARM
END:VEVENT
BEGIN:VEVENT
UID:thecommunityhouse-70211406-20250816T120000@quickscores.com
DTSTAMP:20260425T154500Z
DTSTART;TZID=America/Chicago:20250816T120000
DURATION:PT0H25M0S
SUMMARY:Mamba vs. Cobra Chi
DESCRIPTION:3on3 Basketball - 5th Grade Boys Division A - The Community House 
LOCATION:Court 6
CATEGORIES:QuickScores, Basketball - Youth Game
TRANSP:OPAQUE
BEGIN:VALARM
TRIGGER:-PT2H
ACTION:DISPLAY
DESCRIPTION:Mamba vs. Cobra Chi
END:VALARM
END:VEVENT
END:VCALENDAR
