BEGIN:VCALENDAR
VERSION:2.0
PRODID:-//QuickScores.com//BQ Dynamic iCal Creator//EN
METHOD:PUBLISH
X-WR-CALNAME:Legends of Dayton 70 AA - 70 Aa - Thee Buckeye Classic - 2024
X-WR-CALDESC:QuickScores game calendar
X-PUBLISHED-TTL:PT24H
REFRESH-INTERVAL;VALUE=DURATION:PT24H
CALSCALE:GREGORIAN
BEGIN:VTIMEZONE
TZID:America/New_York
X-LIC-LOCATION:America/New_York
BEGIN:DAYLIGHT
TZNAME:EDT
TZOFFSETFROM:-0500
TZOFFSETTO:-0400
DTSTART:19700308T020000
RRULE:FREQ=YEARLY;BYMONTH=3;BYDAY=2SU
END:DAYLIGHT
BEGIN:STANDARD
TZNAME:EST
TZOFFSETFROM:-0400
TZOFFSETTO:-0500
DTSTART:19701101T020000
RRULE:FREQ=YEARLY;BYMONTH=11;BYDAY=1SU
END:STANDARD
END:VTIMEZONE
BEGIN:VEVENT
UID:thebuckeyeclassic-63752636-20240624T090000@quickscores.com
DTSTAMP:20260423T111600Z
DTSTART;TZID=America/New_York:20240624T090000
DURATION:PT1H30M0S
SUMMARY:Northeast Ohio Boomers 70 AA vs. Legends of Dayton 70 AA
DESCRIPTION:70 Aa - <BR> <b> The Buckeye Classic
LOCATION:Field 4
CATEGORIES:QuickScores, Softball - Adult Game
TRANSP:OPAQUE
BEGIN:VALARM
TRIGGER:-PT2H
ACTION:DISPLAY
DESCRIPTION:Northeast Ohio Boomers 70 AA vs. Legends of Dayton 70 AA
END:VALARM
END:VEVENT
BEGIN:VEVENT
UID:thebuckeyeclassic-63752634-20240624T103000@quickscores.com
DTSTAMP:20260423T111600Z
DTSTART;TZID=America/New_York:20240624T103000
DURATION:PT1H30M0S
SUMMARY:Legends of Dayton 70 AA vs. COSSA 70 AA
DESCRIPTION:70 Aa - <BR> <b> The Buckeye Classic
LOCATION:Field 4
CATEGORIES:QuickScores, Softball - Adult Game
TRANSP:OPAQUE
BEGIN:VALARM
TRIGGER:-PT2H
ACTION:DISPLAY
DESCRIPTION:Legends of Dayton 70 AA vs. COSSA 70 AA
END:VALARM
END:VEVENT
BEGIN:VEVENT
UID:thebuckeyeclassic-63752671-20240625T090000@quickscores.com
DTSTAMP:20260423T111600Z
DTSTART;TZID=America/New_York:20240625T090000
DURATION:PT1H30M0S
SUMMARY:[2] Northeast Ohio Boomers 70 AA vs. [3] Legends of Dayton 70 AA
DESCRIPTION:70 Aa - <BR> <b> The Buckeye Classic
LOCATION:Field 3
CATEGORIES:QuickScores, Softball - Adult Game
TRANSP:OPAQUE
BEGIN:VALARM
TRIGGER:-PT2H
ACTION:DISPLAY
DESCRIPTION:[2] Northeast Ohio Boomers 70 AA vs. [3] Legends of Dayton 70 AA
END:VALARM
END:VEVENT
BEGIN:VEVENT
UID:thebuckeyeclassic-63752672-20240625T103000@quickscores.com
DTSTAMP:20260423T111600Z
DTSTART;TZID=America/New_York:20240625T103000
DURATION:PT1H30M0S
SUMMARY:[1] Ohio Silverados 70 AA vs. [3] Legends of Dayton 70 AA
DESCRIPTION:70 Aa - <BR> <b> The Buckeye Classic
LOCATION:Field 4
CATEGORIES:QuickScores, Softball - Adult Game
TRANSP:OPAQUE
BEGIN:VALARM
TRIGGER:-PT2H
ACTION:DISPLAY
DESCRIPTION:[1] Ohio Silverados 70 AA vs. [3] Legends of Dayton 70 AA
END:VALARM
END:VEVENT
BEGIN:VEVENT
UID:thebuckeyeclassic-63752675-20240626T103000@quickscores.com
DTSTAMP:20260423T111600Z
DTSTART;TZID=America/New_York:20240626T103000
DURATION:PT1H30M0S
SUMMARY:[3] Legends of Dayton 70 AA vs. [1] Ohio Silverados 70 AA
DESCRIPTION:70 Aa - <BR> <b> The Buckeye Classic
LOCATION:Field 2
CATEGORIES:QuickScores, Softball - Adult Game
TRANSP:OPAQUE
BEGIN:VALARM
TRIGGER:-PT2H
ACTION:DISPLAY
DESCRIPTION:[3] Legends of Dayton 70 AA vs. [1] Ohio Silverados 70 AA
END:VALARM
END:VEVENT
END:VCALENDAR
