BEGIN:VCALENDAR
VERSION:2.0
PRODID:-//QuickScores.com//BQ Dynamic iCal Creator//EN
METHOD:PUBLISH
X-WR-CALNAME:SFS 60 AAA - 60 Aa/aaa - Thee Buckeye Classic - 2024
X-WR-CALDESC:QuickScores game calendar
X-PUBLISHED-TTL:PT24H
REFRESH-INTERVAL;VALUE=DURATION:PT24H
CALSCALE:GREGORIAN
BEGIN:VTIMEZONE
TZID:America/New_York
X-LIC-LOCATION:America/New_York
BEGIN:DAYLIGHT
TZNAME:EDT
TZOFFSETFROM:-0500
TZOFFSETTO:-0400
DTSTART:19700308T020000
RRULE:FREQ=YEARLY;BYMONTH=3;BYDAY=2SU
END:DAYLIGHT
BEGIN:STANDARD
TZNAME:EST
TZOFFSETFROM:-0400
TZOFFSETTO:-0500
DTSTART:19701101T020000
RRULE:FREQ=YEARLY;BYMONTH=11;BYDAY=1SU
END:STANDARD
END:VTIMEZONE
BEGIN:VEVENT
UID:thebuckeyeclassic-63751593-20240621T103000@quickscores.com
DTSTAMP:20260420T153500Z
DTSTART;TZID=America/New_York:20240621T103000
DURATION:PT1H30M0S
SUMMARY:Jackson Merchants 60 AAA vs. SFS 60 AAA
DESCRIPTION:60 Aa/aaa - <BR> <b> The Buckeye Classic
LOCATION:Field 4
CATEGORIES:QuickScores, Softball - Adult Game
TRANSP:OPAQUE
BEGIN:VALARM
TRIGGER:-PT2H
ACTION:DISPLAY
DESCRIPTION:Jackson Merchants 60 AAA vs. SFS 60 AAA
END:VALARM
END:VEVENT
BEGIN:VEVENT
UID:thebuckeyeclassic-63751599-20240621T120000@quickscores.com
DTSTAMP:20260420T153500Z
DTSTART;TZID=America/New_York:20240621T120000
DURATION:PT1H30M0S
SUMMARY:SFS 60 AAA vs. Buckeye Classics 60 AAA
DESCRIPTION:60 Aa/aaa - <BR> <b> The Buckeye Classic
LOCATION:Field 4
CATEGORIES:QuickScores, Softball - Adult Game
TRANSP:OPAQUE
BEGIN:VALARM
TRIGGER:-PT2H
ACTION:DISPLAY
DESCRIPTION:SFS 60 AAA vs. Buckeye Classics 60 AAA
END:VALARM
END:VEVENT
BEGIN:VEVENT
UID:thebuckeyeclassic-63751605-20240621T133000@quickscores.com
DTSTAMP:20260420T153500Z
DTSTART;TZID=America/New_York:20240621T133000
DURATION:PT1H30M0S
SUMMARY:[B2] SFS 60 AAA vs. [A4] Hard Knox 60 AAA
DESCRIPTION:60 Aa/aaa - <BR> <b> The Buckeye Classic
LOCATION:Field 2
CATEGORIES:QuickScores, Softball - Adult Game
TRANSP:OPAQUE
BEGIN:VALARM
TRIGGER:-PT2H
ACTION:DISPLAY
DESCRIPTION:[B2] SFS 60 AAA vs. [A4] Hard Knox 60 AAA
END:VALARM
END:VEVENT
BEGIN:VEVENT
UID:thebuckeyeclassic-63751611-20240621T150000@quickscores.com
DTSTAMP:20260420T153500Z
DTSTART;TZID=America/New_York:20240621T150000
DURATION:PT1H30M0S
SUMMARY:[C2] Bomani TTK 60 AAA vs. [B2] SFS 60 AAA
DESCRIPTION:60 Aa/aaa - <BR> <b> The Buckeye Classic
LOCATION:Field 2
CATEGORIES:QuickScores, Softball - Adult Game
TRANSP:OPAQUE
BEGIN:VALARM
TRIGGER:-PT2H
ACTION:DISPLAY
DESCRIPTION:[C2] Bomani TTK 60 AAA vs. [B2] SFS 60 AAA
END:VALARM
END:VEVENT
BEGIN:VEVENT
UID:thebuckeyeclassic-63751622-20240622T090000@quickscores.com
DTSTAMP:20260420T153500Z
DTSTART;TZID=America/New_York:20240622T090000
DURATION:PT1H30M0S
SUMMARY:[C3] Steele City A's 60 AAA vs. [B2] SFS 60 AAA
DESCRIPTION:60 Aa/aaa - <BR> <b> The Buckeye Classic
LOCATION:Field 1
CATEGORIES:QuickScores, Softball - Adult Game
TRANSP:OPAQUE
BEGIN:VALARM
TRIGGER:-PT2H
ACTION:DISPLAY
DESCRIPTION:[C3] Steele City A's 60 AAA vs. [B2] SFS 60 AAA
END:VALARM
END:VEVENT
BEGIN:VEVENT
UID:thebuckeyeclassic-63751628-20240622T103000@quickscores.com
DTSTAMP:20260420T153500Z
DTSTART;TZID=America/New_York:20240622T103000
DURATION:PT1H30M0S
SUMMARY:[B2] SFS 60 AAA vs. [C4] Michigan Wizards 60 AAA
DESCRIPTION:60 Aa/aaa - <BR> <b> The Buckeye Classic
LOCATION:Field 2
CATEGORIES:QuickScores, Softball - Adult Game
TRANSP:OPAQUE
BEGIN:VALARM
TRIGGER:-PT2H
ACTION:DISPLAY
DESCRIPTION:[B2] SFS 60 AAA vs. [C4] Michigan Wizards 60 AAA
END:VALARM
END:VEVENT
BEGIN:VEVENT
UID:thebuckeyeclassic-63751631-20240622T150000@quickscores.com
DTSTAMP:20260420T153500Z
DTSTART;TZID=America/New_York:20240622T150000
DURATION:PT1H30M0S
SUMMARY:[B2] SFS 60 AAA vs. [C4] Michigan Wizards 60 AAA
DESCRIPTION:60 Aa/aaa - <BR> <b> The Buckeye Classic
LOCATION:Field 3
CATEGORIES:QuickScores, Softball - Adult Game
TRANSP:OPAQUE
BEGIN:VALARM
TRIGGER:-PT2H
ACTION:DISPLAY
DESCRIPTION:[B2] SFS 60 AAA vs. [C4] Michigan Wizards 60 AAA
END:VALARM
END:VEVENT
BEGIN:VEVENT
UID:thebuckeyeclassic-63751632-20240622T163000@quickscores.com
DTSTAMP:20260420T153500Z
DTSTART;TZID=America/New_York:20240622T163000
DURATION:PT1H30M0S
SUMMARY:[C4] Michigan Wizards 60 AAA vs. [B2] SFS 60 AAA
DESCRIPTION:60 Aa/aaa - <BR> <b> The Buckeye Classic
LOCATION:Field 3
CATEGORIES:QuickScores, Softball - Adult Game
TRANSP:OPAQUE
BEGIN:VALARM
TRIGGER:-PT2H
ACTION:DISPLAY
DESCRIPTION:[C4] Michigan Wizards 60 AAA vs. [B2] SFS 60 AAA
END:VALARM
END:VEVENT
END:VCALENDAR
