BEGIN:VCALENDAR
VERSION:2.0
PRODID:-//QuickScores.com//BQ Dynamic iCal Creator//EN
METHOD:PUBLISH
X-WR-CALNAME:Rams - Stewart - 7th Grade - Spring 2026
X-WR-CALDESC:QuickScores game calendar
X-PUBLISHED-TTL:PT24H
REFRESH-INTERVAL;VALUE=DURATION:PT24H
CALSCALE:GREGORIAN
BEGIN:VTIMEZONE
TZID:America/Denver
X-LIC-LOCATION:America/Denver
BEGIN:DAYLIGHT
TZNAME:MDT
TZOFFSETFROM:-0700
TZOFFSETTO:-0600
DTSTART:19700308T020000
RRULE:FREQ=YEARLY;BYMONTH=3;BYDAY=2SU
END:DAYLIGHT
BEGIN:STANDARD
TZNAME:MST
TZOFFSETFROM:-0600
TZOFFSETTO:-0700
DTSTART:19701101T020000
RRULE:FREQ=YEARLY;BYMONTH=11;BYDAY=1SU
END:STANDARD
END:VTIMEZONE
BEGIN:VEVENT
UID:sunyfl-73066579-20260328T141500@quickscores.com
DTSTAMP:20260422T151100Z
DTSTART;TZID=America/Denver:20260328T141500
DURATION:PT0H45M0S
SUMMARY:Rams - Stewart vs. Mustangs Red - Ence
DESCRIPTION:7th Grade - SUN Youth Football League
LOCATION:F4 Mesquite Sports Complex
CATEGORIES:QuickScores, Football Game
TRANSP:OPAQUE
BEGIN:VALARM
TRIGGER:-PT2H
ACTION:DISPLAY
DESCRIPTION:Rams - Stewart vs. Mustangs Red - Ence
END:VALARM
END:VEVENT
BEGIN:VEVENT
UID:sunyfl-73066571-20260328T154500@quickscores.com
DTSTAMP:20260422T151100Z
DTSTART;TZID=America/Denver:20260328T154500
DURATION:PT0H45M0S
SUMMARY:Rams - Stewart vs. Mustangs White - Wiley
DESCRIPTION:7th Grade - SUN Youth Football League
LOCATION:F5 Mesquite Sports Complex
CATEGORIES:QuickScores, Football Game
TRANSP:OPAQUE
BEGIN:VALARM
TRIGGER:-PT2H
ACTION:DISPLAY
DESCRIPTION:Rams - Stewart vs. Mustangs White - Wiley
END:VALARM
END:VEVENT
BEGIN:VEVENT
UID:sunyfl-73066594-20260411T124500@quickscores.com
DTSTAMP:20260422T151100Z
DTSTART;TZID=America/Denver:20260411T124500
DURATION:PT0H45M0S
SUMMARY:Bulldogs - Isidro vs. Rams - Stewart
DESCRIPTION:7th Grade - SUN Youth Football League
LOCATION:Sandstone F3
CATEGORIES:QuickScores, Football Game
TRANSP:OPAQUE
BEGIN:VALARM
TRIGGER:-PT2H
ACTION:DISPLAY
DESCRIPTION:Bulldogs - Isidro vs. Rams - Stewart
END:VALARM
END:VEVENT
BEGIN:VEVENT
UID:sunyfl-73066584-20260411T133000@quickscores.com
DTSTAMP:20260422T151100Z
DTSTART;TZID=America/Denver:20260411T133000
DURATION:PT0H45M0S
SUMMARY:Tigers - Wardle vs. Rams - Stewart
DESCRIPTION:7th Grade - SUN Youth Football League
LOCATION:Sandstone F3
CATEGORIES:QuickScores, Football Game
TRANSP:OPAQUE
BEGIN:VALARM
TRIGGER:-PT2H
ACTION:DISPLAY
DESCRIPTION:Tigers - Wardle vs. Rams - Stewart
END:VALARM
END:VEVENT
BEGIN:VEVENT
UID:sunyfl-73066608-20260418T150000@quickscores.com
DTSTAMP:20260422T151100Z
DTSTART;TZID=America/Denver:20260418T150000
DURATION:PT0H45M0S
SUMMARY:Rams - Stewart vs. Thunder White - White
DESCRIPTION:7th Grade - SUN Youth Football League
LOCATION:Sandstone F2
CATEGORIES:QuickScores, Football Game
TRANSP:OPAQUE
BEGIN:VALARM
TRIGGER:-PT2H
ACTION:DISPLAY
DESCRIPTION:Rams - Stewart vs. Thunder White - White
END:VALARM
END:VEVENT
BEGIN:VEVENT
UID:sunyfl-73066597-20260418T154500@quickscores.com
DTSTAMP:20260422T151100Z
DTSTART;TZID=America/Denver:20260418T154500
DURATION:PT0H45M0S
SUMMARY:Mustangs Blue - Peterson vs. Rams - Stewart
DESCRIPTION:7th Grade - SUN Youth Football League
LOCATION:Sandstone F2
CATEGORIES:QuickScores, Football Game
TRANSP:OPAQUE
BEGIN:VALARM
TRIGGER:-PT2H
ACTION:DISPLAY
DESCRIPTION:Mustangs Blue - Peterson vs. Rams - Stewart
END:VALARM
END:VEVENT
BEGIN:VEVENT
UID:sunyfl-73066621-20260425T124500@quickscores.com
DTSTAMP:20260422T151100Z
DTSTART;TZID=America/Denver:20260425T124500
DURATION:PT0H45M0S
SUMMARY:Rams - Stewart vs. Falcons - Irons
DESCRIPTION:7th Grade - SUN Youth Football League
LOCATION:Sandstone F3
CATEGORIES:QuickScores, Football Game
TRANSP:OPAQUE
BEGIN:VALARM
TRIGGER:-PT2H
ACTION:DISPLAY
DESCRIPTION:Rams - Stewart vs. Falcons - Irons
END:VALARM
END:VEVENT
BEGIN:VEVENT
UID:sunyfl-73066610-20260425T133000@quickscores.com
DTSTAMP:20260422T151100Z
DTSTART;TZID=America/Denver:20260425T133000
DURATION:PT0H45M0S
SUMMARY:Thunder Gold - Hardle vs. Rams - Stewart
DESCRIPTION:7th Grade - SUN Youth Football League
LOCATION:Sandstone F3
CATEGORIES:QuickScores, Football Game
TRANSP:OPAQUE
BEGIN:VALARM
TRIGGER:-PT2H
ACTION:DISPLAY
DESCRIPTION:Thunder Gold - Hardle vs. Rams - Stewart
END:VALARM
END:VEVENT
BEGIN:VEVENT
UID:sunyfl-73066623-20260502T150000@quickscores.com
DTSTAMP:20260422T151100Z
DTSTART;TZID=America/Denver:20260502T150000
DURATION:PT0H45M0S
SUMMARY:Reds Gold - Elliott vs. Rams - Stewart
DESCRIPTION:7th Grade - SUN Youth Football League
LOCATION:Sandstone F3
CATEGORIES:QuickScores, Football Game
TRANSP:OPAQUE
BEGIN:VALARM
TRIGGER:-PT2H
ACTION:DISPLAY
DESCRIPTION:Reds Gold - Elliott vs. Rams - Stewart
END:VALARM
END:VEVENT
BEGIN:VEVENT
UID:sunyfl-73066634-20260502T154500@quickscores.com
DTSTAMP:20260422T151100Z
DTSTART;TZID=America/Denver:20260502T154500
DURATION:PT0H45M0S
SUMMARY:Rams - Stewart vs. Panthers - Ott
DESCRIPTION:7th Grade - SUN Youth Football League
LOCATION:Sandstone F2
CATEGORIES:QuickScores, Football Game
TRANSP:OPAQUE
BEGIN:VALARM
TRIGGER:-PT2H
ACTION:DISPLAY
DESCRIPTION:Rams - Stewart vs. Panthers - Ott
END:VALARM
END:VEVENT
END:VCALENDAR
