BEGIN:VCALENDAR
VERSION:2.0
PRODID:-//QuickScores.com//BQ Dynamic iCal Creator//EN
METHOD:PUBLISH
X-WR-CALNAME:Falcons - Irons - 7th Grade - Spring 2026
X-WR-CALDESC:QuickScores game calendar
X-PUBLISHED-TTL:PT24H
REFRESH-INTERVAL;VALUE=DURATION:PT24H
CALSCALE:GREGORIAN
BEGIN:VTIMEZONE
TZID:America/Denver
X-LIC-LOCATION:America/Denver
BEGIN:DAYLIGHT
TZNAME:MDT
TZOFFSETFROM:-0700
TZOFFSETTO:-0600
DTSTART:19700308T020000
RRULE:FREQ=YEARLY;BYMONTH=3;BYDAY=2SU
END:DAYLIGHT
BEGIN:STANDARD
TZNAME:MST
TZOFFSETFROM:-0600
TZOFFSETTO:-0700
DTSTART:19701101T020000
RRULE:FREQ=YEARLY;BYMONTH=11;BYDAY=1SU
END:STANDARD
END:VTIMEZONE
BEGIN:VEVENT
UID:sunyfl-73066568-20260328T133000@quickscores.com
DTSTAMP:20260419T174400Z
DTSTART;TZID=America/Denver:20260328T133000
DURATION:PT0H45M0S
SUMMARY:Falcons - Irons vs. Warriors Green - McPhail
DESCRIPTION:7th Grade - SUN Youth Football League
LOCATION:F1 Mesquite Sports Complex
CATEGORIES:QuickScores, Football Game
TRANSP:OPAQUE
BEGIN:VALARM
TRIGGER:-PT2H
ACTION:DISPLAY
DESCRIPTION:Falcons - Irons vs. Warriors Green - McPhail
END:VALARM
END:VEVENT
BEGIN:VEVENT
UID:sunyfl-73066576-20260328T141500@quickscores.com
DTSTAMP:20260419T174400Z
DTSTART;TZID=America/Denver:20260328T141500
DURATION:PT0H45M0S
SUMMARY:Falcons - Irons vs. Warriors Gold - Olson
DESCRIPTION:7th Grade - SUN Youth Football League
LOCATION:F3 Mesquite Sports Complex
CATEGORIES:QuickScores, Football Game
TRANSP:OPAQUE
BEGIN:VALARM
TRIGGER:-PT2H
ACTION:DISPLAY
DESCRIPTION:Falcons - Irons vs. Warriors Gold - Olson
END:VALARM
END:VEVENT
BEGIN:VEVENT
UID:sunyfl-73066587-20260411T124500@quickscores.com
DTSTAMP:20260419T174400Z
DTSTART;TZID=America/Denver:20260411T124500
DURATION:PT0H45M0S
SUMMARY:Mustangs Red - Ence vs. Falcons - Irons
DESCRIPTION:7th Grade - SUN Youth Football League
LOCATION:Sandstone F2
CATEGORIES:QuickScores, Football Game
TRANSP:OPAQUE
BEGIN:VALARM
TRIGGER:-PT2H
ACTION:DISPLAY
DESCRIPTION:Mustangs Red - Ence vs. Falcons - Irons
END:VALARM
END:VEVENT
BEGIN:VEVENT
UID:sunyfl-73066581-20260411T141500@quickscores.com
DTSTAMP:20260419T174400Z
DTSTART;TZID=America/Denver:20260411T141500
DURATION:PT0H45M0S
SUMMARY:Panthers - Ott vs. Falcons - Irons
DESCRIPTION:7th Grade - SUN Youth Football League
LOCATION:Sandstone F2
CATEGORIES:QuickScores, Football Game
TRANSP:OPAQUE
BEGIN:VALARM
TRIGGER:-PT2H
ACTION:DISPLAY
DESCRIPTION:Panthers - Ott vs. Falcons - Irons
END:VALARM
END:VEVENT
BEGIN:VEVENT
UID:sunyfl-73066606-20260418T133000@quickscores.com
DTSTAMP:20260419T174400Z
DTSTART;TZID=America/Denver:20260418T133000
DURATION:PT0H45M0S
SUMMARY:Reds Maroon - Elliott vs. Falcons - Irons
DESCRIPTION:7th Grade - SUN Youth Football League
LOCATION:Sandstone F3
CATEGORIES:QuickScores, Football Game
TRANSP:OPAQUE
BEGIN:VALARM
TRIGGER:-PT2H
ACTION:DISPLAY
DESCRIPTION:Reds Maroon - Elliott vs. Falcons - Irons
END:VALARM
END:VEVENT
BEGIN:VEVENT
UID:sunyfl-73077437-20260418T154500@quickscores.com
DTSTAMP:20260419T174400Z
DTSTART;TZID=America/Denver:20260418T154500
DURATION:PT0H45M0S
SUMMARY:Falcons - Irons vs. Tigers - Wardle
DESCRIPTION:7th Grade - SUN Youth Football League
LOCATION:Sandstone F1
CATEGORIES:QuickScores, Football Game
TRANSP:OPAQUE
BEGIN:VALARM
TRIGGER:-PT2H
ACTION:DISPLAY
DESCRIPTION:Falcons - Irons vs. Tigers - Wardle
END:VALARM
END:VEVENT
BEGIN:VEVENT
UID:sunyfl-73066609-20260425T120000@quickscores.com
DTSTAMP:20260419T174400Z
DTSTART;TZID=America/Denver:20260425T120000
DURATION:PT0H45M0S
SUMMARY:Falcons - Irons vs. Thunder White - White
DESCRIPTION:7th Grade - SUN Youth Football League
LOCATION:Sandstone F2
CATEGORIES:QuickScores, Football Game
TRANSP:OPAQUE
BEGIN:VALARM
TRIGGER:-PT2H
ACTION:DISPLAY
DESCRIPTION:Falcons - Irons vs. Thunder White - White
END:VALARM
END:VEVENT
BEGIN:VEVENT
UID:sunyfl-73066621-20260425T124500@quickscores.com
DTSTAMP:20260419T174400Z
DTSTART;TZID=America/Denver:20260425T124500
DURATION:PT0H45M0S
SUMMARY:Rams - Stewart vs. Falcons - Irons
DESCRIPTION:7th Grade - SUN Youth Football League
LOCATION:Sandstone F3
CATEGORIES:QuickScores, Football Game
TRANSP:OPAQUE
BEGIN:VALARM
TRIGGER:-PT2H
ACTION:DISPLAY
DESCRIPTION:Rams - Stewart vs. Falcons - Irons
END:VALARM
END:VEVENT
BEGIN:VEVENT
UID:sunyfl-73066624-20260502T124500@quickscores.com
DTSTAMP:20260419T174400Z
DTSTART;TZID=America/Denver:20260502T124500
DURATION:PT0H45M0S
SUMMARY:Falcons - Irons vs. Bulldogs - Isidro
DESCRIPTION:7th Grade - SUN Youth Football League
LOCATION:Sandstone F1
CATEGORIES:QuickScores, Football Game
TRANSP:OPAQUE
BEGIN:VALARM
TRIGGER:-PT2H
ACTION:DISPLAY
DESCRIPTION:Falcons - Irons vs. Bulldogs - Isidro
END:VALARM
END:VEVENT
BEGIN:VEVENT
UID:sunyfl-73066636-20260502T141500@quickscores.com
DTSTAMP:20260419T174400Z
DTSTART;TZID=America/Denver:20260502T141500
DURATION:PT0H45M0S
SUMMARY:Reds Gold - Elliott vs. Falcons - Irons
DESCRIPTION:7th Grade - SUN Youth Football League
LOCATION:Sandstone F2
CATEGORIES:QuickScores, Football Game
TRANSP:OPAQUE
BEGIN:VALARM
TRIGGER:-PT2H
ACTION:DISPLAY
DESCRIPTION:Reds Gold - Elliott vs. Falcons - Irons
END:VALARM
END:VEVENT
END:VCALENDAR
