BEGIN:VCALENDAR
VERSION:2.0
PRODID:-//QuickScores.com//BQ Dynamic iCal Creator//EN
METHOD:PUBLISH
X-WR-CALNAME:Mustangs Red - Ence - 7th Grade - Spring 2026
X-WR-CALDESC:QuickScores game calendar
X-PUBLISHED-TTL:PT24H
REFRESH-INTERVAL;VALUE=DURATION:PT24H
CALSCALE:GREGORIAN
BEGIN:VTIMEZONE
TZID:America/Denver
X-LIC-LOCATION:America/Denver
BEGIN:DAYLIGHT
TZNAME:MDT
TZOFFSETFROM:-0700
TZOFFSETTO:-0600
DTSTART:19700308T020000
RRULE:FREQ=YEARLY;BYMONTH=3;BYDAY=2SU
END:DAYLIGHT
BEGIN:STANDARD
TZNAME:MST
TZOFFSETFROM:-0600
TZOFFSETTO:-0700
DTSTART:19701101T020000
RRULE:FREQ=YEARLY;BYMONTH=11;BYDAY=1SU
END:STANDARD
END:VTIMEZONE
BEGIN:VEVENT
UID:sunyfl-73066579-20260328T141500@quickscores.com
DTSTAMP:20260420T192100Z
DTSTART;TZID=America/Denver:20260328T141500
DURATION:PT0H45M0S
SUMMARY:Rams - Stewart vs. Mustangs Red - Ence
DESCRIPTION:7th Grade - SUN Youth Football League
LOCATION:F4 Mesquite Sports Complex
CATEGORIES:QuickScores, Football Game
TRANSP:OPAQUE
BEGIN:VALARM
TRIGGER:-PT2H
ACTION:DISPLAY
DESCRIPTION:Rams - Stewart vs. Mustangs Red - Ence
END:VALARM
END:VEVENT
BEGIN:VEVENT
UID:sunyfl-73066573-20260328T150000@quickscores.com
DTSTAMP:20260420T192100Z
DTSTART;TZID=America/Denver:20260328T150000
DURATION:PT0H45M0S
SUMMARY:Mustangs Red - Ence vs. Reds Maroon - Elliott
DESCRIPTION:7th Grade - SUN Youth Football League
LOCATION:F4 Mesquite Sports Complex
CATEGORIES:QuickScores, Football Game
TRANSP:OPAQUE
BEGIN:VALARM
TRIGGER:-PT2H
ACTION:DISPLAY
DESCRIPTION:Mustangs Red - Ence vs. Reds Maroon - Elliott
END:VALARM
END:VEVENT
BEGIN:VEVENT
UID:sunyfl-73066587-20260411T124500@quickscores.com
DTSTAMP:20260420T192100Z
DTSTART;TZID=America/Denver:20260411T124500
DURATION:PT0H45M0S
SUMMARY:Mustangs Red - Ence vs. Falcons - Irons
DESCRIPTION:7th Grade - SUN Youth Football League
LOCATION:Sandstone F2
CATEGORIES:QuickScores, Football Game
TRANSP:OPAQUE
BEGIN:VALARM
TRIGGER:-PT2H
ACTION:DISPLAY
DESCRIPTION:Mustangs Red - Ence vs. Falcons - Irons
END:VALARM
END:VEVENT
BEGIN:VEVENT
UID:sunyfl-73066592-20260411T141500@quickscores.com
DTSTAMP:20260420T192100Z
DTSTART;TZID=America/Denver:20260411T141500
DURATION:PT0H45M0S
SUMMARY:Mustangs Red - Ence vs. Reds Gold - Elliott
DESCRIPTION:7th Grade - SUN Youth Football League
LOCATION:Sandstone F3
CATEGORIES:QuickScores, Football Game
TRANSP:OPAQUE
BEGIN:VALARM
TRIGGER:-PT2H
ACTION:DISPLAY
DESCRIPTION:Mustangs Red - Ence vs. Reds Gold - Elliott
END:VALARM
END:VEVENT
BEGIN:VEVENT
UID:sunyfl-73066605-20260418T141500@quickscores.com
DTSTAMP:20260420T192100Z
DTSTART;TZID=America/Denver:20260418T141500
DURATION:PT0H45M0S
SUMMARY:Mustangs Red - Ence vs. Thunder Gold - Hardle
DESCRIPTION:7th Grade - SUN Youth Football League
LOCATION:Sandstone F3
CATEGORIES:QuickScores, Football Game
TRANSP:OPAQUE
BEGIN:VALARM
TRIGGER:-PT2H
ACTION:DISPLAY
DESCRIPTION:Mustangs Red - Ence vs. Thunder Gold - Hardle
END:VALARM
END:VEVENT
BEGIN:VEVENT
UID:sunyfl-73066600-20260418T150000@quickscores.com
DTSTAMP:20260420T192100Z
DTSTART;TZID=America/Denver:20260418T150000
DURATION:PT0H45M0S
SUMMARY:Warriors Gold - Olson vs. Mustangs Red - Ence
DESCRIPTION:7th Grade - SUN Youth Football League
LOCATION:Sandstone F1
CATEGORIES:QuickScores, Football Game
TRANSP:OPAQUE
BEGIN:VALARM
TRIGGER:-PT2H
ACTION:DISPLAY
DESCRIPTION:Warriors Gold - Olson vs. Mustangs Red - Ence
END:VALARM
END:VEVENT
BEGIN:VEVENT
UID:sunyfl-73066613-20260425T141500@quickscores.com
DTSTAMP:20260420T192100Z
DTSTART;TZID=America/Denver:20260425T141500
DURATION:PT0H45M0S
SUMMARY:Warriors Green - McPhail vs. Mustangs Red - Ence
DESCRIPTION:7th Grade - SUN Youth Football League
LOCATION:Sandstone F1
CATEGORIES:QuickScores, Football Game
TRANSP:OPAQUE
BEGIN:VALARM
TRIGGER:-PT2H
ACTION:DISPLAY
DESCRIPTION:Warriors Green - McPhail vs. Mustangs Red - Ence
END:VALARM
END:VEVENT
BEGIN:VEVENT
UID:sunyfl-73066618-20260425T150000@quickscores.com
DTSTAMP:20260420T192100Z
DTSTART;TZID=America/Denver:20260425T150000
DURATION:PT0H45M0S
SUMMARY:Mustangs Red - Ence vs. Mustangs Blue - Peterson
DESCRIPTION:7th Grade - SUN Youth Football League
LOCATION:Sandstone F2
CATEGORIES:QuickScores, Football Game
TRANSP:OPAQUE
BEGIN:VALARM
TRIGGER:-PT2H
ACTION:DISPLAY
DESCRIPTION:Mustangs Red - Ence vs. Mustangs Blue - Peterson
END:VALARM
END:VEVENT
BEGIN:VEVENT
UID:sunyfl-73066631-20260502T133000@quickscores.com
DTSTAMP:20260420T192100Z
DTSTART;TZID=America/Denver:20260502T133000
DURATION:PT0H45M0S
SUMMARY:Mustangs Red - Ence vs. Tigers - Wardle
DESCRIPTION:7th Grade - SUN Youth Football League
LOCATION:Sandstone F3
CATEGORIES:QuickScores, Football Game
TRANSP:OPAQUE
BEGIN:VALARM
TRIGGER:-PT2H
ACTION:DISPLAY
DESCRIPTION:Mustangs Red - Ence vs. Tigers - Wardle
END:VALARM
END:VEVENT
BEGIN:VEVENT
UID:sunyfl-73066626-20260502T150000@quickscores.com
DTSTAMP:20260420T192100Z
DTSTART;TZID=America/Denver:20260502T150000
DURATION:PT0H45M0S
SUMMARY:Panthers - Ott vs. Mustangs Red - Ence
DESCRIPTION:7th Grade - SUN Youth Football League
LOCATION:Sandstone F2
CATEGORIES:QuickScores, Football Game
TRANSP:OPAQUE
BEGIN:VALARM
TRIGGER:-PT2H
ACTION:DISPLAY
DESCRIPTION:Panthers - Ott vs. Mustangs Red - Ence
END:VALARM
END:VEVENT
END:VCALENDAR
