BEGIN:VCALENDAR
VERSION:2.0
PRODID:-//QuickScores.com//BQ Dynamic iCal Creator//EN
METHOD:PUBLISH
X-WR-CALNAME:Dallas Starz - 14u Boys - Winter 2024-2025
X-WR-CALDESC:QuickScores game calendar
X-PUBLISHED-TTL:PT24H
REFRESH-INTERVAL;VALUE=DURATION:PT24H
CALSCALE:GREGORIAN
BEGIN:VTIMEZONE
TZID:America/Chicago
X-LIC-LOCATION:America/Chicago
BEGIN:DAYLIGHT
TZNAME:CDT
TZOFFSETFROM:-0600
TZOFFSETTO:-0500
DTSTART:19700308T020000
RRULE:FREQ=YEARLY;BYMONTH=3;BYDAY=2SU
END:DAYLIGHT
BEGIN:STANDARD
TZNAME:CST
TZOFFSETFROM:-0500
TZOFFSETTO:-0600
DTSTART:19701101T020000
RRULE:FREQ=YEARLY;BYMONTH=11;BYDAY=1SU
END:STANDARD
END:VTIMEZONE
BEGIN:VEVENT
UID:stphilips-66899198-20250118T150000@quickscores.com
DTSTAMP:20260425T160700Z
DTSTART;TZID=America/Chicago:20250118T150000
DURATION:PT1H0M0S
SUMMARY:Texas Tarheels vs. Dallas Starz
DESCRIPTION:14u Boys - St. Philip's Saints
LOCATION:Snyder Blue Court
CATEGORIES:QuickScores, Basketball - Youth Game
TRANSP:OPAQUE
BEGIN:VALARM
TRIGGER:-PT2H
ACTION:DISPLAY
DESCRIPTION:Texas Tarheels vs. Dallas Starz
END:VALARM
END:VEVENT
BEGIN:VEVENT
UID:stphilips-66899201-20250125T160000@quickscores.com
DTSTAMP:20260425T160700Z
DTSTART;TZID=America/Chicago:20250125T160000
DURATION:PT1H0M0S
SUMMARY:Saints vs. Dallas Starz
DESCRIPTION:14u Boys - St. Philip's Saints
LOCATION:Miller - Legacy Court
CATEGORIES:QuickScores, Basketball - Youth Game
TRANSP:OPAQUE
BEGIN:VALARM
TRIGGER:-PT2H
ACTION:DISPLAY
DESCRIPTION:Saints vs. Dallas Starz
END:VALARM
END:VEVENT
BEGIN:VEVENT
UID:stphilips-66899203-20250201T150000@quickscores.com
DTSTAMP:20260425T160700Z
DTSTART;TZID=America/Chicago:20250201T150000
DURATION:PT1H0M0S
SUMMARY:Lakers vs. Dallas Starz
DESCRIPTION:14u Boys - St. Philip's Saints
LOCATION:Snyder Blue Court
CATEGORIES:QuickScores, Basketball - Youth Game
TRANSP:OPAQUE
BEGIN:VALARM
TRIGGER:-PT2H
ACTION:DISPLAY
DESCRIPTION:Lakers vs. Dallas Starz
END:VALARM
END:VEVENT
BEGIN:VEVENT
UID:stphilips-66899207-20250208T160000@quickscores.com
DTSTAMP:20260425T160700Z
DTSTART;TZID=America/Chicago:20250208T160000
DURATION:PT1H0M0S
SUMMARY:Dallas Starz vs. Bengals
DESCRIPTION:14u Boys - St. Philip's Saints
LOCATION:Miller - Legacy Court
CATEGORIES:QuickScores, Basketball - Youth Game
TRANSP:OPAQUE
BEGIN:VALARM
TRIGGER:-PT2H
ACTION:DISPLAY
DESCRIPTION:Dallas Starz vs. Bengals
END:VALARM
END:VEVENT
BEGIN:VEVENT
UID:stphilips-66899209-20250215T160000@quickscores.com
DTSTAMP:20260425T160700Z
DTSTART;TZID=America/Chicago:20250215T160000
DURATION:PT1H0M0S
SUMMARY:Saints vs. Dallas Starz
DESCRIPTION:14u Boys - St. Philip's Saints
LOCATION:Miller - Legacy Court
CATEGORIES:QuickScores, Basketball - Youth Game
TRANSP:OPAQUE
BEGIN:VALARM
TRIGGER:-PT2H
ACTION:DISPLAY
DESCRIPTION:Saints vs. Dallas Starz
END:VALARM
END:VEVENT
BEGIN:VEVENT
UID:stphilips-66899213-20250222T150000@quickscores.com
DTSTAMP:20260425T160700Z
DTSTART;TZID=America/Chicago:20250222T150000
DURATION:PT1H0M0S
SUMMARY:Dallas Starz vs. Texas Tarheels
DESCRIPTION:14u Boys - St. Philip's Saints
LOCATION:Snyder Red Court
CATEGORIES:QuickScores, Basketball - Youth Game
TRANSP:OPAQUE
BEGIN:VALARM
TRIGGER:-PT2H
ACTION:DISPLAY
DESCRIPTION:Dallas Starz vs. Texas Tarheels
END:VALARM
END:VEVENT
BEGIN:VEVENT
UID:stphilips-66899217-20250301T160000@quickscores.com
DTSTAMP:20260425T160700Z
DTSTART;TZID=America/Chicago:20250301T160000
DURATION:PT1H0M0S
SUMMARY:Dallas Starz vs. Bengals
DESCRIPTION:14u Boys - St. Philip's Saints
LOCATION:Snyder Red Court
CATEGORIES:QuickScores, Basketball - Youth Game
TRANSP:OPAQUE
BEGIN:VALARM
TRIGGER:-PT2H
ACTION:DISPLAY
DESCRIPTION:Dallas Starz vs. Bengals
END:VALARM
END:VEVENT
END:VCALENDAR
