BEGIN:VCALENDAR
VERSION:2.0
PRODID:-//QuickScores.com//BQ Dynamic iCal Creator//EN
METHOD:PUBLISH
X-WR-CALNAME:All in On Black - South Jordan Fitness & Aquatic Center Thursday - 2025 Fall Adult Basketball
X-WR-CALDESC:QuickScores game calendar
X-PUBLISHED-TTL:PT24H
REFRESH-INTERVAL;VALUE=DURATION:PT24H
CALSCALE:GREGORIAN
BEGIN:VTIMEZONE
TZID:America/Denver
X-LIC-LOCATION:America/Denver
BEGIN:DAYLIGHT
TZNAME:MDT
TZOFFSETFROM:-0700
TZOFFSETTO:-0600
DTSTART:19700308T020000
RRULE:FREQ=YEARLY;BYMONTH=3;BYDAY=2SU
END:DAYLIGHT
BEGIN:STANDARD
TZNAME:MST
TZOFFSETFROM:-0600
TZOFFSETTO:-0700
DTSTART:19701101T020000
RRULE:FREQ=YEARLY;BYMONTH=11;BYDAY=1SU
END:STANDARD
END:VTIMEZONE
BEGIN:VEVENT
UID:sportsoffice-70980227-20250918T193000@quickscores.com
DTSTAMP:20260421T143400Z
DTSTART;TZID=America/Denver:20250918T193000
DURATION:PT1H0M0S
SUMMARY:DPS vs. All in On Black
DESCRIPTION:South Jordan Fitness & Aquatic Center Thursday - Salt Lake County - Sports Office
LOCATION:South Jordan Fitness & Aquatic Center Court 1
CATEGORIES:QuickScores, Basketball - Adult Game
TRANSP:OPAQUE
BEGIN:VALARM
TRIGGER:-PT2H
ACTION:DISPLAY
DESCRIPTION:DPS vs. All in On Black
END:VALARM
END:VEVENT
BEGIN:VEVENT
UID:sportsoffice-70980231-20250925T203000@quickscores.com
DTSTAMP:20260421T143400Z
DTSTART;TZID=America/Denver:20250925T203000
DURATION:PT1H0M0S
SUMMARY:Banging 3 s vs. All in On Black
DESCRIPTION:South Jordan Fitness & Aquatic Center Thursday - Salt Lake County - Sports Office
LOCATION:South Jordan Fitness & Aquatic Center Court 1
CATEGORIES:QuickScores, Basketball - Adult Game
TRANSP:OPAQUE
BEGIN:VALARM
TRIGGER:-PT2H
ACTION:DISPLAY
DESCRIPTION:Banging 3 s vs. All in On Black
END:VALARM
END:VEVENT
BEGIN:VEVENT
UID:sportsoffice-70980232-20251002T183000@quickscores.com
DTSTAMP:20260421T143400Z
DTSTART;TZID=America/Denver:20251002T183000
DURATION:PT1H0M0S
SUMMARY:All in On Black vs. Chillers
DESCRIPTION:South Jordan Fitness & Aquatic Center Thursday - Salt Lake County - Sports Office
LOCATION:South Jordan Fitness & Aquatic Center Court 1
CATEGORIES:QuickScores, Basketball - Adult Game
TRANSP:OPAQUE
BEGIN:VALARM
TRIGGER:-PT2H
ACTION:DISPLAY
DESCRIPTION:All in On Black vs. Chillers
END:VALARM
END:VEVENT
BEGIN:VEVENT
UID:sportsoffice-70980237-20251009T203000@quickscores.com
DTSTAMP:20260421T143400Z
DTSTART;TZID=America/Denver:20251009T203000
DURATION:PT1H0M0S
SUMMARY:All in On Black vs. Wanna ball
DESCRIPTION:South Jordan Fitness & Aquatic Center Thursday - Salt Lake County - Sports Office
LOCATION:South Jordan Fitness & Aquatic Center Court 1
CATEGORIES:QuickScores, Basketball - Adult Game
TRANSP:OPAQUE
BEGIN:VALARM
TRIGGER:-PT2H
ACTION:DISPLAY
DESCRIPTION:All in On Black vs. Wanna ball
END:VALARM
END:VEVENT
BEGIN:VEVENT
UID:sportsoffice-70980239-20251016T183000@quickscores.com
DTSTAMP:20260421T143400Z
DTSTART;TZID=America/Denver:20251016T183000
DURATION:PT1H0M0S
SUMMARY:Past R Prime vs. All in On Black
DESCRIPTION:South Jordan Fitness & Aquatic Center Thursday - Salt Lake County - Sports Office
LOCATION:South Jordan Fitness & Aquatic Center Court 1
CATEGORIES:QuickScores, Basketball - Adult Game
TRANSP:OPAQUE
BEGIN:VALARM
TRIGGER:-PT2H
ACTION:DISPLAY
DESCRIPTION:Past R Prime vs. All in On Black
END:VALARM
END:VEVENT
BEGIN:VEVENT
UID:sportsoffice-70980242-20251023T193000@quickscores.com
DTSTAMP:20260421T143400Z
DTSTART;TZID=America/Denver:20251023T193000
DURATION:PT1H0M0S
SUMMARY:All in On Black vs. DPS
DESCRIPTION:South Jordan Fitness & Aquatic Center Thursday - Salt Lake County - Sports Office
LOCATION:South Jordan Fitness & Aquatic Center Court 1
CATEGORIES:QuickScores, Basketball - Adult Game
TRANSP:OPAQUE
BEGIN:VALARM
TRIGGER:-PT2H
ACTION:DISPLAY
DESCRIPTION:All in On Black vs. DPS
END:VALARM
END:VEVENT
BEGIN:VEVENT
UID:sportsoffice-70980246-20251030T193000@quickscores.com
DTSTAMP:20260421T143400Z
DTSTART;TZID=America/Denver:20251030T193000
DURATION:PT1H0M0S
SUMMARY:All in On Black vs. Banging 3 s
DESCRIPTION:South Jordan Fitness & Aquatic Center Thursday - Salt Lake County - Sports Office
LOCATION:South Jordan Fitness & Aquatic Center Court 1
CATEGORIES:QuickScores, Basketball - Adult Game
TRANSP:OPAQUE
BEGIN:VALARM
TRIGGER:-PT2H
ACTION:DISPLAY
DESCRIPTION:All in On Black vs. Banging 3 s
END:VALARM
END:VEVENT
BEGIN:VEVENT
UID:sportsoffice-70980447-20251106T193000@quickscores.com
DTSTAMP:20260421T143400Z
DTSTART;TZID=America/Denver:20251106T193000
DURATION:PT1H0M0S
SUMMARY:All in On Black vs. Wanna Ball
DESCRIPTION:South Jordan Fitness & Aquatic Center Thursday - Salt Lake County - Sports Office
LOCATION:South Jordan Fitness & Aquatic Center Court 1
CATEGORIES:QuickScores, Basketball - Adult Game
TRANSP:OPAQUE
BEGIN:VALARM
TRIGGER:-PT2H
ACTION:DISPLAY
DESCRIPTION:All in On Black vs. Wanna Ball
END:VALARM
END:VEVENT
BEGIN:VEVENT
UID:sportsoffice-70980449-20251113T193000@quickscores.com
DTSTAMP:20260421T143400Z
DTSTART;TZID=America/Denver:20251113T193000
DURATION:PT1H0M0S
SUMMARY:Chillers vs. All in On Black
DESCRIPTION:South Jordan Fitness & Aquatic Center Thursday - Salt Lake County - Sports Office
LOCATION:South Jordan Fitness & Aquatic Center Court 1
CATEGORIES:QuickScores, Basketball - Adult Game
TRANSP:OPAQUE
BEGIN:VALARM
TRIGGER:-PT2H
ACTION:DISPLAY
DESCRIPTION:Chillers vs. All in On Black
END:VALARM
END:VEVENT
END:VCALENDAR
