BEGIN:VCALENDAR
VERSION:2.0
PRODID:-//QuickScores.com//BQ Dynamic iCal Creator//EN
METHOD:PUBLISH
X-WR-CALNAME:Spartan Spikers - U12 (9-11 Year Olds) - Combined Schedule - All Teams - Spring 2026
X-WR-CALDESC:QuickScores game calendar
X-PUBLISHED-TTL:PT24H
REFRESH-INTERVAL;VALUE=DURATION:PT24H
CALSCALE:GREGORIAN
BEGIN:VTIMEZONE
TZID:America/New_York
X-LIC-LOCATION:America/New_York
BEGIN:DAYLIGHT
TZNAME:EDT
TZOFFSETFROM:-0500
TZOFFSETTO:-0400
DTSTART:19700308T020000
RRULE:FREQ=YEARLY;BYMONTH=3;BYDAY=2SU
END:DAYLIGHT
BEGIN:STANDARD
TZNAME:EST
TZOFFSETFROM:-0400
TZOFFSETTO:-0500
DTSTART:19701101T020000
RRULE:FREQ=YEARLY;BYMONTH=11;BYDAY=1SU
END:STANDARD
END:VTIMEZONE
BEGIN:VEVENT
UID:spartanburgymca-73414493-20260312T173000@quickscores.com
DTSTAMP:20260425T100800Z
DTSTART;TZID=America/New_York:20260312T173000
DURATION:PT1H0M0S
SUMMARY:Practice: Spartan Spikers
DESCRIPTION:U12 (9-11 Year Olds) - Combined Schedule - All Teams - YMCA of Greater Spartanburg
LOCATION:Thomas E. Hannah YMCA - Court 1
CATEGORIES:QuickScores, Volleyball - Youth Game
TRANSP:OPAQUE
BEGIN:VALARM
TRIGGER:-PT2H
ACTION:DISPLAY
DESCRIPTION:Practice: Spartan Spikers
END:VALARM
END:VEVENT
BEGIN:VEVENT
UID:spartanburgymca-73414494-20260319T173000@quickscores.com
DTSTAMP:20260425T100800Z
DTSTART;TZID=America/New_York:20260319T173000
DURATION:PT1H0M0S
SUMMARY:Practice: Spartan Spikers
DESCRIPTION:U12 (9-11 Year Olds) - Combined Schedule - All Teams - YMCA of Greater Spartanburg
LOCATION:Thomas E. Hannah YMCA - Court 1
CATEGORIES:QuickScores, Volleyball - Youth Game
TRANSP:OPAQUE
BEGIN:VALARM
TRIGGER:-PT2H
ACTION:DISPLAY
DESCRIPTION:Practice: Spartan Spikers
END:VALARM
END:VEVENT
BEGIN:VEVENT
UID:spartanburgymca-73734250-20260321T100000@quickscores.com
DTSTAMP:20260425T100800Z
DTSTART;TZID=America/New_York:20260321T100000
DURATION:PT1H0M0S
SUMMARY:Hub City Bumpers vs. Spartan Spikers
DESCRIPTION:U12 (9-11 Year Olds) - Combined Schedule - All Teams - YMCA of Greater Spartanburg
LOCATION:Thomas E. Hannah YMCA - Court 1
CATEGORIES:QuickScores, Volleyball - Youth Game
TRANSP:OPAQUE
BEGIN:VALARM
TRIGGER:-PT2H
ACTION:DISPLAY
DESCRIPTION:Hub City Bumpers vs. Spartan Spikers
END:VALARM
END:VEVENT
BEGIN:VEVENT
UID:spartanburgymca-73414495-20260326T173000@quickscores.com
DTSTAMP:20260425T100800Z
DTSTART;TZID=America/New_York:20260326T173000
DURATION:PT1H0M0S
SUMMARY:Practice: Spartan Spikers
DESCRIPTION:U12 (9-11 Year Olds) - Combined Schedule - All Teams - YMCA of Greater Spartanburg
LOCATION:Thomas E. Hannah YMCA - Court 1
CATEGORIES:QuickScores, Volleyball - Youth Game
TRANSP:OPAQUE
BEGIN:VALARM
TRIGGER:-PT2H
ACTION:DISPLAY
DESCRIPTION:Practice: Spartan Spikers
END:VALARM
END:VEVENT
BEGIN:VEVENT
UID:spartanburgymca-73734254-20260328T110000@quickscores.com
DTSTAMP:20260425T100800Z
DTSTART;TZID=America/New_York:20260328T110000
DURATION:PT1H0M0S
SUMMARY:Coach McKiernan - PCY vs. Spartan Spikers
DESCRIPTION:U12 (9-11 Year Olds) - Combined Schedule - All Teams - YMCA of Greater Spartanburg
LOCATION:Stearns Gym
CATEGORIES:QuickScores, Volleyball - Youth Game
TRANSP:OPAQUE
BEGIN:VALARM
TRIGGER:-PT2H
ACTION:DISPLAY
DESCRIPTION:Coach McKiernan - PCY vs. Spartan Spikers
END:VALARM
END:VEVENT
BEGIN:VEVENT
UID:spartanburgymca-73414496-20260402T173000@quickscores.com
DTSTAMP:20260425T100800Z
DTSTART;TZID=America/New_York:20260402T173000
DURATION:PT1H0M0S
SUMMARY:Practice: Spartan Spikers
DESCRIPTION:U12 (9-11 Year Olds) - Combined Schedule - All Teams - YMCA of Greater Spartanburg
LOCATION:Thomas E. Hannah YMCA - Court 1
CATEGORIES:QuickScores, Volleyball - Youth Game
TRANSP:OPAQUE
BEGIN:VALARM
TRIGGER:-PT2H
ACTION:DISPLAY
DESCRIPTION:Practice: Spartan Spikers
END:VALARM
END:VEVENT
BEGIN:VEVENT
UID:spartanburgymca-73734259-20260411T090000@quickscores.com
DTSTAMP:20260425T100800Z
DTSTART;TZID=America/New_York:20260411T090000
DURATION:PT1H0M0S
SUMMARY:Spartan Spikers vs. Spikes and Bows
DESCRIPTION:U12 (9-11 Year Olds) - Combined Schedule - All Teams - YMCA of Greater Spartanburg
LOCATION:Thomas E. Hannah YMCA - Court 1
CATEGORIES:QuickScores, Volleyball - Youth Game
TRANSP:OPAQUE
BEGIN:VALARM
TRIGGER:-PT2H
ACTION:DISPLAY
DESCRIPTION:Spartan Spikers vs. Spikes and Bows
END:VALARM
END:VEVENT
BEGIN:VEVENT
UID:spartanburgymca-73414498-20260416T173000@quickscores.com
DTSTAMP:20260425T100800Z
DTSTART;TZID=America/New_York:20260416T173000
DURATION:PT1H0M0S
SUMMARY:Practice: Spartan Spikers
DESCRIPTION:U12 (9-11 Year Olds) - Combined Schedule - All Teams - YMCA of Greater Spartanburg
LOCATION:Thomas E. Hannah YMCA - Court 1
CATEGORIES:QuickScores, Volleyball - Youth Game
TRANSP:OPAQUE
BEGIN:VALARM
TRIGGER:-PT2H
ACTION:DISPLAY
DESCRIPTION:Practice: Spartan Spikers
END:VALARM
END:VEVENT
BEGIN:VEVENT
UID:spartanburgymca-73734263-20260418T100000@quickscores.com
DTSTAMP:20260425T100800Z
DTSTART;TZID=America/New_York:20260418T100000
DURATION:PT1H0M0S
SUMMARY:Spartan Spikers vs. U12 Coach Sullivan - MTY
DESCRIPTION:U12 (9-11 Year Olds) - Combined Schedule - All Teams - YMCA of Greater Spartanburg
LOCATION:Thomas E. Hannah YMCA - Court 1
CATEGORIES:QuickScores, Volleyball - Youth Game
TRANSP:OPAQUE
BEGIN:VALARM
TRIGGER:-PT2H
ACTION:DISPLAY
DESCRIPTION:Spartan Spikers vs. U12 Coach Sullivan - MTY
END:VALARM
END:VEVENT
BEGIN:VEVENT
UID:spartanburgymca-73414499-20260423T173000@quickscores.com
DTSTAMP:20260425T100800Z
DTSTART;TZID=America/New_York:20260423T173000
DURATION:PT1H0M0S
SUMMARY:Practice: Spartan Spikers
DESCRIPTION:U12 (9-11 Year Olds) - Combined Schedule - All Teams - YMCA of Greater Spartanburg
LOCATION:Thomas E. Hannah YMCA - Court 1
CATEGORIES:QuickScores, Volleyball - Youth Game
TRANSP:OPAQUE
BEGIN:VALARM
TRIGGER:-PT2H
ACTION:DISPLAY
DESCRIPTION:Practice: Spartan Spikers
END:VALARM
END:VEVENT
BEGIN:VEVENT
UID:spartanburgymca-73734266-20260425T100000@quickscores.com
DTSTAMP:20260425T100800Z
DTSTART;TZID=America/New_York:20260425T100000
DURATION:PT1H0M0S
SUMMARY:U12 Coach Caitlin - MTY vs. Spartan Spikers
DESCRIPTION:U12 (9-11 Year Olds) - Combined Schedule - All Teams - YMCA of Greater Spartanburg
LOCATION:Middle Tyger YMCA Gym - Court 2
CATEGORIES:QuickScores, Volleyball - Youth Game
TRANSP:OPAQUE
BEGIN:VALARM
TRIGGER:-PT2H
ACTION:DISPLAY
DESCRIPTION:U12 Coach Caitlin - MTY vs. Spartan Spikers
END:VALARM
END:VEVENT
BEGIN:VEVENT
UID:spartanburgymca-73414500-20260430T173000@quickscores.com
DTSTAMP:20260425T100800Z
DTSTART;TZID=America/New_York:20260430T173000
DURATION:PT1H0M0S
SUMMARY:Practice: Spartan Spikers
DESCRIPTION:U12 (9-11 Year Olds) - Combined Schedule - All Teams - YMCA of Greater Spartanburg
LOCATION:Thomas E. Hannah YMCA - Court 1
CATEGORIES:QuickScores, Volleyball - Youth Game
TRANSP:OPAQUE
BEGIN:VALARM
TRIGGER:-PT2H
ACTION:DISPLAY
DESCRIPTION:Practice: Spartan Spikers
END:VALARM
END:VEVENT
BEGIN:VEVENT
UID:spartanburgymca-73414501-20260507T173000@quickscores.com
DTSTAMP:20260425T100800Z
DTSTART;TZID=America/New_York:20260507T173000
DURATION:PT1H0M0S
SUMMARY:Practice: Spartan Spikers
DESCRIPTION:U12 (9-11 Year Olds) - Combined Schedule - All Teams - YMCA of Greater Spartanburg
LOCATION:Thomas E. Hannah YMCA - Court 1
CATEGORIES:QuickScores, Volleyball - Youth Game
TRANSP:OPAQUE
BEGIN:VALARM
TRIGGER:-PT2H
ACTION:DISPLAY
DESCRIPTION:Practice: Spartan Spikers
END:VALARM
END:VEVENT
END:VCALENDAR
