BEGIN:VCALENDAR
VERSION:2.0
PRODID:-//QuickScores.com//BQ Dynamic iCal Creator//EN
METHOD:PUBLISH
X-WR-CALNAME:Nacho LiBros - 26 Spring Men&#039;s League (thurs) - Spring 2026
X-WR-CALDESC:QuickScores game calendar
X-PUBLISHED-TTL:PT24H
REFRESH-INTERVAL;VALUE=DURATION:PT24H
CALSCALE:GREGORIAN
BEGIN:VTIMEZONE
TZID:America/Denver
X-LIC-LOCATION:America/Denver
BEGIN:DAYLIGHT
TZNAME:MDT
TZOFFSETFROM:-0700
TZOFFSETTO:-0600
DTSTART:19700308T020000
RRULE:FREQ=YEARLY;BYMONTH=3;BYDAY=2SU
END:DAYLIGHT
BEGIN:STANDARD
TZNAME:MST
TZOFFSETFROM:-0600
TZOFFSETTO:-0700
DTSTART:19701101T020000
RRULE:FREQ=YEARLY;BYMONTH=11;BYDAY=1SU
END:STANDARD
END:VTIMEZONE
BEGIN:VEVENT
UID:smithfieldrecreation-74046154-20260402T180000@quickscores.com
DTSTAMP:20260425T170200Z
DTSTART;TZID=America/Denver:20260402T180000
DURATION:PT1H0M0S
SUMMARY:Carats on the Court vs. Nacho LiBros
DESCRIPTION:26 Spring Men's League (thurs) - Smithfield Recreation
LOCATION:Bobcat Gym
CATEGORIES:QuickScores, Basketball - Adult Game
TRANSP:OPAQUE
BEGIN:VALARM
TRIGGER:-PT2H
ACTION:DISPLAY
DESCRIPTION:Carats on the Court vs. Nacho LiBros
END:VALARM
END:VEVENT
BEGIN:VEVENT
UID:smithfieldrecreation-74046161-20260416T180000@quickscores.com
DTSTAMP:20260425T170200Z
DTSTART;TZID=America/Denver:20260416T180000
DURATION:PT1H0M0S
SUMMARY:Saints Sinners vs. Nacho LiBros
DESCRIPTION:26 Spring Men's League (thurs) - Smithfield Recreation
LOCATION:Bobcat Gym
CATEGORIES:QuickScores, Basketball - Adult Game
TRANSP:OPAQUE
BEGIN:VALARM
TRIGGER:-PT2H
ACTION:DISPLAY
DESCRIPTION:Saints Sinners vs. Nacho LiBros
END:VALARM
END:VEVENT
BEGIN:VEVENT
UID:smithfieldrecreation-74046158-20260423T210000@quickscores.com
DTSTAMP:20260425T170200Z
DTSTART;TZID=America/Denver:20260423T210000
DURATION:PT1H0M0S
SUMMARY:Dawgs vs. Nacho LiBros
DESCRIPTION:26 Spring Men's League (thurs) - Smithfield Recreation
LOCATION:Bobcat Gym
CATEGORIES:QuickScores, Basketball - Adult Game
TRANSP:OPAQUE
BEGIN:VALARM
TRIGGER:-PT2H
ACTION:DISPLAY
DESCRIPTION:Dawgs vs. Nacho LiBros
END:VALARM
END:VEVENT
BEGIN:VEVENT
UID:smithfieldrecreation-74046164-20260430T190000@quickscores.com
DTSTAMP:20260425T170200Z
DTSTART;TZID=America/Denver:20260430T190000
DURATION:PT1H0M0S
SUMMARY:Nacho LiBros vs. Pistoleros
DESCRIPTION:26 Spring Men's League (thurs) - Smithfield Recreation
LOCATION:Bobcat Gym
CATEGORIES:QuickScores, Basketball - Adult Game
TRANSP:OPAQUE
BEGIN:VALARM
TRIGGER:-PT2H
ACTION:DISPLAY
DESCRIPTION:Nacho LiBros vs. Pistoleros
END:VALARM
END:VEVENT
BEGIN:VEVENT
UID:smithfieldrecreation-74046168-20260507T190000@quickscores.com
DTSTAMP:20260425T170200Z
DTSTART;TZID=America/Denver:20260507T190000
DURATION:PT1H0M0S
SUMMARY:Nacho LiBros vs. Midlife Crisis
DESCRIPTION:26 Spring Men's League (thurs) - Smithfield Recreation
LOCATION:Bobcat Gym
CATEGORIES:QuickScores, Basketball - Adult Game
TRANSP:OPAQUE
BEGIN:VALARM
TRIGGER:-PT2H
ACTION:DISPLAY
DESCRIPTION:Nacho LiBros vs. Midlife Crisis
END:VALARM
END:VEVENT
BEGIN:VEVENT
UID:smithfieldrecreation-74046173-20260514T190000@quickscores.com
DTSTAMP:20260425T170200Z
DTSTART;TZID=America/Denver:20260514T190000
DURATION:PT1H0M0S
SUMMARY:Nacho LiBros vs. Carats on the Court
DESCRIPTION:26 Spring Men's League (thurs) - Smithfield Recreation
LOCATION:Bobcat Gym
CATEGORIES:QuickScores, Basketball - Adult Game
TRANSP:OPAQUE
BEGIN:VALARM
TRIGGER:-PT2H
ACTION:DISPLAY
DESCRIPTION:Nacho LiBros vs. Carats on the Court
END:VALARM
END:VEVENT
BEGIN:VEVENT
UID:smithfieldrecreation-74046178-20260521T200000@quickscores.com
DTSTAMP:20260425T170200Z
DTSTART;TZID=America/Denver:20260521T200000
DURATION:PT1H0M0S
SUMMARY:Nacho LiBros vs. 67ers
DESCRIPTION:26 Spring Men's League (thurs) - Smithfield Recreation
LOCATION:Bobcat Gym
CATEGORIES:QuickScores, Basketball - Adult Game
TRANSP:OPAQUE
BEGIN:VALARM
TRIGGER:-PT2H
ACTION:DISPLAY
DESCRIPTION:Nacho LiBros vs. 67ers
END:VALARM
END:VEVENT
END:VCALENDAR
