BEGIN:VCALENDAR
VERSION:2.0
PRODID:-//QuickScores.com//BQ Dynamic iCal Creator//EN
METHOD:PUBLISH
X-WR-CALNAME:Bucks - Christensen - 2nd Grade Boys - Winter 2026
X-WR-CALDESC:QuickScores game calendar
X-PUBLISHED-TTL:PT24H
REFRESH-INTERVAL;VALUE=DURATION:PT24H
CALSCALE:GREGORIAN
BEGIN:VTIMEZONE
TZID:America/Denver
X-LIC-LOCATION:America/Denver
BEGIN:DAYLIGHT
TZNAME:MDT
TZOFFSETFROM:-0700
TZOFFSETTO:-0600
DTSTART:19700308T020000
RRULE:FREQ=YEARLY;BYMONTH=3;BYDAY=2SU
END:DAYLIGHT
BEGIN:STANDARD
TZNAME:MST
TZOFFSETFROM:-0600
TZOFFSETTO:-0700
DTSTART:19701101T020000
RRULE:FREQ=YEARLY;BYMONTH=11;BYDAY=1SU
END:STANDARD
END:VTIMEZONE
BEGIN:VEVENT
UID:smithfieldrecreation-72208485-20260103T110000@quickscores.com
DTSTAMP:20260423T051900Z
DTSTART;TZID=America/Denver:20260103T110000
DURATION:PT1H0M0S
SUMMARY:Bucks - Christensen vs. Kings - Anderson
DESCRIPTION:2nd Grade Boys - Smithfield Recreation
LOCATION:Youth Center
CATEGORIES:QuickScores, Basketball - Youth Game
TRANSP:OPAQUE
BEGIN:VALARM
TRIGGER:-PT2H
ACTION:DISPLAY
DESCRIPTION:Bucks - Christensen vs. Kings - Anderson
END:VALARM
END:VEVENT
BEGIN:VEVENT
UID:smithfieldrecreation-72208489-20260110T150000@quickscores.com
DTSTAMP:20260423T051900Z
DTSTART;TZID=America/Denver:20260110T150000
DURATION:PT1H0M0S
SUMMARY:Bucks - Christensen vs. Knicks - Holley
DESCRIPTION:2nd Grade Boys - Smithfield Recreation
LOCATION:Youth Center
CATEGORIES:QuickScores, Basketball - Youth Game
TRANSP:OPAQUE
BEGIN:VALARM
TRIGGER:-PT2H
ACTION:DISPLAY
DESCRIPTION:Bucks - Christensen vs. Knicks - Holley
END:VALARM
END:VEVENT
BEGIN:VEVENT
UID:smithfieldrecreation-72208493-20260117T090000@quickscores.com
DTSTAMP:20260423T051900Z
DTSTART;TZID=America/Denver:20260117T090000
DURATION:PT1H0M0S
SUMMARY:Bulls - Meacham vs. Bucks - Christensen
DESCRIPTION:2nd Grade Boys - Smithfield Recreation
LOCATION:Youth Center
CATEGORIES:QuickScores, Basketball - Youth Game
TRANSP:OPAQUE
BEGIN:VALARM
TRIGGER:-PT2H
ACTION:DISPLAY
DESCRIPTION:Bulls - Meacham vs. Bucks - Christensen
END:VALARM
END:VEVENT
BEGIN:VEVENT
UID:smithfieldrecreation-72208497-20260124T130000@quickscores.com
DTSTAMP:20260423T051900Z
DTSTART;TZID=America/Denver:20260124T130000
DURATION:PT1H0M0S
SUMMARY:Bucks - Christensen vs. Lakers - Nielsen
DESCRIPTION:2nd Grade Boys - Smithfield Recreation
LOCATION:Youth Center
CATEGORIES:QuickScores, Basketball - Youth Game
TRANSP:OPAQUE
BEGIN:VALARM
TRIGGER:-PT2H
ACTION:DISPLAY
DESCRIPTION:Bucks - Christensen vs. Lakers - Nielsen
END:VALARM
END:VEVENT
BEGIN:VEVENT
UID:smithfieldrecreation-72208501-20260131T100000@quickscores.com
DTSTAMP:20260423T051900Z
DTSTART;TZID=America/Denver:20260131T100000
DURATION:PT1H0M0S
SUMMARY:Suns - Day vs. Bucks - Christensen
DESCRIPTION:2nd Grade Boys - Smithfield Recreation
LOCATION:Youth Center
CATEGORIES:QuickScores, Basketball - Youth Game
TRANSP:OPAQUE
BEGIN:VALARM
TRIGGER:-PT2H
ACTION:DISPLAY
DESCRIPTION:Suns - Day vs. Bucks - Christensen
END:VALARM
END:VEVENT
BEGIN:VEVENT
UID:smithfieldrecreation-72208505-20260207T140000@quickscores.com
DTSTAMP:20260423T051900Z
DTSTART;TZID=America/Denver:20260207T140000
DURATION:PT1H0M0S
SUMMARY:Bucks - Christensen vs. Cavs - Rhoten
DESCRIPTION:2nd Grade Boys - Smithfield Recreation
LOCATION:Youth Center
CATEGORIES:QuickScores, Basketball - Youth Game
TRANSP:OPAQUE
BEGIN:VALARM
TRIGGER:-PT2H
ACTION:DISPLAY
DESCRIPTION:Bucks - Christensen vs. Cavs - Rhoten
END:VALARM
END:VEVENT
BEGIN:VEVENT
UID:smithfieldrecreation-72208513-20260221T120000@quickscores.com
DTSTAMP:20260423T051900Z
DTSTART;TZID=America/Denver:20260221T120000
DURATION:PT1H0M0S
SUMMARY:Kings - Anderson vs. Bucks - Christensen
DESCRIPTION:2nd Grade Boys - Smithfield Recreation
LOCATION:Youth Center
CATEGORIES:QuickScores, Basketball - Youth Game
TRANSP:OPAQUE
BEGIN:VALARM
TRIGGER:-PT2H
ACTION:DISPLAY
DESCRIPTION:Kings - Anderson vs. Bucks - Christensen
END:VALARM
END:VEVENT
BEGIN:VEVENT
UID:smithfieldrecreation-72208517-20260228T080000@quickscores.com
DTSTAMP:20260423T051900Z
DTSTART;TZID=America/Denver:20260228T080000
DURATION:PT1H0M0S
SUMMARY:Knicks - Holley vs. Bucks - Christensen
DESCRIPTION:2nd Grade Boys - Smithfield Recreation
LOCATION:Youth Center
CATEGORIES:QuickScores, Basketball - Youth Game
TRANSP:OPAQUE
BEGIN:VALARM
TRIGGER:-PT2H
ACTION:DISPLAY
DESCRIPTION:Knicks - Holley vs. Bucks - Christensen
END:VALARM
END:VEVENT
END:VCALENDAR
