BEGIN:VCALENDAR
VERSION:2.0
PRODID:-//QuickScores.com//BQ Dynamic iCal Creator//EN
METHOD:PUBLISH
X-WR-CALNAME:Wright Angle - Tuesday Men&#039;s League - Fall 2025
X-WR-CALDESC:QuickScores game calendar
X-PUBLISHED-TTL:PT24H
REFRESH-INTERVAL;VALUE=DURATION:PT24H
CALSCALE:GREGORIAN
BEGIN:VTIMEZONE
TZID:America/Denver
X-LIC-LOCATION:America/Denver
BEGIN:DAYLIGHT
TZNAME:MDT
TZOFFSETFROM:-0700
TZOFFSETTO:-0600
DTSTART:19700308T020000
RRULE:FREQ=YEARLY;BYMONTH=3;BYDAY=2SU
END:DAYLIGHT
BEGIN:STANDARD
TZNAME:MST
TZOFFSETFROM:-0600
TZOFFSETTO:-0700
DTSTART:19701101T020000
RRULE:FREQ=YEARLY;BYMONTH=11;BYDAY=1SU
END:STANDARD
END:VTIMEZONE
BEGIN:VEVENT
UID:smithfieldrecreation-69968600-20250805T184500@quickscores.com
DTSTAMP:20260424T222500Z
DTSTART;TZID=America/Denver:20250805T184500
DURATION:PT0H45M0S
SUMMARY:Empire Strikes Out vs. Wright Angle
DESCRIPTION:Tuesday Men's League - Smithfield Recreation
LOCATION:East Softball Field
CATEGORIES:QuickScores, Softball - Adult Game
TRANSP:OPAQUE
BEGIN:VALARM
TRIGGER:-PT2H
ACTION:DISPLAY
DESCRIPTION:Empire Strikes Out vs. Wright Angle
END:VALARM
END:VEVENT
BEGIN:VEVENT
UID:smithfieldrecreation-69968601-20250805T193000@quickscores.com
DTSTAMP:20260424T222500Z
DTSTART;TZID=America/Denver:20250805T193000
DURATION:PT0H45M0S
SUMMARY:Scared Hitless vs. Wright Angle
DESCRIPTION:Tuesday Men's League - Smithfield Recreation
LOCATION:East Softball Field
CATEGORIES:QuickScores, Softball - Adult Game
TRANSP:OPAQUE
BEGIN:VALARM
TRIGGER:-PT2H
ACTION:DISPLAY
DESCRIPTION:Scared Hitless vs. Wright Angle
END:VALARM
END:VEVENT
BEGIN:VEVENT
UID:smithfieldrecreation-69968612-20250812T201500@quickscores.com
DTSTAMP:20260424T222500Z
DTSTART;TZID=America/Denver:20250812T201500
DURATION:PT0H45M0S
SUMMARY:Wright Angle vs. Bomb Squad
DESCRIPTION:Tuesday Men's League - Smithfield Recreation
LOCATION:West Softball Field
CATEGORIES:QuickScores, Softball - Adult Game
TRANSP:OPAQUE
BEGIN:VALARM
TRIGGER:-PT2H
ACTION:DISPLAY
DESCRIPTION:Wright Angle vs. Bomb Squad
END:VALARM
END:VEVENT
BEGIN:VEVENT
UID:smithfieldrecreation-69968611-20250812T210000@quickscores.com
DTSTAMP:20260424T222500Z
DTSTART;TZID=America/Denver:20250812T210000
DURATION:PT0H45M0S
SUMMARY:Wright Angle vs. Megalodon
DESCRIPTION:Tuesday Men's League - Smithfield Recreation
LOCATION:West Softball Field
CATEGORIES:QuickScores, Softball - Adult Game
TRANSP:OPAQUE
BEGIN:VALARM
TRIGGER:-PT2H
ACTION:DISPLAY
DESCRIPTION:Wright Angle vs. Megalodon
END:VALARM
END:VEVENT
BEGIN:VEVENT
UID:smithfieldrecreation-69968626-20250819T201500@quickscores.com
DTSTAMP:20260424T222500Z
DTSTART;TZID=America/Denver:20250819T201500
DURATION:PT0H45M0S
SUMMARY:Wright Angle vs. Skeeters
DESCRIPTION:Tuesday Men's League - Smithfield Recreation
LOCATION:East Softball Field
CATEGORIES:QuickScores, Softball - Adult Game
TRANSP:OPAQUE
BEGIN:VALARM
TRIGGER:-PT2H
ACTION:DISPLAY
DESCRIPTION:Wright Angle vs. Skeeters
END:VALARM
END:VEVENT
BEGIN:VEVENT
UID:smithfieldrecreation-69968627-20250819T210000@quickscores.com
DTSTAMP:20260424T222500Z
DTSTART;TZID=America/Denver:20250819T210000
DURATION:PT0H45M0S
SUMMARY:Base Invaders vs. Wright Angle
DESCRIPTION:Tuesday Men's League - Smithfield Recreation
LOCATION:East Softball Field
CATEGORIES:QuickScores, Softball - Adult Game
TRANSP:OPAQUE
BEGIN:VALARM
TRIGGER:-PT2H
ACTION:DISPLAY
DESCRIPTION:Base Invaders vs. Wright Angle
END:VALARM
END:VEVENT
BEGIN:VEVENT
UID:smithfieldrecreation-69968645-20250902T201500@quickscores.com
DTSTAMP:20260424T222500Z
DTSTART;TZID=America/Denver:20250902T201500
DURATION:PT0H45M0S
SUMMARY:J Rock Concrete vs. Wright Angle
DESCRIPTION:Tuesday Men's League - Smithfield Recreation
LOCATION:West Softball Field
CATEGORIES:QuickScores, Softball - Adult Game
TRANSP:OPAQUE
BEGIN:VALARM
TRIGGER:-PT2H
ACTION:DISPLAY
DESCRIPTION:J Rock Concrete vs. Wright Angle
END:VALARM
END:VEVENT
BEGIN:VEVENT
UID:smithfieldrecreation-69968644-20250902T210000@quickscores.com
DTSTAMP:20260424T222500Z
DTSTART;TZID=America/Denver:20250902T210000
DURATION:PT0H45M0S
SUMMARY:Wright Angle vs. JV squad
DESCRIPTION:Tuesday Men's League - Smithfield Recreation
LOCATION:West Softball Field
CATEGORIES:QuickScores, Softball - Adult Game
TRANSP:OPAQUE
BEGIN:VALARM
TRIGGER:-PT2H
ACTION:DISPLAY
DESCRIPTION:Wright Angle vs. JV squad
END:VALARM
END:VEVENT
BEGIN:VEVENT
UID:smithfieldrecreation-69968655-20250909T210000@quickscores.com
DTSTAMP:20260424T222500Z
DTSTART;TZID=America/Denver:20250909T210000
DURATION:PT0H45M0S
SUMMARY:Wright Angle vs. Empire Strikes Out
DESCRIPTION:Tuesday Men's League - Smithfield Recreation
LOCATION:West Softball Field
CATEGORIES:QuickScores, Softball - Adult Game
TRANSP:OPAQUE
BEGIN:VALARM
TRIGGER:-PT2H
ACTION:DISPLAY
DESCRIPTION:Wright Angle vs. Empire Strikes Out
END:VALARM
END:VEVENT
BEGIN:VEVENT
UID:smithfieldrecreation-69968656-20250909T214500@quickscores.com
DTSTAMP:20260424T222500Z
DTSTART;TZID=America/Denver:20250909T214500
DURATION:PT0H45M0S
SUMMARY:Wright Angle vs. Scared Hitless
DESCRIPTION:Tuesday Men's League - Smithfield Recreation
LOCATION:East Softball Field
CATEGORIES:QuickScores, Softball - Adult Game
TRANSP:OPAQUE
BEGIN:VALARM
TRIGGER:-PT2H
ACTION:DISPLAY
DESCRIPTION:Wright Angle vs. Scared Hitless
END:VALARM
END:VEVENT
BEGIN:VEVENT
UID:smithfieldrecreation-69968628-20250916T180000@quickscores.com
DTSTAMP:20260424T222500Z
DTSTART;TZID=America/Denver:20250916T180000
DURATION:PT0H45M0S
SUMMARY:Grab N Go Tools vs. Wright Angle
DESCRIPTION:Tuesday Men's League - Smithfield Recreation
LOCATION:East Softball Field
CATEGORIES:QuickScores, Softball - Adult Game
TRANSP:OPAQUE
BEGIN:VALARM
TRIGGER:-PT2H
ACTION:DISPLAY
DESCRIPTION:Grab N Go Tools vs. Wright Angle
END:VALARM
END:VEVENT
BEGIN:VEVENT
UID:smithfieldrecreation-69968629-20250916T184500@quickscores.com
DTSTAMP:20260424T222500Z
DTSTART;TZID=America/Denver:20250916T184500
DURATION:PT0H45M0S
SUMMARY:Schreiber Foods vs. Wright Angle
DESCRIPTION:Tuesday Men's League - Smithfield Recreation
LOCATION:East Softball Field
CATEGORIES:QuickScores, Softball - Adult Game
TRANSP:OPAQUE
BEGIN:VALARM
TRIGGER:-PT2H
ACTION:DISPLAY
DESCRIPTION:Schreiber Foods vs. Wright Angle
END:VALARM
END:VEVENT
BEGIN:VEVENT
UID:smithfieldrecreation-71068119-20250923T180000@quickscores.com
DTSTAMP:20260424T222500Z
DTSTART;TZID=America/Denver:20250923T180000
DURATION:PT0H45M0S
SUMMARY:[4] JV squad vs. [5] Wright Angle
DESCRIPTION:Tuesday Men's League - Smithfield Recreation
LOCATION:East Softball Field
CATEGORIES:QuickScores, Softball - Adult Game
TRANSP:OPAQUE
BEGIN:VALARM
TRIGGER:-PT2H
ACTION:DISPLAY
DESCRIPTION:[4] JV squad vs. [5] Wright Angle
END:VALARM
END:VEVENT
END:VCALENDAR
