BEGIN:VCALENDAR
VERSION:2.0
PRODID:-//QuickScores.com//BQ Dynamic iCal Creator//EN
METHOD:PUBLISH
X-WR-CALNAME:Megalodon - Tuesday Men&#039;s League - Fall 2025
X-WR-CALDESC:QuickScores game calendar
X-PUBLISHED-TTL:PT24H
REFRESH-INTERVAL;VALUE=DURATION:PT24H
CALSCALE:GREGORIAN
BEGIN:VTIMEZONE
TZID:America/Denver
X-LIC-LOCATION:America/Denver
BEGIN:DAYLIGHT
TZNAME:MDT
TZOFFSETFROM:-0700
TZOFFSETTO:-0600
DTSTART:19700308T020000
RRULE:FREQ=YEARLY;BYMONTH=3;BYDAY=2SU
END:DAYLIGHT
BEGIN:STANDARD
TZNAME:MST
TZOFFSETFROM:-0600
TZOFFSETTO:-0700
DTSTART:19701101T020000
RRULE:FREQ=YEARLY;BYMONTH=11;BYDAY=1SU
END:STANDARD
END:VTIMEZONE
BEGIN:VEVENT
UID:smithfieldrecreation-69968597-20250805T180000@quickscores.com
DTSTAMP:20260423T133700Z
DTSTART;TZID=America/Denver:20250805T180000
DURATION:PT0H45M0S
SUMMARY:JV squad vs. Megalodon
DESCRIPTION:Tuesday Men's League - Smithfield Recreation
LOCATION:West Softball Field
CATEGORIES:QuickScores, Softball - Adult Game
TRANSP:OPAQUE
BEGIN:VALARM
TRIGGER:-PT2H
ACTION:DISPLAY
DESCRIPTION:JV squad vs. Megalodon
END:VALARM
END:VEVENT
BEGIN:VEVENT
UID:smithfieldrecreation-69968598-20250805T184500@quickscores.com
DTSTAMP:20260423T133700Z
DTSTART;TZID=America/Denver:20250805T184500
DURATION:PT0H45M0S
SUMMARY:J Rock Concrete vs. Megalodon
DESCRIPTION:Tuesday Men's League - Smithfield Recreation
LOCATION:West Softball Field
CATEGORIES:QuickScores, Softball - Adult Game
TRANSP:OPAQUE
BEGIN:VALARM
TRIGGER:-PT2H
ACTION:DISPLAY
DESCRIPTION:J Rock Concrete vs. Megalodon
END:VALARM
END:VEVENT
BEGIN:VEVENT
UID:smithfieldrecreation-69968611-20250812T210000@quickscores.com
DTSTAMP:20260423T133700Z
DTSTART;TZID=America/Denver:20250812T210000
DURATION:PT0H45M0S
SUMMARY:Wright Angle vs. Megalodon
DESCRIPTION:Tuesday Men's League - Smithfield Recreation
LOCATION:West Softball Field
CATEGORIES:QuickScores, Softball - Adult Game
TRANSP:OPAQUE
BEGIN:VALARM
TRIGGER:-PT2H
ACTION:DISPLAY
DESCRIPTION:Wright Angle vs. Megalodon
END:VALARM
END:VEVENT
BEGIN:VEVENT
UID:smithfieldrecreation-69968610-20250812T214500@quickscores.com
DTSTAMP:20260423T133700Z
DTSTART;TZID=America/Denver:20250812T214500
DURATION:PT0H45M0S
SUMMARY:Schreiber Foods vs. Megalodon
DESCRIPTION:Tuesday Men's League - Smithfield Recreation
LOCATION:East Softball Field
CATEGORIES:QuickScores, Softball - Adult Game
TRANSP:OPAQUE
BEGIN:VALARM
TRIGGER:-PT2H
ACTION:DISPLAY
DESCRIPTION:Schreiber Foods vs. Megalodon
END:VALARM
END:VEVENT
BEGIN:VEVENT
UID:smithfieldrecreation-69968618-20250819T210000@quickscores.com
DTSTAMP:20260423T133700Z
DTSTART;TZID=America/Denver:20250819T210000
DURATION:PT0H45M0S
SUMMARY:Megalodon vs. Grab N Go Tools
DESCRIPTION:Tuesday Men's League - Smithfield Recreation
LOCATION:West Softball Field
CATEGORIES:QuickScores, Softball - Adult Game
TRANSP:OPAQUE
BEGIN:VALARM
TRIGGER:-PT2H
ACTION:DISPLAY
DESCRIPTION:Megalodon vs. Grab N Go Tools
END:VALARM
END:VEVENT
BEGIN:VEVENT
UID:smithfieldrecreation-69968617-20250819T214500@quickscores.com
DTSTAMP:20260423T133700Z
DTSTART;TZID=America/Denver:20250819T214500
DURATION:PT0H45M0S
SUMMARY:Megalodon vs. Base Invaders
DESCRIPTION:Tuesday Men's League - Smithfield Recreation
LOCATION:East Softball Field
CATEGORIES:QuickScores, Softball - Adult Game
TRANSP:OPAQUE
BEGIN:VALARM
TRIGGER:-PT2H
ACTION:DISPLAY
DESCRIPTION:Megalodon vs. Base Invaders
END:VALARM
END:VEVENT
BEGIN:VEVENT
UID:smithfieldrecreation-69968649-20250902T180000@quickscores.com
DTSTAMP:20260423T133700Z
DTSTART;TZID=America/Denver:20250902T180000
DURATION:PT0H45M0S
SUMMARY:Bomb Squad vs. Megalodon
DESCRIPTION:Tuesday Men's League - Smithfield Recreation
LOCATION:East Softball Field
CATEGORIES:QuickScores, Softball - Adult Game
TRANSP:OPAQUE
BEGIN:VALARM
TRIGGER:-PT2H
ACTION:DISPLAY
DESCRIPTION:Bomb Squad vs. Megalodon
END:VALARM
END:VEVENT
BEGIN:VEVENT
UID:smithfieldrecreation-69968639-20250902T184500@quickscores.com
DTSTAMP:20260423T133700Z
DTSTART;TZID=America/Denver:20250902T184500
DURATION:PT0H45M0S
SUMMARY:Megalodon vs. Empire Strikes Out
DESCRIPTION:Tuesday Men's League - Smithfield Recreation
LOCATION:East Softball Field
CATEGORIES:QuickScores, Softball - Adult Game
TRANSP:OPAQUE
BEGIN:VALARM
TRIGGER:-PT2H
ACTION:DISPLAY
DESCRIPTION:Megalodon vs. Empire Strikes Out
END:VALARM
END:VEVENT
BEGIN:VEVENT
UID:smithfieldrecreation-69968652-20250909T184500@quickscores.com
DTSTAMP:20260423T133700Z
DTSTART;TZID=America/Denver:20250909T184500
DURATION:PT0H45M0S
SUMMARY:Megalodon vs. JV squad
DESCRIPTION:Tuesday Men's League - Smithfield Recreation
LOCATION:East Softball Field
CATEGORIES:QuickScores, Softball - Adult Game
TRANSP:OPAQUE
BEGIN:VALARM
TRIGGER:-PT2H
ACTION:DISPLAY
DESCRIPTION:Megalodon vs. JV squad
END:VALARM
END:VEVENT
BEGIN:VEVENT
UID:smithfieldrecreation-69968653-20250909T193000@quickscores.com
DTSTAMP:20260423T133700Z
DTSTART;TZID=America/Denver:20250909T193000
DURATION:PT0H45M0S
SUMMARY:Megalodon vs. J Rock Concrete
DESCRIPTION:Tuesday Men's League - Smithfield Recreation
LOCATION:East Softball Field
CATEGORIES:QuickScores, Softball - Adult Game
TRANSP:OPAQUE
BEGIN:VALARM
TRIGGER:-PT2H
ACTION:DISPLAY
DESCRIPTION:Megalodon vs. J Rock Concrete
END:VALARM
END:VEVENT
BEGIN:VEVENT
UID:smithfieldrecreation-69968631-20250916T201500@quickscores.com
DTSTAMP:20260423T133700Z
DTSTART;TZID=America/Denver:20250916T201500
DURATION:PT0H45M0S
SUMMARY:Megalodon vs. Scared Hitless
DESCRIPTION:Tuesday Men's League - Smithfield Recreation
LOCATION:East Softball Field
CATEGORIES:QuickScores, Softball - Adult Game
TRANSP:OPAQUE
BEGIN:VALARM
TRIGGER:-PT2H
ACTION:DISPLAY
DESCRIPTION:Megalodon vs. Scared Hitless
END:VALARM
END:VEVENT
BEGIN:VEVENT
UID:smithfieldrecreation-69968632-20250916T210000@quickscores.com
DTSTAMP:20260423T133700Z
DTSTART;TZID=America/Denver:20250916T210000
DURATION:PT0H45M0S
SUMMARY:Skeeters vs. Megalodon
DESCRIPTION:Tuesday Men's League - Smithfield Recreation
LOCATION:East Softball Field
CATEGORIES:QuickScores, Softball - Adult Game
TRANSP:OPAQUE
BEGIN:VALARM
TRIGGER:-PT2H
ACTION:DISPLAY
DESCRIPTION:Skeeters vs. Megalodon
END:VALARM
END:VEVENT
BEGIN:VEVENT
UID:smithfieldrecreation-71068118-20250923T184500@quickscores.com
DTSTAMP:20260423T133700Z
DTSTART;TZID=America/Denver:20250923T184500
DURATION:PT0H45M0S
SUMMARY:[1] Megalodon vs. [8] Schreiber Foods
DESCRIPTION:Tuesday Men's League - Smithfield Recreation
LOCATION:West Softball Field
CATEGORIES:QuickScores, Softball - Adult Game
TRANSP:OPAQUE
BEGIN:VALARM
TRIGGER:-PT2H
ACTION:DISPLAY
DESCRIPTION:[1] Megalodon vs. [8] Schreiber Foods
END:VALARM
END:VEVENT
BEGIN:VEVENT
UID:smithfieldrecreation-71068122-20250923T193000@quickscores.com
DTSTAMP:20260423T133700Z
DTSTART;TZID=America/Denver:20250923T193000
DURATION:PT0H45M0S
SUMMARY:[1] Megalodon vs. [4] JV squad
DESCRIPTION:Tuesday Men's League - Smithfield Recreation
LOCATION:West Softball Field
CATEGORIES:QuickScores, Softball - Adult Game
TRANSP:OPAQUE
BEGIN:VALARM
TRIGGER:-PT2H
ACTION:DISPLAY
DESCRIPTION:[1] Megalodon vs. [4] JV squad
END:VALARM
END:VEVENT
BEGIN:VEVENT
UID:smithfieldrecreation-71068124-20250923T201500@quickscores.com
DTSTAMP:20260423T133700Z
DTSTART;TZID=America/Denver:20250923T201500
DURATION:PT0H45M0S
SUMMARY:[1] Megalodon vs. [3] Skeeters
DESCRIPTION:Tuesday Men's League - Smithfield Recreation
LOCATION:East Softball Field
CATEGORIES:QuickScores, Softball - Adult Game
TRANSP:OPAQUE
BEGIN:VALARM
TRIGGER:-PT2H
ACTION:DISPLAY
DESCRIPTION:[1] Megalodon vs. [3] Skeeters
END:VALARM
END:VEVENT
END:VCALENDAR
