BEGIN:VCALENDAR
VERSION:2.0
PRODID:-//QuickScores.com//BQ Dynamic iCal Creator//EN
METHOD:PUBLISH
X-WR-CALNAME:Empire Strikes Out - Tuesday Men&#039;s League - Fall 2025
X-WR-CALDESC:QuickScores game calendar
X-PUBLISHED-TTL:PT24H
REFRESH-INTERVAL;VALUE=DURATION:PT24H
CALSCALE:GREGORIAN
BEGIN:VTIMEZONE
TZID:America/Denver
X-LIC-LOCATION:America/Denver
BEGIN:DAYLIGHT
TZNAME:MDT
TZOFFSETFROM:-0700
TZOFFSETTO:-0600
DTSTART:19700308T020000
RRULE:FREQ=YEARLY;BYMONTH=3;BYDAY=2SU
END:DAYLIGHT
BEGIN:STANDARD
TZNAME:MST
TZOFFSETFROM:-0600
TZOFFSETTO:-0700
DTSTART:19701101T020000
RRULE:FREQ=YEARLY;BYMONTH=11;BYDAY=1SU
END:STANDARD
END:VTIMEZONE
BEGIN:VEVENT
UID:smithfieldrecreation-69968599-20250805T180000@quickscores.com
DTSTAMP:20260424T160600Z
DTSTART;TZID=America/Denver:20250805T180000
DURATION:PT0H45M0S
SUMMARY:J Rock Concrete vs. Empire Strikes Out
DESCRIPTION:Tuesday Men's League - Smithfield Recreation
LOCATION:East Softball Field
CATEGORIES:QuickScores, Softball - Adult Game
TRANSP:OPAQUE
BEGIN:VALARM
TRIGGER:-PT2H
ACTION:DISPLAY
DESCRIPTION:J Rock Concrete vs. Empire Strikes Out
END:VALARM
END:VEVENT
BEGIN:VEVENT
UID:smithfieldrecreation-69968600-20250805T184500@quickscores.com
DTSTAMP:20260424T160600Z
DTSTART;TZID=America/Denver:20250805T184500
DURATION:PT0H45M0S
SUMMARY:Empire Strikes Out vs. Wright Angle
DESCRIPTION:Tuesday Men's League - Smithfield Recreation
LOCATION:East Softball Field
CATEGORIES:QuickScores, Softball - Adult Game
TRANSP:OPAQUE
BEGIN:VALARM
TRIGGER:-PT2H
ACTION:DISPLAY
DESCRIPTION:Empire Strikes Out vs. Wright Angle
END:VALARM
END:VEVENT
BEGIN:VEVENT
UID:smithfieldrecreation-69968607-20250812T193000@quickscores.com
DTSTAMP:20260424T160600Z
DTSTART;TZID=America/Denver:20250812T193000
DURATION:PT0H45M0S
SUMMARY:Empire Strikes Out vs. Grab N Go Tools
DESCRIPTION:Tuesday Men's League - Smithfield Recreation
LOCATION:East Softball Field
CATEGORIES:QuickScores, Softball - Adult Game
TRANSP:OPAQUE
BEGIN:VALARM
TRIGGER:-PT2H
ACTION:DISPLAY
DESCRIPTION:Empire Strikes Out vs. Grab N Go Tools
END:VALARM
END:VEVENT
BEGIN:VEVENT
UID:smithfieldrecreation-69968608-20250812T201500@quickscores.com
DTSTAMP:20260424T160600Z
DTSTART;TZID=America/Denver:20250812T201500
DURATION:PT0H45M0S
SUMMARY:JV squad vs. Empire Strikes Out
DESCRIPTION:Tuesday Men's League - Smithfield Recreation
LOCATION:East Softball Field
CATEGORIES:QuickScores, Softball - Adult Game
TRANSP:OPAQUE
BEGIN:VALARM
TRIGGER:-PT2H
ACTION:DISPLAY
DESCRIPTION:JV squad vs. Empire Strikes Out
END:VALARM
END:VEVENT
BEGIN:VEVENT
UID:smithfieldrecreation-69968624-20250819T184500@quickscores.com
DTSTAMP:20260424T160600Z
DTSTART;TZID=America/Denver:20250819T184500
DURATION:PT0H45M0S
SUMMARY:Empire Strikes Out vs. Schreiber Foods
DESCRIPTION:Tuesday Men's League - Smithfield Recreation
LOCATION:East Softball Field
CATEGORIES:QuickScores, Softball - Adult Game
TRANSP:OPAQUE
BEGIN:VALARM
TRIGGER:-PT2H
ACTION:DISPLAY
DESCRIPTION:Empire Strikes Out vs. Schreiber Foods
END:VALARM
END:VEVENT
BEGIN:VEVENT
UID:smithfieldrecreation-69968625-20250819T193000@quickscores.com
DTSTAMP:20260424T160600Z
DTSTART;TZID=America/Denver:20250819T193000
DURATION:PT0H45M0S
SUMMARY:Skeeters vs. Empire Strikes Out
DESCRIPTION:Tuesday Men's League - Smithfield Recreation
LOCATION:East Softball Field
CATEGORIES:QuickScores, Softball - Adult Game
TRANSP:OPAQUE
BEGIN:VALARM
TRIGGER:-PT2H
ACTION:DISPLAY
DESCRIPTION:Skeeters vs. Empire Strikes Out
END:VALARM
END:VEVENT
BEGIN:VEVENT
UID:smithfieldrecreation-69968639-20250902T184500@quickscores.com
DTSTAMP:20260424T160600Z
DTSTART;TZID=America/Denver:20250902T184500
DURATION:PT0H45M0S
SUMMARY:Megalodon vs. Empire Strikes Out
DESCRIPTION:Tuesday Men's League - Smithfield Recreation
LOCATION:East Softball Field
CATEGORIES:QuickScores, Softball - Adult Game
TRANSP:OPAQUE
BEGIN:VALARM
TRIGGER:-PT2H
ACTION:DISPLAY
DESCRIPTION:Megalodon vs. Empire Strikes Out
END:VALARM
END:VEVENT
BEGIN:VEVENT
UID:smithfieldrecreation-69968640-20250902T193000@quickscores.com
DTSTAMP:20260424T160600Z
DTSTART;TZID=America/Denver:20250902T193000
DURATION:PT0H45M0S
SUMMARY:Empire Strikes Out vs. Scared Hitless
DESCRIPTION:Tuesday Men's League - Smithfield Recreation
LOCATION:West Softball Field
CATEGORIES:QuickScores, Softball - Adult Game
TRANSP:OPAQUE
BEGIN:VALARM
TRIGGER:-PT2H
ACTION:DISPLAY
DESCRIPTION:Empire Strikes Out vs. Scared Hitless
END:VALARM
END:VEVENT
BEGIN:VEVENT
UID:smithfieldrecreation-69968654-20250909T201500@quickscores.com
DTSTAMP:20260424T160600Z
DTSTART;TZID=America/Denver:20250909T201500
DURATION:PT0H45M0S
SUMMARY:Empire Strikes Out vs. J Rock Concrete
DESCRIPTION:Tuesday Men's League - Smithfield Recreation
LOCATION:East Softball Field
CATEGORIES:QuickScores, Softball - Adult Game
TRANSP:OPAQUE
BEGIN:VALARM
TRIGGER:-PT2H
ACTION:DISPLAY
DESCRIPTION:Empire Strikes Out vs. J Rock Concrete
END:VALARM
END:VEVENT
BEGIN:VEVENT
UID:smithfieldrecreation-69968655-20250909T210000@quickscores.com
DTSTAMP:20260424T160600Z
DTSTART;TZID=America/Denver:20250909T210000
DURATION:PT0H45M0S
SUMMARY:Wright Angle vs. Empire Strikes Out
DESCRIPTION:Tuesday Men's League - Smithfield Recreation
LOCATION:West Softball Field
CATEGORIES:QuickScores, Softball - Adult Game
TRANSP:OPAQUE
BEGIN:VALARM
TRIGGER:-PT2H
ACTION:DISPLAY
DESCRIPTION:Wright Angle vs. Empire Strikes Out
END:VALARM
END:VEVENT
BEGIN:VEVENT
UID:smithfieldrecreation-69968637-20250916T180000@quickscores.com
DTSTAMP:20260424T160600Z
DTSTART;TZID=America/Denver:20250916T180000
DURATION:PT0H45M0S
SUMMARY:Base Invaders vs. Empire Strikes Out
DESCRIPTION:Tuesday Men's League - Smithfield Recreation
LOCATION:West Softball Field
CATEGORIES:QuickScores, Softball - Adult Game
TRANSP:OPAQUE
BEGIN:VALARM
TRIGGER:-PT2H
ACTION:DISPLAY
DESCRIPTION:Base Invaders vs. Empire Strikes Out
END:VALARM
END:VEVENT
BEGIN:VEVENT
UID:smithfieldrecreation-69968636-20250916T193000@quickscores.com
DTSTAMP:20260424T160600Z
DTSTART;TZID=America/Denver:20250916T193000
DURATION:PT0H45M0S
SUMMARY:Empire Strikes Out vs. Bomb Squad
DESCRIPTION:Tuesday Men's League - Smithfield Recreation
LOCATION:West Softball Field
CATEGORIES:QuickScores, Softball - Adult Game
TRANSP:OPAQUE
BEGIN:VALARM
TRIGGER:-PT2H
ACTION:DISPLAY
DESCRIPTION:Empire Strikes Out vs. Bomb Squad
END:VALARM
END:VEVENT
END:VCALENDAR
